Workbook
Name ÁREA: #REF!
Name ÁREA: #REF!
Name ÁREA_CONST: #REF!
Name ÁREA_CONST: #REF!
Name BDI: BDI!$G$14
Name CUSTO_OBRA: #REF!
Name CUSTO_OBRA: #REF!
Name CUSTO_VENDA: #REF!
Name CUSTO_VENDA: #REF!
Name DURAÇÃO: #REF!
Name DURAÇÃO: #REF!
Name ENCARGOS_HORISTA: #REF!
Name ENCARGOS_HORISTA: #REF!
Name ENCARGOS_MENSALISTA: #REF!
Name ENCARGOS_MENSALISTA: #REF!
Name OBJETO: #REF!
Name OBJETO: #REF!

Sheet PLANILHA DE CUSTOS
A1: À FAPESP Concorrência nº 90001/2025 Processo nº. 255.00001158/2024-72 | D1: PLANILHA DE CUSTOS DE OBRA
D3: OBJETO: | F3: OBRAS DE ADEQUAÇÃO PARA COBERTURA METÁLICA | I3: DATA:
D4: RAZÃO SOCIAL: | I4: Representante legal ou responsável técnico:
D5: CNPJ:
A6: Observação: itens de mesmo código e/ou discriminação devem possuir valor igual
B7: ITEM | C7: Referência (utilizada pela FAPESP) | D7: CÓDIGO (utilizado pela FAPESP) | F7: DISCRIMINAÇÃO | G7: UNIDADE | H7: QTDADE | I7: VALOR UNITÁRIO | J7: VALOR TOTAL
B8: 1 | C8: SERVIÇOS PRELIMINARES / GERAIS | J8: =J9+J18+J34+J14+J27+J32+J24 -> 0
B9: 1.1 | C9: PROJETO DETALHADO | J9: =SUM(J10:J13) -> 0
B10: 1.1.1 | C10: CDHU | D10: 01.17.031 | E10: =B10&$C$264 -> 1.1.1PÓS OBRA | F10: Projeto executivo de arquitetura em formato A1 | G10: Unidade | H10: 3 | J10: =SUM(I10*H10) -> 0
B11: 1.1.2 | C11: CDHU | D11: 01.17.111 | E11: =B11&$C$264 -> 1.1.2PÓS OBRA | F11: Projeto executivo de instalações elétricas em formato A1 | G11: Unidade | H11: 1 | J11: =SUM(I11*H11) -> 0
B12: 1.1.3 | C12: CDHU | D12: 01.17.151 | E12: =B12&$C$264 -> 1.1.3PÓS OBRA | F12: Projeto executivo de climatização em formato A1 | G12: Unidade | H12: 1 | J12: =SUM(I12*H12) -> 0
B13: 1.1.4 | C13: CDHU | D13: 01.17.071 | F13: Projeto executivo de instalações hidráulicas em formato A1 | G13: Unidade | H13: 3 | J13: =SUM(I13*H13) -> 0
B14: 1.2 | C14: EQUIPE TECNICA DE OBRAS | J14: =SUM(J15:J17) -> 0
B15: 1.2.1 | C15: SINAPI | D15: 2707 | F15: Engenheiro civil de obra pleno (horista) | G15: H | H15: 288 | J15: =SUM(I15*H15) -> 0
B16: 1.2.2 | C16: SINAPI | D16: 40818 | F16: Encarregado geral de obras (mensalista) | G16: MES | H16: 6 | J16: =SUM(I16*H16) -> 0
B17: 1.2.3 | C17: SINAPI | D17: 40944 | F17: Tecnico em seguranca do trabalho (mensalista) | G17: MES | H17: 6 | J17: =SUM(I17*H17) -> 0
B18: 1.3 | C18: CANTEIRO DE OBRA | J18: =SUM(J19:J23) -> 0
B19: 1.3.1 | C19: CDHU | D19: 02.03.120 | F19: Tapume fixo para fechamento de áreas, com portão | G19: M2 | H19: 40 | J19: =SUM(I19*H19) -> 0
B20: 1.3.2 | C20: CDHU | D20: 02.03.060 | F20: Proteção de fachada com tela de nylon | G20: M2 | H20: 40 | J20: =SUM(I20*H20) -> 0
B21: 1.3.3 | C21: CDHU | D21: 02.03.110 | F21: Tapume móvel para fechamento de áreas | G21: M2 | H21: 35.75 | J21: =SUM(I21*H21) -> 0
B22: 1.3.4 | C22: CDHU | D22: 02.03.240 | F22: Proteção de piso com tecido de aniagem e gesso | G22: M2 | H22: 750 | J22: =SUM(I22*H22) -> 0
B23: 1.3.5 | C23: CDHU | D23: 02.08.040 | F23: Placa em lona com impressão digital e requadro em metalon | G23: M2 | H23: 2 | J23: =SUM(I23*H23) -> 0
B24: 1.4 | C24: LINHA DE VIDA | J24: =SUM(J25:J26) -> 0
B25: 1.4.1 | C25: SINAPI | D25: 88315 | E25: SERRALHEIRO COM ENCARGOS COMPLEMENTARES | F25: SERRALHEIRO COM ENCARGOS COMPLEMENTARES | G25: H | H25: 170.64588 | J25: =I25*H25 -> 0
B26: 1.4.2 | C26: SINAPI | D26: 41953 | F26: CABO DE ACO GALVANIZADO, DIAMETRO 12,7 MM (1/2"), COM ALMA DE ACO CABO INDEPENDENTE 6 X 25 F | G26: KG | H26: 141.66 | J26: =I26*H26 -> 0
B27: 1.5 | C27: SERVIÇO DE IÇAMENTO DE MATERIAL (ENTULHO E MONTAGEM) | J27: =SUM(J28:J31) -> 0
B28: 1.5.1 | C28: CDHU | D28: 02.05.080 | E28: =B28&$C$44 -> 1.5.1C06 | F28: Montagem e desmontagem de andaime torre metálica com altura superior a 10 m | G28: M | H28: 500 | J28: =SUM(I28*H28) -> 0
B29: 1.5.2 | C29: CDHU | D29: 02.06.040 | E29: =B29&$C$44 -> 1.5.2C06 | F29: Locação de plataforma elevatória articulada, com altura aproximada de 20 m, capacidade de carga de 227 kg, diesel | G29: UNMES | H29: 6 | J29: =SUM(I29*H29) -> 0
B30: 1.5.3 | C30: SINAPI | D30: 36487 | E30: =B30&$C$44 -> 1.5.3C06 | F30: Guincho eletrico de coluna, capacidade 400 kg, com moto freio, motor trifasico de 1,25 cv | G30: UN | H30: 1 | J30: =SUM(I30*H30) -> 0
B31: 1.5.4 | C31: SINAPI | D31: 40981 | E31: =B31&$C$44 -> 1.5.4C06 | F31: Operador de guincho ou guincheiro (mensalista) | G31: MES | H31: 6 | J31: =SUM(I31*H31) -> 0
B32: 1.6 | C32: SPDA | J32: =SUM(J33) -> 0
B33: 1.6.1 | C33: Proprio | D33: 1 | F33: Serviço de desinstalação e reinstalação do sistema de SPDA existente, incluindo fornecimento de materiais, mão de obra especializada e toda a documentação necessária, como projeto "As Built" e laudos de testes de conformidade. | G33: UN | H33: 1 | J33: =SUM(I33*H33) -> 0
B34: 1.7 | C34: MATERIAIS DIVERSOS | J34: =SUM(J35:J42) -> 0
B35: 1.7.1 | C35: CDHU | D35: 11.18.060 | F35: Lona plástica - 150 micron | G35: M2 | H35: 750 | J35: =SUM(I35*H35) -> 0
B36: 1.7.2 | C36: CDHU | D36: 02.03.500 | F36: Proteção em madeira e lona plástica para equipamento mecânico ou informática - para obras de reforma | G36: M3 | H36: 2 | J36: =SUM(I36*H36) -> 0
B37: 1.7.3 | C37: CDHU | D37: 02.03.030 | F37: Proteção de superfícies em geral com plástico bolha | G37: M2 | H37: 750 | J37: =SUM(I37*H37) -> 0
B38: 1.7.4 | C38: CDHU | D38: 49.06.030 | F38: Grelha hemisférica em ferro fundido de 3´ | G38: UN | H38: 16 | J38: =SUM(I38*H38) -> 0
B39: 1.7.5 | C39: CDHU | D39: 38.04.040 | F39: Eletroduto galvanizado conforme NBR13057 - 3/4´ com acessórios | G39: M | H39: 100 | J39: =SUM(I39*H39) -> 0
B40: 1.7.6 | C40: CDHU | D40: 36.20.060 | F40: Braçadeira para fixação de eletroduto, até 4´ | G40: UM | H40: 50 | J40: =SUM(I40*H40) -> 0
B41: 1.7.7 | C41: CDHU | D41: 39.02.020 | F41: Cabo de cobre de 4 mm², isolamento 750 V - isolação em PVC 70°C | G41: M | H41: 100 | J41: =SUM(I41*H41) -> 0
...

Sheet CALCULO BDI
A1: COMPOSIÇÃO DO BDI
A3: ITEM COMPONENTE | C3: PROPOSTO (%) | D3: SOMA (%)
A4: AC | B4: ADM. CENTRAL | D4: =C4 -> 0
A5: R | B5: RISCOS | D5: =C5+C6 -> 0
A6: S+G | B6: SEGUROS E GARANTIAS
A7: DF | B7: DESPESAS FINANCEIRAS | D7: =C7 -> 0
A8: L | B8: LUCRO | D8: =C8 -> 0
A9: I | B9: TRIBUTOS (PIS + CONFIS + ISS) | D9: =C9+C10 -> 0
B10: CPPRB
C12: BDI (%): | D12: =ROUND((((1+(D4+D5))*(1+D7)*(1+D8)/(1-D9))-(1))*100,2) -> 0
A13: Fórmula utilizada:

Sheet COMPARATIVO COTAÇÕES
B1: COMPARATIVO COTAÇÕES
B2: =OBJETO -> #REF!
B4: ITEM | D4: CÓD. QNTD | E4: ORIGEM | F4: CÓDIGO CPU | G4: DISCRIMINAÇÃO | H4: UND | I4: COEF. | J4: MÉDIA | K4: R$ TOTAL | M4: ORÇAMENTO 1 | N4: ORÇAMENTO 2 | O4: ORÇAMENTO 3
B5: 1.0 | G5: CUSTOS DIRETOS
B6: 1.2 | G6: DIVISÓRIAS | M6: ETHERNE | N6: AMPIA | O6: DIV OFFICE
B7: 1.2.2 | C7: =B7 -> 1.2.2 | D7: DIV0002 | E7: PREÇO REFERENCIAL DE MERCADO | F7: CPU.0006 | G7: DIVISÓRIA ACÚSTICA REVESTIDA CEGA | H7: M² | I7: =VLOOKUP(D7,'MEMÓRIAS DE CÁLCULO'!L:M,2,0) -> 3.67 | J7: =SUMIF(C8:C55,C7,K8:K55) -> 1006.4167 | K7: =J7*I7 -> 3693.5492
B8: =B7 -> 1.2.2 | C8: =C7 -> 1.2.2 | E8: PREÇO REFERENCIAL DE MERCADO | G8: DIVISÓRIA ACÚSTICA REVESTIDA CEGA - FORNECIMENTO E INSTALAÇÃO | H8: M² | I8: 1 | J8: =AVERAGE(M8:O8) -> 1006.4167 | K8: =J8*I8 -> 1006.4167 | M8: 710 | N8: 1410.25 | O8: 899
B9: 1.2.3 | C9: =B9 -> 1.2.3 | D9: DIV0003 | E9: PREÇO REFERENCIAL DE MERCADO | F9: CPU.0007 | G9: DIVISÓRIA ACÚSTICA REVESTIDA MEIO CEGA MEIO VIDRO | H9: M² | I9: =VLOOKUP(D9,'MEMÓRIAS DE CÁLCULO'!L:M,2,0) -> 4.12 | J9: =SUMIF(C10:C55,C9,K10:K55) -> 2054.0333 | K9: =J9*I9 -> 8462.6173
B10: =B9 -> 1.2.3 | C10: =C9 -> 1.2.3 | E10: PREÇO REFERENCIAL DE MERCADO | G10: DIVISÓRIA ACÚSTICA REVESTIDA MEIO CEGA MEIO VIDRO - FORNECIMENTO E INSTALAÇÃO | H10: M² | I10: 1 | J10: =AVERAGE(M10:O10) -> 2054.0333 | K10: =J10*I10 -> 2054.0333 | M10: 995 | N10: 1667.1 | O10: 3500
B11: 1.5 | G11: PORTAS | M11: ETHERNE | N11: AMPIA | O11: DIV OFFICE
B12: 1.5.4 | C12: =B12 -> 1.5.4 | D12: POR0004 | E12: PREÇO REFERENCIAL DE MERCADO | F12: CPU.0008 | G12: PORTA DIVISÓRIA ACÚSTICA | H12: UN | I12: =VLOOKUP(D12,'MEMÓRIAS DE CÁLCULO'!L:M,2,0) -> 1 | J12: =SUMIF(C13:C70,C12,K13:K70) -> 3690.4967 | K12: =J12*I12 -> 3690.4967
B13: =B12 -> 1.5.4 | C13: =C12 -> 1.5.4 | E13: PREÇO REFERENCIAL DE MERCADO | G13: PORTA DIVISÓRIA ACÚSTICA - FORNECIMENTO E INSTALAÇÃO | H13: UN | I13: 1 | J13: =AVERAGE(M13:O13) -> 3690.4967 | K13: =J13*I13 -> 3690.4967 | M13: 3950 | N13: 3621.49 | O13: 3500
B14: 1.5.5 | C14: =B14 -> 1.5.5 | D14: POR0005 | E14: PREÇO REFERENCIAL DE MERCADO | F14: CPU.0009 | G14: PORTA DIVISÓRIA ACÚSTICA REVESTIDA | H14: UN | I14: =VLOOKUP(D14,'MEMÓRIAS DE CÁLCULO'!L:M,2,0) -> 10 | J14: =SUMIF(C15:C70,C14,K15:K70) -> 4073.7467 | K14: =J14*I14 -> 40737.467
B15: =B14 -> 1.5.5 | C15: =C14 -> 1.5.5 | E15: PREÇO REFERENCIAL DE MERCADO | G15: PORTA DIVISÓRIA ACÚSTICA REVESTIDA - FORNECIMENTO E INSTALAÇÃO | H15: M² | I15: 1 | J15: =AVERAGE(M15:O15) -> 4073.7467 | K15: =J15*I15 -> 4073.7467 | M15: 3950 | N15: 4771.24 | O15: 3500
B16: 1.9 | G16: SISTEMA DE SPRINKLER | M16: SOEDRAL | N16: POTENZA | O16: RIMAR
B17: 1.9.2 | G17: CONEXÕES E ACESSÓRIOS
B18: 1.9.2.1 | C18: =B18 -> 1.9.2.1 | D18: SPK0007 | E18: PREÇO REFERENCIAL DE MERCADO | F18: 3R 23 12 00 00 19 11 03 03 | G18: BUCHA DE REDUÇÃO DE FERRO GALVANIZADO Ø 40 X 32 MM - 1 1/2 X 1 1/4" | H18: UN | I18: =VLOOKUP(D18,'MEMÓRIAS DE CÁLCULO'!L:M,2,0) -> 407 | J18: =SUMIF(C19:C90,C18,K19:K90) -> 17.01 | K18: =J18*I18 -> 6923.07
B19: =B18 -> 1.9.2.1 | C19: =C18 -> 1.9.2.1 | G19: BUCHA DE FERRO MALEÁVEL GALVANIZADO DE REDUÇÃO Ø 1 1/2" X 1 1/4" | H19: UN | I19: 1 | J19: =AVERAGE(M19:O19) -> 17.01 | K19: =J19*I19 -> 17.01 | M19: 14.45 | N19: 19.23 | O19: 17.35
B20: 1.9.2.2 | C20: =B20 -> 1.9.2.2 | D20: SPK0008 | E20: 'PREÇO REFERENCIAL DE MERCADO | F20: 3R 23 12 00 00 19 11 03 03 | G20: BUCHA DE REDUÇÃO DE FERRO GALVANIZADO Ø 40 X 32 MM - 1 1/2 X 1 1/4" | H20: UN | I20: =VLOOKUP(D20,'MEMÓRIAS DE CÁLCULO'!L:M,2,0) -> 341 | J20: =SUMIF(C21:C90,C20,K21:K90) -> 17.01 | K20: =J20*I20 -> 5800.41
B21: =B20 -> 1.9.2.2 | C21: =C20 -> 1.9.2.2 | G21: BUCHA DE FERRO MALEÁVEL GALVANIZADO DE REDUÇÃO Ø 1 1/2" X 1 1/4" | H21: UN | I21: 1 | J21: =AVERAGE(M21:O21) -> 17.01 | K21: =J21*I21 -> 17.01 | M21: 14.45 | N21: 19.23 | O21: 17.35
B22: 1.9.2.3 | C22: =B22 -> 1.9.2.3 | D22: SPK0009 | E22: 'PREÇO REFERENCIAL DE MERCADO | F22: 3R 23 12 00 00 19 11 03 18 | G22: BUCHA DE REDUÇÃO DE FERRO GALVANIZADO Ø 32 X 15 MM - 1 1/4 X 1/2" | H22: UN | I22: =VLOOKUP(D22,'MEMÓRIAS DE CÁLCULO'!L:M,2,0) -> 451 | J22: =SUMIF(C23:C91,C22,K23:K91) -> 11.956667 | K22: =J22*I22 -> 5392.4567
B23: =B22 -> 1.9.2.3 | C23: =C22 -> 1.9.2.3 | G23: BUCHA DE FERRO MALEÁVEL GALVANIZADO DE REDUÇÃO Ø 1 1/4" X 1/2" | H23: UN | I23: 1 | J23: =AVERAGE(M23:O23) -> 11.956667 | K23: =J23*I23 -> 11.956667 | M23: 10.13 | N23: 13.58 | O23: 12.16
B24: 1.9.2.4 | C24: =B24 -> 1.9.2.4 | D24: SPK0010 | E24: 'PREÇO REFERENCIAL DE MERCADO | F24: 3R 23 12 00 00 19 11 03 09 | G24: BUCHA DE REDUÇÃO DE FERRO GALVANIZADO Ø 65 X 40 MM - 2 1/2 X 1 1/2" | H24: UN | I24: =VLOOKUP(D24,'MEMÓRIAS DE CÁLCULO'!L:M,2,0) -> 6 | J24: =SUMIF(C25:C94,C24,K25:K94) -> 32.75 | K24: =J24*I24 -> 196.5
B25: =B24 -> 1.9.2.4 | C25: =C24 -> 1.9.2.4 | G25: BUCHA DE FERRO MALEÁVEL GALVANIZADO DE REDUÇÃO Ø 2 1/2" X 1 1/2" | H25: UN | I25: 1 | J25: =AVERAGE(M25:O25) -> 32.75 | K25: =J25*I25 -> 32.75 | M25: 27.84 | N25: 37.01 | O25: 33.4
B26: 1.9.2.5 | C26: =B26 -> 1.9.2.5 | D26: SPK0011 | E26: 'PREÇO REFERENCIAL DE MERCADO | F26: 3R 23 12 00 00 19 16 08 12 | G26: BUCHA DE REDUÇÃO DE FERRO GALVANIZADO Ø 65 X 50 MM - 2 1/2 X 2" | H26: UN | I26: =VLOOKUP(D26,'MEMÓRIAS DE CÁLCULO'!L:M,2,0) -> 2 | J26: =SUMIF(C27:C97,C26,K27:K97) -> 32.75 | K26: =J26*I26 -> 65.5
B27: =B26 -> 1.9.2.5 | C27: =C26 -> 1.9.2.5 | G27: BUCHA DE FERRO MALEÁVEL GALVANIZADO DE REDUÇÃO Ø 2 1/2" X 2" | H27: UN | I27: 1 | J27: =AVERAGE(M27:O27) -> 32.75 | K27: =J27*I27 -> 32.75 | M27: 27.84 | N27: 37.01 | O27: 33.4
B28: 1.9.2.6 | C28: =B28 -> 1.9.2.6 | D28: SPK0012 | E28: 'PREÇO REFERENCIAL DE MERCADO | F28: 3R 23 12 00 00 19 11 03 06 | G28: BUCHA DE REDUÇÃO DE FERRO GALVANIZADO Ø 50 X 40 MM - 2 X 1 1/2" | H28: UN | I28: =VLOOKUP(D28,'MEMÓRIAS DE CÁLCULO'!L:M,2,0) -> 19 | J28: =SUMIF(C29:C99,C28,K29:K99) -> 21.933333 | K28: =J28*I28 -> 416.73333
B29: =B28 -> 1.9.2.6 | C29: =C28 -> 1.9.2.6 | G29: BUCHA DE FERRO MALEÁVEL GALVANIZADO DE REDUÇÃO Ø 2" X 1 1/2" | H29: UN | I29: 1 | J29: =AVERAGE(M29:O29) -> 21.933333 | K29: =J29*I29 -> 21.933333 | M29: 18.64 | N29: 24.79 | O29: 22.37
B30: 1.9.2.7 | C30: =B30 -> 1.9.2.7 | D30: SPK0013 | E30: 'PREÇO REFERENCIAL DE MERCADO | F30: CPU.0026 | G30: BUCHA DE REDUÇÃO DE FERRO GALVANIZADO Ø 80 X 32 MM - 3 X 1 1/4" | H30: UN | I30: =VLOOKUP(D30,'MEMÓRIAS DE CÁLCULO'!L:M,2,0) -> 1 | J30: =SUMIF(C31:C102,C30,K31:K102) -> 41.53 | K30: =J30*I30 -> 41.53
B31: =B30 -> 1.9.2.7 | C31: =C30 -> 1.9.2.7 | G31: BUCHA DE FERRO MALEÁVEL GALVANIZADO DE REDUÇÃO Ø 1 1/2 X 1 1/4" | H31: UN | I31: 1 | J31: =AVERAGE(M31:O31) -> 41.53 | K31: =J31*I31 -> 41.53 | M31: 18.64 | N31: 55.69 | O31: 50.26
B32: 1.9.2.8 | C32: =B32 -> 1.9.2.8 | D32: SPK0014 | E32: 'PREÇO REFERENCIAL DE MERCADO | F32: 3R 23 12 00 00 19 11 03 10 | G32: BUCHA DE REDUÇÃO DE FERRO GALVANIZADO Ø 80 X 40 MM - 3 X 1 1/2" | H32: UN | I32: =VLOOKUP(D32,'MEMÓRIAS DE CÁLCULO'!L:M,2,0) -> 12 | J32: =SUMIF(C33:C105,C32,K33:K105) -> 49.273333 | K32: =J32*I32 -> 591.28
B33: =B32 -> 1.9.2.8 | C33: =C32 -> 1.9.2.8 | G33: BUCHA DE FERRO MALEÁVEL GALVANIZADO DE REDUÇÃO Ø 3" X 1 1/2" | H33: UN | I33: 1 | J33: =AVERAGE(M33:O33) -> 49.273333 | K33: =J33*I33 -> 49.273333 | M33: 41.87 | N33: 55.69 | O33: 50.26
B34: 1.9.2.9 | C34: =B34 -> 1.9.2.9 | D34: SPK0015 | E34: 'PREÇO REFERENCIAL DE MERCADO | F34: 3R 23 12 00 00 19 11 03 11 | G34: BUCHA DE REDUÇÃO DE FERRO GALVANIZADO Ø 80 X 50 MM - 3 X 2" | H34: UN | I34: =VLOOKUP(D34,'MEMÓRIAS DE CÁLCULO'!L:M,2,0) -> 2 | J34: =SUMIF(C35:C107,C34,K35:K107) -> 49.243333 | K34: =J34*I34 -> 98.486667
B35: =B34 -> 1.9.2.9 | C35: =C34 -> 1.9.2.9 | G35: BUCHA DE FERRO MALEÁVEL GALVANIZADO DE REDUÇÃO Ø 3" X 2" | H35: UN | I35: 1 | J35: =AVERAGE(M35:O35) -> 49.243333 | K35: =J35*I35 -> 49.243333 | M35: 41.87 | N35: 55.6 | O35: 50.26
B36: 1.9.2.10 | C36: =B36 -> 1.9.2.10 | D36: SPK0016 | E36: 'PREÇO REFERENCIAL DE MERCADO | F36: 3R 23 12 00 00 19 11 03 16 | G36: BUCHA DE REDUÇÃO DE FERRO GALVANIZADO Ø 100 X 80 MM - 4 X 3" | H36: UN | I36: =VLOOKUP(D36,'MEMÓRIAS DE CÁLCULO'!L:M,2,0) -> 3 | J36: =SUMIF(C37:C110,C36,K37:K110) -> 89.01 | K36: =J36*I36 -> 267.03
B37: =B36 -> 1.9.2.10 | C37: =C36 -> 1.9.2.10 | G37: BUCHA DE FERRO MALEÁVEL GALVANIZADO DE REDUÇÃO Ø 4" X 3" | H37: UN | I37: 1 | J37: =AVERAGE(M37:O37) -> 89.01 | K37: =J37*I37 -> 89.01 | M37: 75.64 | N37: 100.59 | O37: 90.8
B38: 1.9.2.11 | C38: =B38 -> 1.9.2.11 | D38: SPK0017 | E38: 'PREÇO REFERENCIAL DE MERCADO | F38: CPU.0027 | G38: BUCHA DE REDUÇÃO DE FERRO GALVANIZADO Ø 80 X 32 MM - 3 X 1 1/4" | H38: UN | I38: =VLOOKUP(D38,'MEMÓRIAS DE CÁLCULO'!L:M,2,0) -> 1 | J38: =SUMIF(C39:C110,C38,K39:K110) -> 49.266667 | K38: =J38*I38 -> 49.266667
B39: =B38 -> 1.9.2.11 | C39: =C38 -> 1.9.2.11 | G39: BUCHA DE FERRO MALEÁVEL GALVANIZADO DE REDUÇÃO Ø 1 1/2 X 1 1/4" | H39: UN | I39: 1 | J39: =AVERAGE(M39:O39) -> 49.266667 | K39: =J39*I39 -> 49.266667 | M39: 41.87 | N39: 55.69 | O39: 50.24
B40: 1.9.2.12 | C40: =B40 -> 1.9.2.12 | D40: SPK0018 | E40: 'PREÇO REFERENCIAL DE MERCADO | F40: CPU.0028 | G40: BUCHA DE REDUÇÃO DE FERRO GALVANIZADO Ø 100 X 40 MM - 3 X 1 1/2" | H40: UN | I40: =VLOOKUP(D40,'MEMÓRIAS DE CÁLCULO'!L:M,2,0) -> 7 | J40: =SUMIF(C41:C110,C40,K41:K110) -> 49.273333 | K40: =J40*I40 -> 344.91333
B41: =B40 -> 1.9.2.12 | C41: =C40 -> 1.9.2.12 | G41: BUCHA DE FERRO MALEÁVEL GALVANIZADO DE REDUÇÃO Ø 3 X 1 1/2" | H41: UN | I41: 1 | J41: =AVERAGE(M41:O41) -> 49.273333 | K41: =J41*I41 -> 49.273333 | M41: 41.87 | N41: 55.69 | O41: 50.26
...

Sheet CURVA ABC INSUMOS
B1: CURVA ABC DE INSUMOS
B2: =OBJETO -> #REF! | D2: =SUM(D5:D289)-#REF! -> #REF!
B4: ITEM | C4: DISCRIMINAÇÃO | D4: R$ TOTAL
B5: 1 | C5: FORRO EM FIBRA MINERAL COM PLACAS ACÚSTICAS REMOVÍVEIS DE 625x625MM, REF. LINHA FINETTA DA OWA DO BRASIL OU EQUIVALENTE | D5: =SUMIF(#REF!,'CURVA ABC INSUMOS'!C5,#REF!) -> #REF!
B6: 2 | C6: TUBO DE AÇO CARBONO PRETO SEM COSTURA SCH 40 DN= 5' | D6: =SUMIF(#REF!,'CURVA ABC INSUMOS'!C6,#REF!) -> #REF!
B7: 3 | C7: ENGENHEIRO CIVIL PLENO (MENSALISTA) | D7: =SUMIF(#REF!,'CURVA ABC INSUMOS'!C7,#REF!) -> #REF!
B8: 4 | C8: ENCANADOR | D8: =SUMIF(#REF!,'CURVA ABC INSUMOS'!C8,#REF!) -> #REF!
B9: 5 | C9: AJUDANTE DE ENCANADOR | D9: =SUMIF(#REF!,'CURVA ABC INSUMOS'!C10,#REF!) -> #REF!
B10: 6 | C10: TUBO DE AÇO CARBONO PRETO SEM COSTURA SCH 40 DN= 1 1/2' | D10: =SUMIF(#REF!,'CURVA ABC INSUMOS'!C13,#REF!) -> #REF!
B11: 7 | C11: ELETRICISTA | D11: =SUMIF(#REF!,'CURVA ABC INSUMOS'!C11,#REF!) -> #REF!
B12: 8 | C12: AJUDANTE DE ELETRICISTA | D12: =SUMIF(#REF!,'CURVA ABC INSUMOS'!C15,#REF!) -> #REF!
B13: 9 | C13: SERVENTE COM ENCARGOS COMPLEMENTARES | D13: =SUMIF(#REF!,'CURVA ABC INSUMOS'!C12,#REF!) -> #REF!
B14: 10 | C14: SERVENTE | D14: =SUMIF(#REF!,'CURVA ABC INSUMOS'!C18,#REF!) -> #REF!
B15: 11 | C15: PORTA CORTA-FOGO EM AÇO GALVANIZADA P.90, COM BARRA ANTIPÂNICO NUMA FACE E MAÇANETA NA OUTRA, COMPLETA REF. AUTHENTIC OU EQUIVALENTE | D15: =SUMIF(#REF!,'CURVA ABC INSUMOS'!C46,#REF!) -> #REF!
B16: 12 | C16: DETECTOR ÓPTICO DE FUMAÇA ENDEREÁVEL, COM BASE DE FIXAÇÃO, REF. BH-300 DA KIDDE, PROTEGE OU EQUIVALENTE | D16: =SUMIF(#REF!,'CURVA ABC INSUMOS'!C16,#REF!) -> #REF!
B17: 13 | C17: ENCARREGADO GERAL DE OBRAS (MENSALISTA) | D17: =SUMIF(#REF!,'CURVA ABC INSUMOS'!C9,#REF!) -> #REF!
B18: 14 | C18: TUBO DE AÇO CARBONO PRETO SEM COSTURA SCH 40 DN=2 1/2' | D18: =SUMIF(#REF!,'CURVA ABC INSUMOS'!C17,#REF!) -> #REF!
B19: 15 | C19: ENCANADOR OU BOMBEIRO HIDRÁULICO COM ENCARGOS COMPLEMENTARES | D19: =SUMIF(#REF!,'CURVA ABC INSUMOS'!C20,#REF!) -> #REF!
B20: 16 | C20: TUBO DE AÇO CARBONO PRETO SEM COSTURA SCH 40 DN= 3' | D20: =SUMIF(#REF!,'CURVA ABC INSUMOS'!C19,#REF!) -> #REF!
B21: 17 | C21: CONJUNTO MOTOR-BOMBA (CENTRÍFUGA) 30CV MONOESTÁGIO, TRIFÁSICA, HMAN=70 A 94 MCA, Q=34,8 A 61,7 M³/H | D21: =SUMIF(#REF!,'CURVA ABC INSUMOS'!C27,#REF!) -> #REF!
B22: 18 | C22: ELETRODUTO GALVANIZADO ELETROLÍTICO MÉDIO 3/4' | D22: =SUMIF(#REF!,'CURVA ABC INSUMOS'!C31,#REF!) -> #REF!
B23: 19 | C23: LUMINÁRIA P/ BALIZAMENTO OU ACLARAMENTO, SOBREPOR COMPLETA, COM LÂMPADA FLUORESCENTE COMPACTA, PL 9W | D23: =SUMIF(#REF!,'CURVA ABC INSUMOS'!C21,#REF!) -> #REF!
B24: 20 | C24: PLACA DE SINALIZAÇÃO | D24: =SUMIF(#REF!,'CURVA ABC INSUMOS'!C24,#REF!) -> #REF!
B25: 21 | C25: VÁLVULA DE GAVETA EM BRONZE HASTE ASCENDENTE, CLASSE 150 LIBRAS PARA VAPOR SATURADO E 300 LIBRAS PARA ÁGUA, ÓLEO E GÁS, DN= 4´ | D25: =SUMIF(#REF!,'CURVA ABC INSUMOS'!C25,#REF!) -> #REF!
B26: 22 | C26: RESERVATÓRIO EM POLIETILENO COM TAMPA DE ENCAIXAR CAPACIDADE DE 10.000 LITROS | D26: =SUMIF(#REF!,'CURVA ABC INSUMOS'!C23,#REF!) -> #REF!
B27: 23 | C27: MÓDULO ISOLADOR, MÓDULO ENDEREÇADOR PARA ÁUDIO VISUAL, REF. GLOBAL/AS MODELO LSCISO OU EQUIVALENTE | D27: =SUMIF(#REF!,'CURVA ABC INSUMOS'!C22,#REF!) -> #REF!
B28: 24 | C28: CABO DE COBRE FLEXIVEL DE 2X1,5MM², ENCORDOAMENTO COM ISOLAÇÃO TERMOPLÁSTICO PVC/E 105°C, CLASSE 4, TENSÃO DE ISOLAMENTO 600V, PARA SISTEMA DE DETECÇÃO INCÊNDIO | D28: =SUMIF(#REF!,'CURVA ABC INSUMOS'!C26,#REF!) -> #REF!
B29: 25 | C29: PARALELEPÍPEDO SÓ MATEIRAL | D29: =SUMIF(#REF!,'CURVA ABC INSUMOS'!C33,#REF!) -> #REF!
B30: 26 | C30: CAMINHÃO BASCULANTE 6 M3 PESO BRUTO TOTAL 16.000 KG, CARGA ÚTIL MÁXIMA 13.071 KG, DISTÂNCIA ENTRE EIXOS 4,80 M, POTÊNCIA 230 CV INCLUSIVE CAÇAMBA METÁLICA - CHP DIURNO. AF_06/2014 | D30: =SUMIF(#REF!,'CURVA ABC INSUMOS'!C41,#REF!) -> #REF!
B31: 27 | C31: BICO SPRINKLERS CROMADO, PENDENTE PARA TUBULAÇÃO 1/2', COM ROMPIMENTO DA AMPOLA A 68ºC | D31: =SUMIF(#REF!,'CURVA ABC INSUMOS'!C29,#REF!) -> #REF!
B32: 28 | C32: MATERIAIS DE CONSUMO (ESCRITÓRIO, LIMPEZA, ÁGUA POTÁVEL). | D32: =SUMIF(#REF!,'CURVA ABC INSUMOS'!C42,#REF!) -> #REF!
B33: 29 | C33: AÇO CA-50-A MD BITOLAS | D33: =SUMIF(#REF!,'CURVA ABC INSUMOS'!C30,#REF!) -> #REF!
B34: 30 | C34: BUCHA DE FERRO MALEÁVEL GALVANIZADO DE REDUÇÃO Ø 1 1/2" X 1 1/4" | D34: =SUMIF(#REF!,'CURVA ABC INSUMOS'!C40,#REF!) -> #REF!
B35: 31 | C35: COTOVELO 90 GRAUS DE FERRO GALVANIZADO, COM ROSCA BSP, DE 4" | D35: =SUMIF(#REF!,'CURVA ABC INSUMOS'!C34,#REF!) -> #REF!
B36: 32 | C36: LOCAÇÃO DE ANDAIME TORRE METÁLICO (1,5 X 1,5M), COM PISO METÁLICO | D36: =SUMIF(#REF!,'CURVA ABC INSUMOS'!C28,#REF!) -> #REF!
B37: 33 | C37: MARTELETE OU ROMPEDOR PNEUMÁTICO MANUAL, 28 KG, COM SILENCIADOR - CHI DIURNO. AF_07/2016 | D37: =SUMIF(#REF!,'CURVA ABC INSUMOS'!C36,#REF!) -> #REF!
B38: 34 | C38: CONTAINERSANITÁRIO, MÓDULO AÇO GALVANIZADO, 2 VASOS SANITÁRIOS, 2 LAVATÓRIOS / CALHA E 2 MICTÓRIOS / CALHA, 4 PONTOS PARA CHUVEIRO, PISO IMPERMEÁVEL E ANTI-DERRAPANTE | D38: =SUMIF(#REF!,'CURVA ABC INSUMOS'!C37,#REF!) -> #REF!
B39: 35 | C39: VÁLVULA DE GAVETA, CORPO EM FERRO FUNDIDO, EXTREMIDADES FLANGEADAS, HASTE ASCENDENTE, CLASSE 125LBS, FN=4' | D39: =SUMIF(#REF!,'CURVA ABC INSUMOS'!C38,#REF!) -> #REF!
B40: 36 | C40: CONTAINER ESCRITÓRIO COM WC, EM AÇO GALVANIZADO, PISO COMPENSADO NAVAL (ESCRITÓRIO), 1 VASO SANITÁRIO, 1 LAVATÓRIO, 1 PONTO PARA CHUVEIRO, PISO IMPERMEÁVEL E ANTI-DERRAPANTE (WC) | D40: =SUMIF(#REF!,'CURVA ABC INSUMOS'!C35,#REF!) -> #REF!
B41: 37 | C41: CABO DE COBRE FLEXÍVEL DE 50 MM², ISOLAMENTO 0,6/1KV - ISOLAÇÃO HEPR 90ºC | D41: =SUMIF(#REF!,'CURVA ABC INSUMOS'!C39,#REF!) -> #REF!
...

Sheet CURVA ABC SERVIÇOS
B1: CURVA ABC DE SERVIÇOS
B2: =OBJETO -> #REF! | G2: =SUM(G5:G225)-#REF! -> #REF!
B4: ITEM | C4: DISCRIMINAÇÃO | D4: UND | E4: QNTD | F4: R$ UNIT. | G4: R$ TOTAL
B5: 1 | C5: FORRO EM FIBRA MINERAL COM PLACAS ACÚSTICAS REMOVÍVEIS DE 625MM X 625MM | D5: =VLOOKUP($C5,#REF!,2,0) -> #REF! | E5: =SUMIF(#REF!,'CURVA ABC SERVIÇOS'!C5,#REF!) -> #REF! | F5: =VLOOKUP($C5,#REF!,4,0) -> #REF! | G5: =F5*E5 -> #REF!
B6: 2 | C6: TUBO DE AÇO CARBONO PRETO SEM COSTURA SCHEDULE 40, DN= 5´ - INCLUSIVE CONEXÕES | D6: =VLOOKUP($C6,#REF!,2,0) -> #REF! | E6: =SUMIF(#REF!,'CURVA ABC SERVIÇOS'!C6,#REF!) -> #REF! | F6: =VLOOKUP($C6,#REF!,4,0) -> #REF! | G6: =F6*E6 -> #REF!
B7: 3 | C7: TUBO DE AÇO CARBONO PRETO SEM COSTURA SCHEDULE 40, DN= 1 1/2´ - INCLUSIVE CONEXÕES | D7: =VLOOKUP($C7,#REF!,2,0) -> #REF! | E7: =SUMIF(#REF!,'CURVA ABC SERVIÇOS'!C7,#REF!) -> #REF! | F7: =VLOOKUP($C7,#REF!,4,0) -> #REF! | G7: =F7*E7 -> #REF!
B8: 4 | C8: ENGENHEIRO CIVIL PLENO COM ENCARGOS COMPLEMENTARES | D8: =VLOOKUP($C8,#REF!,2,0) -> #REF! | E8: =SUMIF(#REF!,'CURVA ABC SERVIÇOS'!C8,#REF!) -> #REF! | F8: =VLOOKUP($C8,#REF!,4,0) -> #REF! | G8: =F8*E8 -> #REF!
B9: 5 | C9: TUBO DE AÇO CARBONO PRETO SEM COSTURA SCHEDULE 40, DN= 2 1/2´ - INCLUSIVE CONEXÕES | D9: =VLOOKUP($C9,#REF!,2,0) -> #REF! | E9: =SUMIF(#REF!,'CURVA ABC SERVIÇOS'!C9,#REF!) -> #REF! | F9: =VLOOKUP($C9,#REF!,4,0) -> #REF! | G9: =F9*E9 -> #REF!
B10: 6 | C10: ALMOXARIFE COM ENCARGOS COMPLEMENTARES | D10: =VLOOKUP($C10,#REF!,2,0) -> #REF! | E10: =SUMIF(#REF!,'CURVA ABC SERVIÇOS'!C10,#REF!) -> #REF! | F10: =VLOOKUP($C10,#REF!,4,0) -> #REF! | G10: =F10*E10 -> #REF!
B11: 7 | C11: ELETRODUTO GALVANIZADO, MÉDIO DE 3/4´ - COM ACESSÓRIOS | D11: =VLOOKUP($C11,#REF!,2,0) -> #REF! | E11: =SUMIF(#REF!,'CURVA ABC SERVIÇOS'!C11,#REF!) -> #REF! | F11: =VLOOKUP($C11,#REF!,4,0) -> #REF! | G11: =F11*E11 -> #REF!
B12: 8 | C12: SERVENTE COM ENCARGOS COMPLEMENTARES. | D12: =VLOOKUP($C12,#REF!,2,0) -> #REF! | E12: =SUMIF(#REF!,'CURVA ABC SERVIÇOS'!C12,#REF!) -> #REF! | F12: =VLOOKUP($C12,#REF!,4,0) -> #REF! | G12: =F12*E12 -> #REF!
B13: 9 | C13: TUBO DE AÇO CARBONO PRETO SEM COSTURA SCHEDULE 40, DN= 3´ - INCLUSIVE CONEXÕES | D13: =VLOOKUP($C13,#REF!,2,0) -> #REF! | E13: =SUMIF(#REF!,'CURVA ABC SERVIÇOS'!C13,#REF!) -> #REF! | F13: =VLOOKUP($C13,#REF!,4,0) -> #REF! | G13: =F13*E13 -> #REF!
B14: 10 | C14: CABO DE COBRE FLEXÍVEL BLINDADO DE 2 X 1,5 MM², ISOLAMENTO 600V, ISOLAÇÃO EM VC/E 105°C - PARA DETECÇÃO DE INCÊNDIO | D14: =VLOOKUP($C14,#REF!,2,0) -> #REF! | E14: =SUMIF(#REF!,'CURVA ABC SERVIÇOS'!C15,#REF!) -> #REF! | F14: =VLOOKUP($C14,#REF!,4,0) -> #REF! | G14: =F14*E14 -> #REF!
B15: 11 | C15: ENCARREGADO GERAL DE OBRAS COM ENCARGOS COMPLEMENTARES | D15: =VLOOKUP($C15,#REF!,2,0) -> #REF! | E15: =SUMIF(#REF!,'CURVA ABC SERVIÇOS'!C16,#REF!) -> #REF! | F15: =VLOOKUP($C15,#REF!,4,0) -> #REF! | G15: =F15*E15 -> #REF!
B16: 12 | C16: DETECTOR ÓPTICO DE FUMAÇA COM BASE ENDEREÇÁVEL | D16: =VLOOKUP($C16,#REF!,2,0) -> #REF! | E16: =SUMIF(#REF!,'CURVA ABC SERVIÇOS'!C17,#REF!) -> #REF! | F16: =VLOOKUP($C16,#REF!,4,0) -> #REF! | G16: =F16*E16 -> #REF!
B17: 13 | C17: PORTA DIVISÓRIA ACÚSTICA REVESTIDA | D17: =VLOOKUP($C17,#REF!,2,0) -> #REF! | E17: =SUMIF(#REF!,'CURVA ABC SERVIÇOS'!C14,#REF!) -> #REF! | F17: =VLOOKUP($C17,#REF!,4,0) -> #REF! | G17: =F17*E17 -> #REF!
B18: 14 | C18: FURO EM CONCRETO PARA DIÂMETROS MAIORES QUE 75 MM. AF_05/2015 | D18: =VLOOKUP($C18,#REF!,2,0) -> #REF! | E18: =SUMIF(#REF!,'CURVA ABC SERVIÇOS'!C18,#REF!) -> #REF! | F18: =VLOOKUP($C18,#REF!,4,0) -> #REF! | G18: =F18*E18 -> #REF!
B19: 15 | C19: ARMADURA EM BARRA DE AÇO CA-50 (A OU B) FYK = 500 MPA | D19: =VLOOKUP($C19,#REF!,2,0) -> #REF! | E19: =SUMIF(#REF!,'CURVA ABC SERVIÇOS'!C19,#REF!) -> #REF! | F19: =VLOOKUP($C19,#REF!,4,0) -> #REF! | G19: =F19*E19 -> #REF!
B20: 16 | C20: RESERVATÓRIO EM POLIETILENO COM TAMPA DE ENCAIXAR - CAPACIDADE DE 10.000 LITROS | D20: =VLOOKUP($C20,#REF!,2,0) -> #REF! | E20: =SUMIF(#REF!,'CURVA ABC SERVIÇOS'!C20,#REF!) -> #REF! | F20: =VLOOKUP($C20,#REF!,4,0) -> #REF! | G20: =F20*E20 -> #REF!
B21: 17 | C21: ELETRODUTO DE AÇO GALVANIZADO, CLASSE LEVE, DN 20 MM (3/4), APARENTE, INSTALADO EM TETO - FORNECIMENTO E INSTALAÇÃO. AF_11/2016_P | D21: =VLOOKUP($C21,#REF!,2,0) -> #REF! | E21: =SUMIF(#REF!,'CURVA ABC SERVIÇOS'!C21,#REF!) -> #REF! | F21: =VLOOKUP($C21,#REF!,4,0) -> #REF! | G21: =F21*E21 -> #REF!
B22: 18 | C22: BICO DE SPRINKLER CROMADO PENDENTE COM ROMPIMENTO DA AMPOLA A 68°C | D22: =VLOOKUP($C22,#REF!,2,0) -> #REF! | E22: =SUMIF(#REF!,'CURVA ABC SERVIÇOS'!C22,#REF!) -> #REF! | F22: =VLOOKUP($C22,#REF!,4,0) -> #REF! | G22: =F22*E22 -> #REF!
B23: 19 | C23: LUMINÁRIA PARA ACLARAMENTO DE SOBREPOR COMPLETA COM LÂMPADA FLUORESCENTE COMPACTA DE 9 W | D23: =VLOOKUP($C23,#REF!,2,0) -> #REF! | E23: =SUMIF(#REF!,'CURVA ABC SERVIÇOS'!C23,#REF!) -> #REF! | F23: =VLOOKUP($C23,#REF!,4,0) -> #REF! | G23: =F23*E23 -> #REF!
B24: 20 | C24: BUCHA DE REDUÇÃO DE FERRO GALVANIZADO Ø 40 X 32 MM - 1 1/2 X 1 1/4" | D24: =VLOOKUP($C24,#REF!,2,0) -> #REF! | E24: =SUMIF(#REF!,'CURVA ABC SERVIÇOS'!C24,#REF!) -> #REF! | F24: =VLOOKUP($C24,#REF!,4,0) -> #REF! | G24: =F24*E24 -> #REF!
B25: 21 | C25: VÁLVULA DE GAVETA EM BRONZE, HASTE ASCENDENTE, CLASSE 150 LIBRAS PARA VAPOR SATURADO E 300 LIBRAS PARA ÁGUA, ÓLEO E GÁS, DN= 4´ | D25: =VLOOKUP($C25,#REF!,2,0) -> #REF! | E25: =SUMIF(#REF!,'CURVA ABC SERVIÇOS'!C25,#REF!) -> #REF! | F25: =VLOOKUP($C25,#REF!,4,0) -> #REF! | G25: =F25*E25 -> #REF!
B26: 22 | C26: IDENTIFICAÇÃO DAS ELETROCALHAS EM FAIXA VERMELHA A CADA 1 METRO | D26: =VLOOKUP($C26,#REF!,2,0) -> #REF! | E26: =SUMIF(#REF!,'CURVA ABC SERVIÇOS'!C26,#REF!) -> #REF! | F26: =VLOOKUP($C26,#REF!,4,0) -> #REF! | G26: =F26*E26 -> #REF!
B27: 23 | C27: TUBO DE AÇO CARBONO PRETO SEM COSTURA SCHEDULE 40, DN= 2´ - INCLUSIVE CONEXÕES | D27: =VLOOKUP($C27,#REF!,2,0) -> #REF! | E27: =SUMIF(#REF!,'CURVA ABC SERVIÇOS'!C27,#REF!) -> #REF! | F27: =VLOOKUP($C27,#REF!,4,0) -> #REF! | G27: =F27*E27 -> #REF!
B28: 24 | C28: CONJUNTO MOTOR-BOMBA (CENTRÍFUGA) 30 CV, MONOESTÁGIO TRIFÁSICO, HMAN= 70 A 94 MCA, Q= 34,80 A 61,7 M³/H | D28: =VLOOKUP($C28,#REF!,2,0) -> #REF! | E28: =SUMIF(#REF!,'CURVA ABC SERVIÇOS'!C28,#REF!) -> #REF! | F28: =VLOOKUP($C28,#REF!,4,0) -> #REF! | G28: =F28*E28 -> #REF!
B29: 25 | C29: TUBO DE AÇO CARBONO PRETO SEM COSTURA SCHEDULE 40, DN= 1 1/4´ - INCLUSIVE CONEXÕES | D29: =VLOOKUP($C29,#REF!,2,0) -> #REF! | E29: =SUMIF(#REF!,'CURVA ABC SERVIÇOS'!C29,#REF!) -> #REF! | F29: =VLOOKUP($C29,#REF!,4,0) -> #REF! | G29: =F29*E29 -> #REF!
... B40: 36 | C40: CABO DE COBRE FLEXÍVEL DE 25 MM², ISOLAMENTO 0,6/1KV - ISOLAÇÃO HEPR 90°C (TERRA COR VERDE) | D40: =VLOOKUP($C40,#REF!,2,0) -> #REF! | E40: =SUMIF(#REF!,'CURVA ABC SERVIÇOS'!C40,#REF!) -> #REF! | F40: =VLOOKUP($C40,#REF!,4,0) -> #REF! | G40: =F40*E40 -> #REF!
B41: 37 | C41: DIVISÓRIA ACÚSTICA REVESTIDA MEIO CEGA MEIO VIDRO | D41: =VLOOKUP($C41,#REF!,2,0) -> #REF! | E41: =SUMIF(#REF!,'CURVA ABC SERVIÇOS'!C69,#REF!) -> #REF! | F41: =VLOOKUP($C41,#REF!,4,0) -> #REF! | G41: =F41*E41 -> #REF!
B42: 38 | C42: BUCHA DE REDUÇÃO DE FERRO GALVANIZADO Ø 32 X 15 MM - 1 1/4 X 1/2" | D42: =VLOOKUP($C42,#REF!,2,0) -> #REF! | E42: =SUMIF(#REF!,'CURVA ABC SERVIÇOS'!C41,#REF!) -> #REF! | F42: =VLOOKUP($C42,#REF!,4,0) -> #REF! | G42: =F42*E42 -> #REF!
B43: 39 | C43: PORTA CORTA-FOGO CLASSE P.90, COM BARRA ANTIPÂNICO NUMA FACE E MAÇANETA NA OUTRA, COMPLETA | D43: =VLOOKUP($C43,#REF!,2,0) -> #REF! | E43: =SUMIF(#REF!,'CURVA ABC SERVIÇOS'!C42,#REF!) -> #REF! | F43: =VLOOKUP($C43,#REF!,4,0) -> #REF! | G43: =F43*E43 -> #REF!
B44: 40 | C44: ABRIGO PARA HIDRANTE/MANGUEIRA (EMBUTIR E EXTERNO) | D44: =VLOOKUP($C44,#REF!,2,0) -> #REF! | E44: =SUMIF(#REF!,'CURVA ABC SERVIÇOS'!C43,#REF!) -> #REF! | F44: =VLOOKUP($C44,#REF!,4,0) -> #REF! | G44: =F44*E44 -> #REF!
B45: 41 | C45: MOD DE SUPERVISÃO C/ FUNÇÃO LIGAR PRESS DE ESCADAS, ABRIR DAMPERES, LIGAR BOMBAS; ENVIAR AO SIST DE ELEV COMANDO DE DESCIDA; ENVIAR AO CONT DE ACESSOS COMANDO DE ABERT DE PASSAGENS REST; LIBERAR O FECHAMENTO DE PORTAS CORTA FOGO | D45: =VLOOKUP($C45,#REF!,2,0) -> #REF! | E45: =SUMIF(#REF!,'CURVA ABC SERVIÇOS'!C44,#REF!) -> #REF! | F45: =VLOOKUP($C45,#REF!,4,0) -> #REF! | G45: =F45*E45 -> #REF!
B46: 42 | C46: MÓDULO DE BASE ISOLADOR: ALIMENTAÇÃO: VIA REDE DE COMUNICAÇÃO 12 A 24 VDC - ISOLAÇÃO DE REDE EM MENOS DE 50 MS. INSTALAÇÃO JUNTO A BASE DO DETECTOR. | D46: =VLOOKUP($C46,#REF!,2,0) -> #REF! | E46: =SUMIF(#REF!,'CURVA ABC SERVIÇOS'!C45,#REF!) -> #REF! | F46: =VLOOKUP($C46,#REF!,4,0) -> #REF! | G46: =F46*E46 -> #REF!
B47: 43 | C47: DETECTOR TERMOVELOCIMÉTRICO ENDEREÇÁVEL COM BASE ENDEREÇÁVEL | D47: =VLOOKUP($C47,#REF!,2,0) -> #REF! | E47: =SUMIF(#REF!,'CURVA ABC SERVIÇOS'!C46,#REF!) -> #REF! | F47: =VLOOKUP($C47,#REF!,4,0) -> #REF! | G47: =F47*E47 -> #REF!
B48: 44 | C48: CAMINHÃO BASCULANTE 6 M3, PESO BRUTO TOTAL 16.000 KG, CARGA ÚTIL MÁXIMA 13.071 KG, DISTÂNCIA ENTRE EIXOS 4,80 M, POTÊNCIA 230 CV INCLUSIVE CAÇAMBA METÁLICA - CHP DIURNO. AF_06/2014 | D48: =VLOOKUP($C48,#REF!,2,0) -> #REF! | E48: =SUMIF(#REF!,'CURVA ABC SERVIÇOS'!C47,#REF!) -> #REF! | F48: =VLOOKUP($C48,#REF!,4,0) -> #REF! | G48: =F48*E48 -> #REF!
B49: 45 | C49: TÊ, EM AÇO, CONEXÃO SOLDADA, DN 65 (2 1/2"), INSTALADO EM REDE DE ALIMENTAÇÃO PARA HIDRANTE - FORNECIMENTO E INSTALAÇÃO. AF_12/2015 | D49: =VLOOKUP($C49,#REF!,2,0) -> #REF! | E49: =SUMIF(#REF!,'CURVA ABC SERVIÇOS'!C48,#REF!) -> #REF! | F49: =VLOOKUP($C49,#REF!,4,0) -> #REF! | G49: =F49*E49 -> #REF!
B50: 46 | C50: FORMA EM MADEIRA COMUM PARA FUNDAÇÃO | D50: =VLOOKUP($C50,#REF!,2,0) -> #REF! | E50: =SUMIF(#REF!,'CURVA ABC SERVIÇOS'!C49,#REF!) -> #REF! | F50: =VLOOKUP($C50,#REF!,4,0) -> #REF! | G50: =F50*E50 -> #REF!
B51: 47 | C51: LOCAÇÃO DE CONTAINER TIPO DEPÓSITO - ÁREA MÍNIMA DE 13,80 M² | D51: =VLOOKUP($C51,#REF!,2,0) -> #REF! | E51: =SUMIF(#REF!,'CURVA ABC SERVIÇOS'!C50,#REF!) -> #REF! | F51: =VLOOKUP($C51,#REF!,4,0) -> #REF! | G51: =F51*E51 -> #REF!
...

Sheet MEMÓRIAS DE CÁLCULO
B1: MEMÓRIAS DE CÁLCULO | K1: =O3-#REF! -> #REF! | L1: CÓD. | M1: QNTD | N1: R$ UNIT. | O1: R$ TOTAL
B2: =OBJETO -> #REF!
O3: =SUM(O4:O576) -> #REF!
B5: DEMOLIÇÕES E REMOÇÕES
B7: SERVIÇOS | C7: UND | D7: QNTD
B8: REMOÇÃO DE DIVISÓRIA NAVAL | C8: M² | D8: =SUM(D21:D25) -> 12.46 | L8: DEM0001 | M8: =D8 -> 12.46 | N8: =VLOOKUP(L8,#REF!,7,0) -> #REF! | O8: =N8*M8 -> #REF!
B9: REMOÇÃO DE FORRO EM FIBRA MINERAL | C9: M² | D9: =596*0.3*5 -> 894 | L9: DEM0002 | M9: =D9 -> 894 | N9: =VLOOKUP(L9,#REF!,7,0) -> #REF! | O9: =N9*M9 -> #REF!
B10: REMOÇÃO DE PISO DE BORRACHA | C10: M² | D10: 5.76 | L10: DEM0003 | M10: =D10 -> 5.76 | N10: =VLOOKUP(L10,#REF!,7,0) -> #REF! | O10: =N10*M10 -> #REF!
B11: DEMOLIÇÃO DE MURO EM ALVENARIA | C11: M³ | D11: =2*2.95*0.2 -> 1.18 | L11: DEM0004 | M11: =D11 -> 1.18 | N11: =VLOOKUP(L11,#REF!,7,0) -> #REF! | O11: =N11*M11 -> #REF!
B12: RETIRADA DE PORTAS | C12: UN | D12: 5 | L12: DEM0005 | M12: =D12 -> 5 | N12: =VLOOKUP(L12,#REF!,7,0) -> #REF! | O12: =N12*M12 -> #REF!
B13: RETIRADA DE ÁRVORES | C13: UN | D13: 3 | L13: DEM0006 | M13: =D13 -> 3 | N13: =VLOOKUP(L13,#REF!,7,0) -> #REF! | O13: =N13*M13 -> #REF!
B14: REMOÇÃO DE DUTOS DE AR CONDICIONADO | C14: M | D14: 72 | L14: DEM0007 | M14: =D14 -> 72 | N14: =VLOOKUP(L14,#REF!,7,0) -> #REF! | O14: =N14*M14 -> #REF!
B15: REMOÇÃO DE TUBULAÇÃO DE INCÊNDIO | C15: M | D15: 25.6 | L15: DEM0008 | M15: =D15 -> 25.6 | N15: =VLOOKUP(L15,#REF!,7,0) -> #REF! | O15: =N15*M15 -> #REF!
B16: REMOÇÃO DE HIDRANTES | C16: UN | D16: 1 | L16: DEM0009 | M16: =D16 -> 1 | N16: =VLOOKUP(L16,#REF!,7,0) -> #REF! | O16: =N16*M16 -> #REF!
B18: DIVISÓRIAS
B20: SERVIÇOS | C20: UND | D20: QNTD | E20: TER | F20: 1º PAV | G20: 2º PAV | H20: 3º PAV | I20: 4º PAV | J20: 5º PAV | K20: COB
B21: DIVISÓRIA CEGA TIPO NAVAL COM MIOLO MINERAL, ACABAMENTO EM LAMINADO MELAMÍNICO, COM ESPESSURA DE 3,5 CM | C21: M² | D21: =SUM(E21:K21) -> 0.08 | J21: 0.08 | L21: DIV0001 | M21: =D21 -> 0.08 | N21: =VLOOKUP(L21,#REF!,7,0) -> #REF! | O21: =N21*M21 -> #REF!
B22: DIVISÓRIA ACÚSTICA REVESTIDA CEGA | C22: M² | D22: =SUM(E22:K22) -> 3.67 | J22: 3.67 | L22: DIV0002 | M22: =D22 -> 3.67 | N22: =VLOOKUP(L22,#REF!,7,0) -> #REF! | O22: =N22*M22 -> #REF!
B23: DIVISÓRIA ACÚSTICA REVESTIDA MEIO CEGA MEIO VIDRO | C23: M² | D23: =SUM(E23:K23) -> 4.12 | J23: 4.12 | L23: DIV0003 | M23: =D23 -> 4.12 | N23: =VLOOKUP(L23,#REF!,7,0) -> #REF! | O23: =N23*M23 -> #REF!
B24: DIVISÓRIA TIPO PISO/TETO EM VIDRO TEMPERADO SIMPLES, COM COLUNA ESTRUTURAL EM ALUMÍNIO EXTRUDADO | C24: M² | D24: =SUM(E24:K24) -> 0.82 | H24: 0.82 | L24: DIV0004 | M24: =D24 -> 0.82 | N24: =VLOOKUP(L24,#REF!,7,0) -> #REF! | O24: =N24*M24 -> #REF!
B25: DIVISÓRIA EM PLACAS DUPLAS DE GESSO ACARTONADO, RESISTÊNCIA AO FOGO 60 MINUTOS, ESPESSURA 120/70MM - 2ST / 2ST LM | C25: M² | D25: =SUM(E25:K25) -> 3.77 | F25: 1.87 | K25: 1.9 | L25: DIV0005 | M25: =D25 -> 3.77 | N25: =VLOOKUP(L25,#REF!,7,0) -> #REF! | O25: =N25*M25 -> #REF!
B27: PISOS
B29: SERVIÇOS | C29: UND | D29: QNTD | E29: TER | F29: 1º PAV | G29: 2º PAV | H29: 3º PAV | I29: 4º PAV | J29: 5º PAV | K29: COB
B30: PISO DE BORRACHA PASTILHADO, ESPESSURA 7MM, FIXADO COM COLA | C30: M² | D30: =SUM(E30:K30) -> 5.76 | F30: 5.76 | L30: PIS0001 | M30: =D30 -> 5.76 | N30: =VLOOKUP(L30,#REF!,7,0) -> #REF! | O30: =N30*M30 -> #REF!
B32: FORROS
B34: SERVIÇOS | C34: UND | D34: QNTD | E34: TER | F34: 1º PAV | G34: 2º PAV | H34: 3º PAV | I34: 4º PAV | J34: 5º PAV | K34: COB
B35: FORRO EM FIBRA MINERAL COM PLACAS ACÚSTICAS REMOVÍVEIS DE 625MM X 625MM | C35: M² | D35: 894 | L35: FOR0001 | M35: =D35 -> 894 | N35: =VLOOKUP(L35,#REF!,7,0) -> #REF! | O35: =N35*M35 -> #REF!
B37: PORTAS
B39: SERVIÇOS | C39: UND | D39: QNTD | E39: TER | F39: 1º PAV | G39: 2º PAV | H39: 3º PAV | I39: 4º PAV | J39: 5º PAV | K39: COB
B40: PORTA CORTA-FOGO CLASSE P.90, COM BARRA ANTIPÂNICO NUMA FACE E MAÇANETA NA OUTRA, COMPLETA | C40: M² | D40: =SUM(E40:K40) -> 6 | F40: 1 | G40: 1 | H40: 1 | I40: 1 | J40: 1 | K40: 1 | L40: POR0001 | M40: =D40 -> 6 | N40: =VLOOKUP(L40,#REF!,7,0) -> #REF! | O40: =N40*M40 -> #REF!
B41: PORTA CORTA-FOGO P90 (DUAS FOLHAS) | C41: UN | D41: =SUM(E41:K41) -> 1 | E41: 1 | L41: POR0002 | M41: =D41 -> 1 | N41: =VLOOKUP(L41,#REF!,7,0) -> #REF! | O41: =N41*M41 -> #REF!
B42: ALÇAPÃO/TAMPA EM CHAPA DE FERRO COM PORTA CADEADO | C42: M² | D42: =SUM(E42:K42) -> 1 | K42: 1 | L42: POR0003 | M42: =D42 -> 1 | N42: =VLOOKUP(L42,#REF!,7,0) -> #REF! | O42: =N42*M42 -> #REF!
B43: PORTA DIVISÓRIA ACÚSTICA | C43: UN | D43: =SUM(E43:K43) -> 1 | J43: 1 | L43: POR0004 | M43: =D43 -> 1 | N43: =VLOOKUP(L43,#REF!,7,0) -> #REF! | O43: =N43*M43 -> #REF!
B44: PORTA DIVISÓRIA ACÚSTICA REVESTIDA | C44: UN | D44: =SUM(E44:K44) -> 10 | J44: 10 | L44: POR0005 | M44: =D44 -> 10 | N44: =VLOOKUP(L44,#REF!,7,0) -> #REF! | O44: =N44*M44 -> #REF!
B45: PORTA DE VIDRO TEMPERADO, 0,9X2,10M, ESPESSURA 10MM, INCLUSIVE ACESSORIOS | C45: UN | D45: =SUM(E45:K45) -> 2 | H45: 2 | L45: POR0006 | M45: =D45 -> 2 | N45: =VLOOKUP(L45,#REF!,7,0) -> #REF! | O45: =N45*M45 -> #REF!
B47: SISTEMA DE DETECÇÃO E ALARME DE INCÊNDIO
B49: INFRAESTRUTURA
B50: SERVIÇOS | C50: UND | D50: QNTD | E50: TER | F50: 1º PAV | G50: 2º PAV | H50: 3º PAV | I50: 4º PAV | J50: 5º PAV | K50: COB
B51: CAIXA DE FERRO ESTAMPADA 4´ X 4´ | C51: UN | D51: 11 | L51: SDAI0001 | M51: =D51 -> 11 | N51: =VLOOKUP(L51,#REF!,7,0) -> #REF! | O51: =N51*M51 -> #REF!
B52: CAIXA DE FERRO ESTAMPADA OCTOGONAL DE 3´ X 3´ | C52: UN | D52: 42 | L52: SDAI0002 | M52: =D52 -> 42 | N52: =VLOOKUP(L52,#REF!,7,0) -> #REF! | O52: =N52*M52 -> #REF!
...

Sheet CRONOGRAMA
B1: CRONOGRAMA FÍSICO
B2: =OBJETO -> #REF! | D2: NOV | E2: DEZ | F2: JAN | G2: FEV | H2: MAR | I2: ABR | J2: MAI | K2: JUN | L2: JUL | M2: AGO | N2: SET | O2: OUT
B4: ITEM | C4: DESCRIÇÃO | D4: MÊS 1 | E4: MÊS 2 | F4: MÊS 3 | G4: MÊS 4 | H4: MÊS 5 | I4: MÊS 6 | J4: MÊS 7 | K4: MÊS 8 | L4: MÊS 9 | M4: MÊS 10 | N4: MÊS 11 | O4: MÊS 12 | P4: TOTAL
B5: 1.0 | C5: =VLOOKUP(B5,#REF!,6,0) -> #REF! | D5: =SUM(D6:D22)/SUM($D$6:$O$22) -> 0.011764706 | E5: =SUM(E6:E22)/SUM($D$6:$O$22) -> 0.12978711 | F5: =SUM(F6:F22)/SUM($D$6:$O$22) -> 0.18982073 | G5: =SUM(G6:G22)/SUM($D$6:$O$22) -> 0.081232493 | H5: =SUM(H6:H22)/SUM($D$6:$O$22) -> 0.091036415 | I5: =SUM(I6:I22)/SUM($D$6:$O$22) -> 0.043417367 | J5: =SUM(J6:J22)/SUM($D$6:$O$22) -> 0.056582633 | K5: =SUM(K6:K22)/SUM($D$6:$O$22) -> 0.049579832 | ... O5: =SUM(O6:O22)/SUM($D$6:$O$22) -> 0.060504202 | P5: =SUM(D5:O5) -> 1
B6: 1.1 | C6: =VLOOKUP(B6,#REF!,6,0) -> #REF! | D6: =1/5 -> 0.2 | E6: =1/5 -> 0.2 | F6: =1/5 -> 0.2 | G6: =1/5 -> 0.2 | H6: =1/5 -> 0.2 | P6: =SUM(D6:O6) -> 1
B7: 1.2 | C7: =VLOOKUP(B7,#REF!,6,0) -> #REF! | E7: 0.0051666667 | F7: 0.1615 | G7: 0.16666667 | H7: 0.16666667 | J7: 0.083333333 | K7: 0.083333333 | L7: 0.16666667 | M7: 0.083333333 | N7: 0.083333333 | P7: =SUM(D7:O7) -> 1
B8: 1.3 | C8: =VLOOKUP(B8,#REF!,6,0) -> #REF! | E8: 0.0051666667 | F8: 0.1615 | G8: 0.16666667 | H8: 0.16666667 | J8: 0.083333333 | K8: 0.083333333 | L8: 0.16666667 | M8: 0.083333333 | N8: 0.083333333 | P8: =SUM(D8:O8) -> 1
B9: 1.4 | C9: =VLOOKUP(B9,#REF!,6,0) -> #REF! | E9: 0.0051666667 | F9: 0.1615 | G9: 0.16666667 | H9: 0.16666667 | J9: 0.083333333 | K9: 0.083333333 | L9: 0.16666667 | M9: 0.083333333 | N9: 0.083333333 | P9: =SUM(D9:O9) -> 1
B10: 1.5 | C10: =VLOOKUP(B10,#REF!,6,0) -> #REF! | E10: 0.0051666667 | F10: 0.1615 | G10: 0.16666667 | H10: 0.16666667 | J10: 0.083333333 | K10: 0.083333333 | L10: 0.16666667 | M10: 0.083333333 | N10: 0.083333333 | P10: =SUM(D10:O10) -> 1
B11: 1.6 | C11: =VLOOKUP(B11,#REF!,6,0) -> #REF! | F11: 0.16666667 | H11: 0.16666667 | I11: 0.16666667 | K11: 0.16666667 | M11: 0.16666667 | N11: 0.16666667 | P11: =SUM(D11:O11) -> 1
B12: 1.7 | C12: =VLOOKUP(B12,#REF!,6,0) -> #REF! | E12: =(1/7)*0.6 -> 0.085714286 | F12: =((1/7)*0.4)+((1/7)*0.6) -> 0.14285714 | G12: =((1/7)*0.4) -> 0.057142857 | H12: =1/7 -> 0.14285714 | I12: =(1/7)*0.6 -> 0.085714286 | J12: =((1/7)*0.4) -> 0.057142857 | K12: =(1/7)*0.6 -> 0.085714286 | L12: =((1/7)*0.4) -> 0.057142857 | M12: =1/7 -> 0.14285714 | N12: =1/7 -> 0.14285714 | P12: =SUM(D12:O12) -> 1
B13: 1.8 | C13: =VLOOKUP(B13,#REF!,6,0) -> #REF! | E13: =((1/7)*0.4) -> 0.057142857 | F13: =((1/7)*0.6)+((1/7)*0.2) -> 0.11428571 | G13: =((1/7)*0.8) -> 0.11428571 | H13: =((1/7)*0.4) -> 0.057142857 | I13: =(1/7)*0.6 -> 0.085714286 | J13: =1/7 -> 0.14285714 | K13: =((1/7)*0.2) -> 0.028571429 | L13: =((1/7)*0.8) -> 0.11428571 | M13: =((1/7)*0.4) -> 0.057142857 | N13: =((1/7)*0.6)+((1/7)*0.2) -> 0.11428571 | O13: =((1/7)*0.8) -> 0.11428571 | P13: =SUM(D13:O13) -> 1
B14: 1.9 | C14: =VLOOKUP(B14,#REF!,6,0) -> #REF! | E14: =((1/7)*0.4) -> 0.057142857 | F14: =((1/7)*0.6)+((1/7)*0.2) -> 0.11428571 | G14: =((1/7)*0.8) -> 0.11428571 | H14: =((1/7)*0.4) -> 0.057142857 | I14: =(1/7)*0.6 -> 0.085714286 | J14: =1/7 -> 0.14285714 | K14: =((1/7)*0.2) -> 0.028571429 | L14: =((1/7)*0.8) -> 0.11428571 | M14: =((1/7)*0.4) -> 0.057142857 | N14: =((1/7)*0.6)+((1/7)*0.2) -> 0.11428571 | O14: =((1/7)*0.8) -> 0.11428571 | P14: =SUM(D14:O14) -> 1
B15: 1.10 | C15: =VLOOKUP(B15,#REF!,6,0) -> #REF! | F15: 1 | P15: =SUM(D15:O15) -> 1
B16: 1.11 | C16: =VLOOKUP(B16,#REF!,6,0) -> #REF! | E16: =((1/7)*0.4) -> 0.057142857 | F16: =((1/7)*0.6)+((1/7)*0.2) -> 0.11428571 | G16: =((1/7)*0.8) -> 0.11428571 | H16: =((1/7)*0.4) -> 0.057142857 | I16: =(1/7)*0.6 -> 0.085714286 | J16: =1/7 -> 0.14285714 | K16: =((1/7)*0.2) -> 0.028571429 | L16: =((1/7)*0.8) -> 0.11428571 | M16: =((1/7)*0.4) -> 0.057142857 | N16: =((1/7)*0.6)+((1/7)*0.2) -> 0.11428571 | O16: =((1/7)*0.8) -> 0.11428571 | P16: =SUM(D16:O16) -> 1
B17: 1.12 | C17: =VLOOKUP(B17,#REF!,6,0) -> #REF! | N17: 1 | P17: =SUM(D17:O17) -> 1
B18: 1.13 | C18: =VLOOKUP(B18,#REF!,6,0) -> #REF! | E18: 1 | P18: =SUM(D18:O18) -> 1
B19: 1.14 | C19: =VLOOKUP(B19,#REF!,6,0) -> #REF! | E19: =((1/7)*0.4) -> 0.057142857 | F19: =((1/7)*0.6)+((1/7)*0.2) -> 0.11428571 | G19: =((1/7)*0.8) -> 0.11428571 | H19: =((1/7)*0.4) -> 0.057142857 | I19: =(1/7)*0.6 -> 0.085714286 | J19: =1/7 -> 0.14285714 | K19: =((1/7)*0.2) -> 0.028571429 | L19: =((1/7)*0.8) -> 0.11428571 | M19: =((1/7)*0.4) -> 0.057142857 | N19: =((1/7)*0.6)+((1/7)*0.2) -> 0.11428571 | O19: =((1/7)*0.8) -> 0.11428571 | P19: =SUM(D19:O19) -> 1
B20: 1.15 | C20: =VLOOKUP(B20,#REF!,6,0) -> #REF! | E20: =((1/7)*0.5) -> 0.071428571 | F20: =((1/7)*0.5)+(1/7) -> 0.21428571 | H20: =1/7 -> 0.14285714 | I20: =1/7 -> 0.14285714 | K20: =1/7 -> 0.14285714 | M20: =1/7 -> 0.14285714 | N20: =((1/7)*0.5) -> 0.071428571 | O20: =((1/7)*0.5) -> 0.071428571 | P20: =SUM(D20:O20) -> 1
B21: 1.16 | C21: =VLOOKUP(B21,#REF!,6,0) -> #REF! | E21: 0.6 | F21: 0.4 | P21: =SUM(D21:O21) -> 1
B22: 1.17 | C22: =VLOOKUP(B22,#REF!,6,0) -> #REF! | N22: 0.5 | O22: 0.5 | P22: =SUM(D22:O22) -> 1
B23: 2.0 | C23: =VLOOKUP(B23,#REF!,6,0) -> #REF! | D23: =SUM(D24:D40)/SUM($D$6:$O$22) -> 0.083333333 | E23: =SUM(E24:E40)/SUM($D$6:$O$22) -> 0.024509804 | F23: =SUM(F24:F40)/SUM($D$6:$O$22) -> 0.024509804 | G23: =SUM(G24:G40)/SUM($D$6:$O$22) -> 0.024509804 | H23: =SUM(H24:H40)/SUM($D$6:$O$22) -> 0.024509804 | I23: =SUM(I24:I40)/SUM($D$6:$O$22) -> 0.024509804 | J23: =SUM(J24:J40)/SUM($D$6:$O$22) -> 0.024509804 | K23: =SUM(K24:K40)/SUM($D$6:$O$22) -> 0.024509804 | ... O23: =SUM(O24:O40)/SUM($D$6:$O$22) -> 0.024509804 | P23: =SUM(D23:O23) -> 0.35294118
B24: 2.1 | C24: =VLOOKUP(B24,#REF!,6,0) -> #REF! | D24: 1 | P24: =SUM(D24:O24) -> 1
B25: 2.2 | C25: =VLOOKUP(B25,#REF!,6,0) -> #REF! | D25: =1/12 -> 0.083333333 | E25: =1/12 -> 0.083333333 | F25: =1/12 -> 0.083333333 | G25: =1/12 -> 0.083333333 | H25: =1/12 -> 0.083333333 | I25: =1/12 -> 0.083333333 | J25: =1/12 -> 0.083333333 | K25: =1/12 -> 0.083333333 | ... O25: =1/12 -> 0.083333333 | P25: =SUM(D25:O25) -> 1
B26: 2.3 | C26: =VLOOKUP(B26,#REF!,6,0) -> #REF! | D26: =1/12 -> 0.083333333 | E26: =1/12 -> 0.083333333 | F26: =1/12 -> 0.083333333 | G26: =1/12 -> 0.083333333 | H26: =1/12 -> 0.083333333 | I26: =1/12 -> 0.083333333 | J26: =1/12 -> 0.083333333 | K26: =1/12 -> 0.083333333 | ... O26: =1/12 -> 0.083333333 | P26: =SUM(D26:O26) -> 1
B27: 2.4 | C27: =VLOOKUP(B27,#REF!,6,0) -> #REF! | D27: =1/12 -> 0.083333333 | E27: =1/12 -> 0.083333333 | F27: =1/12 -> 0.083333333 | G27: =1/12 -> 0.083333333 | H27: =1/12 -> 0.083333333 | I27: =1/12 -> 0.083333333 | J27: =1/12 -> 0.083333333 | K27: =1/12 -> 0.083333333 | ... O27: =1/12 -> 0.083333333 | P27: =SUM(D27:O27) -> 1
B28: 2.5 | C28: =VLOOKUP(B28,#REF!,6,0) -> #REF! | D28: =1/12 -> 0.083333333 | E28: =1/12 -> 0.083333333 | F28: =1/12 -> 0.083333333 | G28: =1/12 -> 0.083333333 | H28: =1/12 -> 0.083333333 | I28: =1/12 -> 0.083333333 | J28: =1/12 -> 0.083333333 | K28: =1/12 -> 0.083333333 | ... O28: =1/12 -> 0.083333333 | P28: =SUM(D28:O28) -> 1
B29: 2.6 | C29: =VLOOKUP(B29,#REF!,6,0) -> #REF! | D29: =1/12 -> 0.083333333 | E29: =1/12 -> 0.083333333 | F29: =1/12 -> 0.083333333 | G29: =1/12 -> 0.083333333 | H29: =1/12 -> 0.083333333 | I29: =1/12 -> 0.083333333 | J29: =1/12 -> 0.083333333 | K29: =1/12 -> 0.083333333 | ... O29: =1/12 -> 0.083333333 | P29: =SUM(D29:O29) -> 1

Sheet CRONOGRAMA FF
B1: CRONOGRAMA FÍSICO FINANCEIRO
B2: =OBJETO -> #REF!
B4: ITEM | C4: DESCRIÇÃO | D4: R$ TOTAL | E4: MÊS 1 | F4: MÊS 2 | G4: MÊS 3 | H4: MÊS 4 | I4: MÊS 5 | J4: MÊS 6 | K4: MÊS 7 | L4: MÊS 8 | M4: MÊS 9 | N4: MÊS 10 | O4: MÊS 11 | P4: MÊS 12
B5: 1.0 | C5: =VLOOKUP(B5,#REF!,6,0) -> #REF! | D5: =SUM(D6:D22) -> #REF! | E5: =SUM(E6:E22) -> #REF! | F5: =SUM(F6:F22) -> #REF! | G5: =SUM(G6:G22) -> #REF! | H5: =SUM(H6:H22) -> #REF! | I5: =SUM(I6:I22) -> #REF! | J5: =SUM(J6:J22) -> #REF! | K5: =SUM(K6:K22) -> #REF! | ... P5: =SUM(P6:P22) -> #REF! | Q5: =SUM(E5:P5)-D5 -> #REF!
B6: 1.1 | C6: =VLOOKUP(B6,#REF!,6,0) -> #REF! | D6: =VLOOKUP(B6,#REF!,10,0) -> #REF! | E6: =$D6*CRONOGRAMA!D6 -> #REF! | F6: =$D6*CRONOGRAMA!E6 -> #REF! | G6: =$D6*CRONOGRAMA!F6 -> #REF! | H6: =$D6*CRONOGRAMA!G6 -> #REF! | I6: =$D6*CRONOGRAMA!H6 -> #REF! | J6: =$D6*CRONOGRAMA!I6 -> #REF! | K6: =$D6*CRONOGRAMA!J6 -> #REF! | L6: =$D6*CRONOGRAMA!K6 -> #REF! | ... P6: =$D6*CRONOGRAMA!O6 -> #REF! | Q6: =SUM(E6:P6)=D6 -> #REF!
B7: 1.2 | C7: =VLOOKUP(B7,#REF!,6,0) -> #REF! | D7: =VLOOKUP(B7,#REF!,10,0) -> #REF! | E7: =$D7*CRONOGRAMA!D7 -> #REF! | F7: =$D7*CRONOGRAMA!E7 -> #REF! | G7: =$D7*CRONOGRAMA!F7 -> #REF! | H7: =$D7*CRONOGRAMA!G7 -> #REF! | I7: =$D7*CRONOGRAMA!H7 -> #REF! | J7: =$D7*CRONOGRAMA!I7 -> #REF! | K7: =$D7*CRONOGRAMA!J7 -> #REF! | L7: =$D7*CRONOGRAMA!K7 -> #REF! | ... P7: =$D7*CRONOGRAMA!O7 -> #REF! | Q7: =SUM(E7:P7)=D7 -> #REF!
B8: 1.3 | C8: =VLOOKUP(B8,#REF!,6,0) -> #REF! | D8: =VLOOKUP(B8,#REF!,10,0) -> #REF! | E8: =$D8*CRONOGRAMA!D8 -> #REF! | F8: =$D8*CRONOGRAMA!E8 -> #REF! | G8: =$D8*CRONOGRAMA!F8 -> #REF! | H8: =$D8*CRONOGRAMA!G8 -> #REF! | I8: =$D8*CRONOGRAMA!H8 -> #REF! | J8: =$D8*CRONOGRAMA!I8 -> #REF! | K8: =$D8*CRONOGRAMA!J8 -> #REF! | L8: =$D8*CRONOGRAMA!K8 -> #REF! | ... P8: =$D8*CRONOGRAMA!O8 -> #REF! | Q8: =SUM(E8:P8)=D8 -> #REF!
B9: 1.4 | C9: =VLOOKUP(B9,#REF!,6,0) -> #REF! | D9: =VLOOKUP(B9,#REF!,10,0) -> #REF! | E9: =$D9*CRONOGRAMA!D9 -> #REF! | F9: =$D9*CRONOGRAMA!E9 -> #REF! | G9: =$D9*CRONOGRAMA!F9 -> #REF! | H9: =$D9*CRONOGRAMA!G9 -> #REF! | I9: =$D9*CRONOGRAMA!H9 -> #REF! | J9: =$D9*CRONOGRAMA!I9 -> #REF! | K9: =$D9*CRONOGRAMA!J9 -> #REF! | L9: =$D9*CRONOGRAMA!K9 -> #REF! | ... P9: =$D9*CRONOGRAMA!O9 -> #REF! | Q9: =SUM(E9:P9)=D9 -> #REF!
B10: 1.5 | C10: =VLOOKUP(B10,#REF!,6,0) -> #REF! | D10: =VLOOKUP(B10,#REF!,10,0) -> #REF! | E10: =$D10*CRONOGRAMA!D10 -> #REF! | F10: =$D10*CRONOGRAMA!E10 -> #REF! | G10: =$D10*CRONOGRAMA!F10 -> #REF! | H10: =$D10*CRONOGRAMA!G10 -> #REF! | I10: =$D10*CRONOGRAMA!H10 -> #REF! | J10: =$D10*CRONOGRAMA!I10 -> #REF! | K10: =$D10*CRONOGRAMA!J10 -> #REF! | L10: =$D10*CRONOGRAMA!K10 -> #REF! | ... P10: =$D10*CRONOGRAMA!O10 -> #REF! | Q10: =SUM(E10:P10)=D10 -> #REF!
B11: 1.6 | C11: =VLOOKUP(B11,#REF!,6,0) -> #REF! | D11: =VLOOKUP(B11,#REF!,10,0) -> #REF! | E11: =$D11*CRONOGRAMA!D11 -> #REF! | F11: =$D11*CRONOGRAMA!E11 -> #REF! | G11: =$D11*CRONOGRAMA!F11 -> #REF! | H11: =$D11*CRONOGRAMA!G11 -> #REF! | I11: =$D11*CRONOGRAMA!H11 -> #REF! | J11: =$D11*CRONOGRAMA!I11 -> #REF! | K11: =$D11*CRONOGRAMA!J11 -> #REF! | L11: =$D11*CRONOGRAMA!K11 -> #REF! | ... P11: =$D11*CRONOGRAMA!O11 -> #REF! | Q11: =SUM(E11:P11)=D11 -> #REF!
B12: 1.7 | C12: =VLOOKUP(B12,#REF!,6,0) -> #REF! | D12: =VLOOKUP(B12,#REF!,10,0) -> #REF! | E12: =$D12*CRONOGRAMA!D12 -> #REF! | F12: =$D12*CRONOGRAMA!E12 -> #REF! | G12: =$D12*CRONOGRAMA!F12 -> #REF! | H12: =$D12*CRONOGRAMA!G12 -> #REF! | I12: =$D12*CRONOGRAMA!H12 -> #REF! | J12: =$D12*CRONOGRAMA!I12 -> #REF! | K12: =$D12*CRONOGRAMA!J12 -> #REF! | L12: =$D12*CRONOGRAMA!K12 -> #REF! | ... P12: =$D12*CRONOGRAMA!O12 -> #REF! | Q12: =SUM(E12:P12)=D12 -> #REF!
B13: 1.8 | C13: =VLOOKUP(B13,#REF!,6,0) -> #REF! | D13: =VLOOKUP(B13,#REF!,10,0) -> #REF! | E13: =$D13*CRONOGRAMA!D13 -> #REF! | F13: =$D13*CRONOGRAMA!E13 -> #REF! | G13: =$D13*CRONOGRAMA!F13 -> #REF! | H13: =$D13*CRONOGRAMA!G13 -> #REF! | I13: =$D13*CRONOGRAMA!H13 -> #REF! | J13: =$D13*CRONOGRAMA!I13 -> #REF! | K13: =$D13*CRONOGRAMA!J13 -> #REF! | L13: =$D13*CRONOGRAMA!K13 -> #REF! | ... P13: =$D13*CRONOGRAMA!O13 -> #REF! | Q13: =SUM(E13:P13)=D13 -> #REF!
B14: 1.9 | C14: =VLOOKUP(B14,#REF!,6,0) -> #REF! | D14: =VLOOKUP(B14,#REF!,10,0) -> #REF! | E14: =$D14*CRONOGRAMA!D14 -> #REF! | F14: =$D14*CRONOGRAMA!E14 -> #REF! | G14: =$D14*CRONOGRAMA!F14 -> #REF! | H14: =$D14*CRONOGRAMA!G14 -> #REF! | I14: =$D14*CRONOGRAMA!H14 -> #REF! | J14: =$D14*CRONOGRAMA!I14 -> #REF! | K14: =$D14*CRONOGRAMA!J14 -> #REF! | L14: =$D14*CRONOGRAMA!K14 -> #REF! | ... P14: =$D14*CRONOGRAMA!O14 -> #REF! | Q14: =SUM(E14:P14)=D14 -> #REF!
B15: 1.10 | C15: =VLOOKUP(B15,#REF!,6,0) -> #REF! | D15: =VLOOKUP(B15,#REF!,10,0) -> #REF! | E15: =$D15*CRONOGRAMA!D15 -> #REF! | F15: =$D15*CRONOGRAMA!E15 -> #REF! | G15: =$D15*CRONOGRAMA!F15 -> #REF! | H15: =$D15*CRONOGRAMA!G15 -> #REF! | I15: =$D15*CRONOGRAMA!H15 -> #REF! | J15: =$D15*CRONOGRAMA!I15 -> #REF! | K15: =$D15*CRONOGRAMA!J15 -> #REF! | L15: =$D15*CRONOGRAMA!K15 -> #REF! | ... P15: =$D15*CRONOGRAMA!O15 -> #REF! | Q15: =SUM(E15:P15)=D15 -> #REF!
B16: 1.11 | C16: =VLOOKUP(B16,#REF!,6,0) -> #REF! | D16: =VLOOKUP(B16,#REF!,10,0) -> #REF! | E16: =$D16*CRONOGRAMA!D16 -> #REF! | F16: =$D16*CRONOGRAMA!E16 -> #REF! | G16: =$D16*CRONOGRAMA!F16 -> #REF! | H16: =$D16*CRONOGRAMA!G16 -> #REF! | I16: =$D16*CRONOGRAMA!H16 -> #REF! | J16: =$D16*CRONOGRAMA!I16 -> #REF! | K16: =$D16*CRONOGRAMA!J16 -> #REF! | L16: =$D16*CRONOGRAMA!K16 -> #REF! | ... P16: =$D16*CRONOGRAMA!O16 -> #REF! | Q16: =SUM(E16:P16)=D16 -> #REF!
B17: 1.12 | C17: =VLOOKUP(B17,#REF!,6,0) -> #REF! | D17: =VLOOKUP(B17,#REF!,10,0) -> #REF! | E17: =$D17*CRONOGRAMA!D17 -> #REF! | F17: =$D17*CRONOGRAMA!E17 -> #REF! | G17: =$D17*CRONOGRAMA!F17 -> #REF! | H17: =$D17*CRONOGRAMA!G17 -> #REF! | I17: =$D17*CRONOGRAMA!H17 -> #REF! | J17: =$D17*CRONOGRAMA!I17 -> #REF! | K17: =$D17*CRONOGRAMA!J17 -> #REF! | L17: =$D17*CRONOGRAMA!K17 -> #REF! | ... P17: =$D17*CRONOGRAMA!O17 -> #REF! | Q17: =SUM(E17:P17)=D17 -> #REF!
... B22: 1.17 | C22: =VLOOKUP(B22,#REF!,6,0) -> #REF! | D22: =VLOOKUP(B22,#REF!,10,0) -> #REF! | E22: =$D22*CRONOGRAMA!D22 -> #REF! | F22: =$D22*CRONOGRAMA!E22 -> #REF! | G22: =$D22*CRONOGRAMA!F22 -> #REF! | H22: =$D22*CRONOGRAMA!G22 -> #REF! | I22: =$D22*CRONOGRAMA!H22 -> #REF! | J22: =$D22*CRONOGRAMA!I22 -> #REF! | K22: =$D22*CRONOGRAMA!J22 -> #REF! | L22: =$D22*CRONOGRAMA!K22 -> #REF! | ... P22: =$D22*CRONOGRAMA!O22 -> #REF! | Q22: =SUM(E22:P22)=D22 -> #REF!
B23: 2.0 | C23: =VLOOKUP(B23,#REF!,6,0) -> #REF! | D23: =SUM(D24:D29) -> #REF! | E23: =SUM(E24:E29) -> #REF! | F23: =SUM(F24:F29) -> #REF! | G23: =SUM(G24:G29) -> #REF! | H23: =SUM(H24:H29) -> #REF! | I23: =SUM(I24:I29) -> #REF! | J23: =SUM(J24:J29) -> #REF! | K23: =SUM(K24:K29) -> #REF! | ... P23: =SUM(P24:P29) -> #REF! | Q23: =SUM(E23:P23)=D23 -> #REF!
B24: 2.1 | C24: =VLOOKUP(B24,#REF!,6,0) -> #REF! | D24: =VLOOKUP(B24,#REF!,10,0) -> #REF! | E24: =$D24*CRONOGRAMA!D24 -> #REF! | F24: =$D24*CRONOGRAMA!E24 -> #REF! | G24: =$D24*CRONOGRAMA!F24 -> #REF! | H24: =$D24*CRONOGRAMA!G24 -> #REF! | I24: =$D24*CRONOGRAMA!H24 -> #REF! | J24: =$D24*CRONOGRAMA!I24 -> #REF! | K24: =$D24*CRONOGRAMA!J24 -> #REF! | L24: =$D24*CRONOGRAMA!K24 -> #REF! | ... P24: =$D24*CRONOGRAMA!O24 -> #REF! | Q24: =SUM(E24:P24)=D24 -> #REF!
B25: 2.2 | C25: =VLOOKUP(B25,#REF!,6,0) -> #REF! | D25: =VLOOKUP(B25,#REF!,10,0) -> #REF! | E25: =$D25*CRONOGRAMA!D25 -> #REF! | F25: =$D25*CRONOGRAMA!E25 -> #REF! | G25: =$D25*CRONOGRAMA!F25 -> #REF! | H25: =$D25*CRONOGRAMA!G25 -> #REF! | I25: =$D25*CRONOGRAMA!H25 -> #REF! | J25: =$D25*CRONOGRAMA!I25 -> #REF! | K25: =$D25*CRONOGRAMA!J25 -> #REF! | L25: =$D25*CRONOGRAMA!K25 -> #REF! | ... P25: =$D25*CRONOGRAMA!O25 -> #REF! | Q25: =SUM(E25:P25)=D25 -> #REF!
B26: 2.3 | C26: =VLOOKUP(B26,#REF!,6,0) -> #REF! | D26: =VLOOKUP(B26,#REF!,10,0) -> #REF! | E26: =$D26*CRONOGRAMA!D26 -> #REF! | F26: =$D26*CRONOGRAMA!E26 -> #REF! | G26: =$D26*CRONOGRAMA!F26 -> #REF! | H26: =$D26*CRONOGRAMA!G26 -> #REF! | I26: =$D26*CRONOGRAMA!H26 -> #REF! | J26: =$D26*CRONOGRAMA!I26 -> #REF! | K26: =$D26*CRONOGRAMA!J26 -> #REF! | L26: =$D26*CRONOGRAMA!K26 -> #REF! | ... P26: =$D26*CRONOGRAMA!O26 -> #REF! | Q26: =SUM(E26:P26)=D26 -> #REF!
B27: 2.4 | C27: =VLOOKUP(B27,#REF!,6,0) -> #REF! | D27: =VLOOKUP(B27,#REF!,10,0) -> #REF! | E27: =$D27*CRONOGRAMA!D27 -> #REF! | F27: =$D27*CRONOGRAMA!E27 -> #REF! | G27: =$D27*CRONOGRAMA!F27 -> #REF! | H27: =$D27*CRONOGRAMA!G27 -> #REF! | I27: =$D27*CRONOGRAMA!H27 -> #REF! | J27: =$D27*CRONOGRAMA!I27 -> #REF! | K27: =$D27*CRONOGRAMA!J27 -> #REF! | L27: =$D27*CRONOGRAMA!K27 -> #REF! | ... P27: =$D27*CRONOGRAMA!O27 -> #REF! | Q27: =SUM(E27:P27)=D27 -> #REF!
B28: 2.5 | C28: =VLOOKUP(B28,#REF!,6,0) -> #REF! | D28: =VLOOKUP(B28,#REF!,10,0) -> #REF! | E28: =$D28*CRONOGRAMA!D28 -> #REF! | F28: =$D28*CRONOGRAMA!E28 -> #REF! | G28: =$D28*CRONOGRAMA!F28 -> #REF! | H28: =$D28*CRONOGRAMA!G28 -> #REF! | I28: =$D28*CRONOGRAMA!H28 -> #REF! | J28: =$D28*CRONOGRAMA!I28 -> #REF! | K28: =$D28*CRONOGRAMA!J28 -> #REF! | L28: =$D28*CRONOGRAMA!K28 -> #REF! | ... P28: =$D28*CRONOGRAMA!O28 -> #REF! | Q28: =SUM(E28:P28)=D28 -> #REF!
B29: 2.6 | C29: =VLOOKUP(B29,#REF!,6,0) -> #REF! | D29: =VLOOKUP(B29,#REF!,10,0) -> #REF! | E29: =$D29*CRONOGRAMA!D29 -> #REF! | F29: =$D29*CRONOGRAMA!E29 -> #REF! | G29: =$D29*CRONOGRAMA!F29 -> #REF! | H29: =$D29*CRONOGRAMA!G29 -> #REF! | I29: =$D29*CRONOGRAMA!H29 -> #REF! | J29: =$D29*CRONOGRAMA!I29 -> #REF! | K29: =$D29*CRONOGRAMA!J29 -> #REF! | L29: =$D29*CRONOGRAMA!K29 -> #REF! | ... P29: =$D29*CRONOGRAMA!O29 -> #REF! | Q29: =SUM(E29:P29)=D29 -> #REF!
C30: CUSTOS DIRETOS | D30: =D5 -> #REF! | E30: =E5 -> #REF! | F30: =F5 -> #REF! | G30: =G5 -> #REF! | H30: =H5 -> #REF! | I30: =I5 -> #REF! | J30: =J5 -> #REF! | K30: =K5 -> #REF! | ... P30: =P5 -> #REF!
C31: CUSTOS INDIRETOS | D31: =D23 -> #REF! | E31: =E23 -> #REF! | F31: =F23 -> #REF! | G31: =G23 -> #REF! | H31: =H23 -> #REF! | I31: =I23 -> #REF! | J31: =J23 -> #REF! | K31: =K23 -> #REF! | ... P31: =P23 -> #REF!
B32: TOTAL | D32: =SUM(D30:D31) -> #REF! | E32: =SUM(E30:E31) -> #REF! | F32: =SUM(F30:F31) -> #REF! | G32: =SUM(G30:G31) -> #REF! | H32: =SUM(H30:H31) -> #REF! | I32: =SUM(I30:I31) -> #REF! | J32: =SUM(J30:J31) -> #REF! | K32: =SUM(K30:K31) -> #REF! | ... P32: =SUM(P30:P31) -> #REF!
D33: =D32/$D$32 -> #REF! | E33: =E32/$D$32 -> #REF! | F33: =F32/$D$32 -> #REF! | G33: =G32/$D$32 -> #REF! | H33: =H32/$D$32 -> #REF! | I33: =I32/$D$32 -> #REF! | J33: =J32/$D$32 -> #REF! | K33: =K32/$D$32 -> #REF! | ... P33: =P32/$D$32 -> #REF!
D34: #REF!
D35: =SUM(E32:P32)=D32 -> #REF!

Sheet BDI
B1: COMPOSIÇÃO DO BDI
B2: =OBJETO -> #REF!
B5: ITEM COMPONENTE | D5: MÍNIMO (%) | E5: MÉDIO (%) | F5: MÁXIMO (%) | G5: PROPOSTO (%)
B6: AC | C6: ADM. CENTRAL | D6: 0.03 | E6: 0.04 | F6: 0.055 | G6: 0.2
B7: R | C7: RISCOS | D7: 0.0097 | E7: 0.0127 | F7: 0.0127 | G7: 0.02
B8: S + G | C8: SEGUROS E GARANTIAS | D8: 0.008 | E8: 0.008 | F8: 0.01 | G8: =F8 -> 0.01
B9: DF | C9: DESPESAS FINANCEIRAS | D9: 0.0059 | E9: 0.0123 | F9: 0.0139 | G9: =F9 -> 0.0139
B10: L | C10: LUCRO | D10: 0.0615 | E10: 0.074 | F10: 0.0896 | G10: 0.1
B11: I | C11: TRIBUTOS (PIS + CONFIS + ISS) | D11: 0.0365 | E11: 0.0575 | F11: 0.0665 | G11: =F11 -> 0.0665
C12: CPPRB | D12: 0.045 | E12: 0.045 | F12: 0.045 | G12: =F12 -> 0.045
F14: BDI | G14: 0.34
B17: Fórmula utilizada:
B21: **Conforme ACÓRDÃO Nº 2622/2013 – TCU – Plenário
