Workbook
Name ÁREA: #REF!
Name ÁREA: #REF!
Name ÁREA: #REF!
Name ÁREA_CONST: #REF!
Name ÁREA_CONST: #REF!
Name ÁREA_CONST: #REF!
Name BDI: BDI!$G$14
Name CUSTO_OBRA: #REF!
Name CUSTO_OBRA: #REF!
Name CUSTO_OBRA: #REF!
Name CUSTO_VENDA: #REF!
Name CUSTO_VENDA: #REF!
Name CUSTO_VENDA: #REF!
Name DURAÇÃO: #REF!
Name DURAÇÃO: #REF!
Name DURAÇÃO: #REF!
Name ENCARGOS_HORISTA: #REF!
Name ENCARGOS_HORISTA: #REF!
Name ENCARGOS_HORISTA: #REF!
Name ENCARGOS_MENSALISTA: #REF!
Name ENCARGOS_MENSALISTA: #REF!
Name ENCARGOS_MENSALISTA: #REF!
Name OBJETO: #REF!
Name OBJETO: #REF!
Name OBJETO: #REF!

Sheet ORÇ. TELHADOS REV
D1: PLANILHA ORÇAMENTÁRIA - CUSTOS DE OBRA
D2: OBRAS DE ADEQUAÇÃO FAPESP
D3: OBJETO: | F3: =D2 -> OBRAS DE ADEQUAÇÃO FAPESP | I3: DATA: | J3: 45736
D4: CLIENTE: | F4: FAPESP | I4: FONTE : | J4: CDHU
D5: DESCRIÇÃO: | F5: PROJETO PARA COBERTURA METÁLICA | I5: VERSÃO: | J5: 196 SEM DESONERAÇÃO
D6: ENDEREÇO: | F6: RUA PIO XI 1500 | I6: BDI: | J6: 0.34
D7: REVISÃO N° : | F7: 03 | J7: SINAPI - 01/25
A9: PLANILHA - COBERTURA FAPESP
B10: ITEM | C10: ORIGEM | D10: CÓDIGO | F10: DISCRIMINAÇÃO | G10: UNIDADE | H10: QTDADE | I10: VALOR UNITÁRIO | J10: VALOR TOTAL
B11: 1 | C11: SERVIÇOS PRELIMINARES / GERAIS | J11: =J12+J21+J37+J17+J30+J35+J27 -> 471155.83
B12: 1.1 | C12: PROJETO DETALHADO | J12: =SUM(J13:J16) -> 16985.63
B13: 1.1.1 | C13: CDHU | D13: 01.17.031 | E13: =B13&$C$270 -> 1.1.1PÓS OBRA | F13: Projeto executivo de arquitetura em formato A1 | G13: Unidade | H13: 3 | I13: 3419.6 | J13: =SUM(I13*H13) -> 10258.8
B14: 1.1.2 | C14: CDHU | D14: 01.17.111 | E14: =B14&$C$270 -> 1.1.2PÓS OBRA | F14: Projeto executivo de instalações elétricas em formato A1 | G14: Unidade | H14: 1 | I14: 1195.58 | J14: =SUM(I14*H14) -> 1195.58
B15: 1.1.3 | C15: CDHU | D15: 01.17.151 | E15: =B15&$C$270 -> 1.1.3PÓS OBRA | F15: Projeto executivo de climatização em formato A1 | G15: Unidade | H15: 1 | I15: 2301.27 | J15: =SUM(I15*H15) -> 2301.27
B16: 1.1.4 | C16: CDHU | D16: 01.17.071 | F16: Projeto executivo de instalações hidráulicas em formato A1 | G16: Unidade | H16: 3 | I16: 1076.66 | J16: =SUM(I16*H16) -> 3229.98
B17: 1.2 | C17: EQUIPE TECNICA DE OBRAS | J17: =SUM(J18:J20) -> 157028.34
B18: 1.2.1 | C18: SINAPI | D18: 2707 | F18: Engenheiro civil de obra pleno (horista) | G18: H | H18: 288 | I18: 128.55 | J18: =SUM(I18*H18) -> 37022.4
B19: 1.2.2 | C19: SINAPI | D19: 40818 | F19: Encarregado geral de obras (mensalista) | G19: MES | H19: 6 | I19: 7940.24 | J19: =SUM(I19*H19) -> 47641.44
B20: 1.2.3 | C20: SINAPI | D20: 40944 | F20: Tecnico em seguranca do trabalho (mensalista) | G20: MES | H20: 6 | I20: 12060.75 | J20: =SUM(I20*H20) -> 72364.5
B21: 1.3 | C21: CANTEIRO DE OBRA | J21: =SUM(J22:J26) -> 23910.882
B22: 1.3.1 | C22: CDHU | D22: 02.03.120 | F22: Tapume fixo para fechamento de áreas, com portão | G22: M2 | H22: 40 | I22: 111.93 | J22: =SUM(I22*H22) -> 4477.2
B23: 1.3.2 | C23: CDHU | D23: 02.03.060 | F23: Proteção de fachada com tela de nylon | G23: M2 | H23: 40 | I23: 26.87 | J23: =SUM(I23*H23) -> 1074.8
B24: 1.3.3 | C24: CDHU | D24: 02.03.110 | F24: Tapume móvel para fechamento de áreas | G24: M2 | H24: 35.75 | I24: 112.31 | J24: =SUM(I24*H24) -> 4015.0825
B25: 1.3.4 | C25: CDHU | D25: 02.03.240 | F25: Proteção de piso com tecido de aniagem e gesso | G25: M2 | H25: 750 | I25: 18.2 | J25: =SUM(I25*H25) -> 13650
B26: 1.3.5 | C26: CDHU | D26: 02.08.040 | F26: Placa em lona com impressão digital e requadro em metalon | G26: M2 | H26: 2 | I26: 346.9 | J26: =SUM(I26*H26) -> 693.8
B27: 1.4 | C27: LINHA DE VIDA | J27: =SUM(J28:J29) -> 15438
B28: 1.4.1 | C28: SINAPI | D28: 88315 | E28: SERRALHEIRO COM ENCARGOS COMPLEMENTARES | F28: SERRALHEIRO COM ENCARGOS COMPLEMENTARES | G28: H | H28: 170.64588 | I28: 34.5 | J28: =I28*H28 -> 5887.2828
B29: 1.4.2 | C29: SINAPI | D29: 41953 | F29: CABO DE ACO GALVANIZADO, DIAMETRO 12,7 MM (1/2"), COM ALMA DE ACO CABO INDEPENDENTE 6 X 25 F | G29: KG | H29: 141.66 | I29: 67.42 | J29: =I29*H29 -> 9550.7172
B30: 1.5 | C30: SERVIÇO DE IÇAMENTO DE MATERIAL (ENTULHO E MONTAGEM) | J30: =SUM(J31:J34) -> 190811.7
B31: 1.5.1 | C31: CDHU | D31: 02.05.080 | E31: =B31&$C$47 -> 1.5.1C06 | F31: Montagem e desmontagem de andaime torre metálica com altura superior a 10 m | G31: M | H31: 500 | I31: 32.93 | J31: =SUM(I31*H31) -> 16465
B32: 1.5.2 | C32: CDHU | D32: 02.06.040 | E32: =B32&$C$47 -> 1.5.2C06 | F32: Locação de plataforma elevatória articulada, com altura aproximada de 20 m, capacidade de carga de 227 kg, diesel | G32: UNMES | H32: 6 | I32: 24609.74 | J32: =SUM(I32*H32) -> 147658.44
B33: 1.5.3 | C33: SINAPI | D33: 36487 | E33: =B33&$C$47 -> 1.5.3C06 | F33: Guincho eletrico de coluna, capacidade 400 kg, com moto freio, motor trifasico de 1,25 cv | G33: UN | H33: 1 | I33: 4363.58 | J33: =SUM(I33*H33) -> 4363.58
B34: 1.5.4 | C34: SINAPI | D34: 40981 | E34: =B34&$C$47 -> 1.5.4C06 | F34: Operador de guincho ou guincheiro (mensalista) | G34: MES | H34: 6 | I34: 3720.78 | J34: =SUM(I34*H34) -> 22324.68
B35: 1.6 | C35: SPDA | J35: =SUM(J36) -> 56604
B36: 1.6.1 | C36: Proprio | D36: 1 | F36: Serviço de desinstalação e reinstalação do sistema de SPDA existente, incluindo fornecimento de materiais, mão de obra especializada e toda a documentação necessária, como projeto "As Built" e laudos de testes de conformidade. | G36: UN | H36: 1 | I36: 56604 | J36: =SUM(I36*H36) -> 56604
B37: 1.7 | C37: MATERIAIS DIVERSOS | J37: =SUM(J38:J45) -> 10377.28
B38: 1.7.1 | C38: CDHU | D38: 11.18.060 | F38: Lona plástica - 150 micron | G38: M2 | H38: 750 | I38: 1.49 | J38: =SUM(I38*H38) -> 1117.5
B39: 1.7.2 | C39: CDHU | D39: 02.03.500 | F39: Proteção em madeira e lona plástica para equipamento mecânico ou informática - para obras de reforma | G39: M3 | H39: 2 | I39: 100.36 | J39: =SUM(I39*H39) -> 200.72
B40: 1.7.3 | C40: CDHU | D40: 02.03.030 | F40: Proteção de superfícies em geral com plástico bolha | G40: M2 | H40: 750 | I40: 2.71 | J40: =SUM(I40*H40) -> 2032.5
B41: 1.7.4 | C41: CDHU | D41: 49.06.030 | F41: Grelha hemisférica em ferro fundido de 3´ | G41: UN | H41: 16 | I41: 12.66 | J41: =SUM(I41*H41) -> 202.56
...

Sheet CR FIN R$
F1: R$ Total | G1: 30 DIAS | H1: 60 DIAS | I1: 90 DIAS | J1: 120 DIAS | K1: 150 DIAS | L1: 180 DIAS
A2: TROCA DO TELHADOS | B2: 180 dias | D2: 45698 | E2: 45877 | F2: =F3+F13+F19+F25+F31+F38+F45+F52+F59+F65+F72+F79 -> 1594790.7 | G2: =G3+G12+G79 -> 139200.41 | H2: =H3+H12+H79 -> 275386.01 | I2: =I3+I12+I79 -> 232721.92 | J2: =J3+J12+J79 -> 275567.59 | K2: =K3+K12+K79 -> 259157.88 | L2: =L3+L12+L79 -> 406644.05
A3: SERVIÇOS PRELIMINARES / GERAIS | F3: =SUM(F4:F11) -> 447644.16 | G3: =SUM(G4:G11) -> 105686.29 | H3: =SUM(H4:H11) -> 57070.775 | I3: =SUM(I4:I11) -> 57070.775 | J3: =SUM(J4:J11) -> 57070.775 | K3: =SUM(K4:K11) -> 57070.775 | L3: =SUM(L4:L11) -> 113674.77
A4: Detalhamento projeto | B4: 15 dias | D4: 45698 | E4: 45712 | F4: 16985.63 | G4: =F4 -> 16985.63
A5: Instalação / organização do canteiro / barracão | B5: 3 dias | D5: 45698 | E5: 45700 | F5: ='ORÇ. TELHADOS REV'!$J$21 -> 23910.882 | G5: =F5 -> 23910.882
A6: Equipamentos de segurança coletiva / linha de vida temporária | B6: 5 dias | C6: 4 | D6: 45701 | E6: 45705 | F6: ='ORÇ. TELHADOS REV'!$J$27/2 -> 7719 | G6: =F6 -> 7719
A7: Equipe Técnica | F7: ='ORÇ. TELHADOS REV'!$J$17 -> 157028.34 | G7: =$F$7/6 -> 26171.39 | H7: =$F$7/6 -> 26171.39 | I7: =$F$7/6 -> 26171.39 | J7: =$F$7/6 -> 26171.39 | K7: =$F$7/6 -> 26171.39 | L7: =$F$7/6 -> 26171.39
A8: Içamento/movimentação cargas | F8: 167300.03 | G8: =$F$8/6 -> 27883.338 | H8: =$F$8/6 -> 27883.338 | I8: =$F$8/6 -> 27883.338 | J8: =$F$8/6 -> 27883.338 | K8: =$F$8/6 -> 27883.338 | L8: =$F$8/6 -> 27883.338
A9: Materiais diversos | F9: ='ORÇ. TELHADOS REV'!$J$37 -> 10377.28 | G9: =$F$9/6 -> 1729.5467 | H9: =$F$9/6 -> 1729.5467 | I9: =$F$9/6 -> 1729.5467 | J9: =$F$9/6 -> 1729.5467 | K9: =$F$9/6 -> 1729.5467 | L9: =$F$9/6 -> 1729.5467
A10: Instalação de linha de vida permanente | B10: 5 dias | C10: 71 | D10: 45870 | E10: 45874 | F10: ='ORÇ. TELHADOS REV'!$J$27/2 -> 7719 | G10: =$F$10/6 -> 1286.5 | H10: =$F$10/6 -> 1286.5 | I10: =$F$10/6 -> 1286.5 | J10: =$F$10/6 -> 1286.5 | K10: =$F$10/6 -> 1286.5 | L10: =$F$10/6 -> 1286.5
A11: Reinstalação do SPDA | B11: 5 dias | C11: 17;23;30;37;44;51;57;64;71 | D11: 45870 | E11: 45874 | F11: 56604 | L11: =F11 -> 56604
A12: SERVIÇOS NOS TELHADOS | G12: =SUM(G13:G78) -> 33514.127 | H12: =SUM(H13:H78) -> 218315.23 | I12: =SUM(I13:I78) -> 175651.15 | J12: =SUM(J13:J78) -> 218496.82 | K12: =SUM(K13:K78) -> 202087.11 | L12: =SUM(L13:L78) -> 267886.37
A13: TELHADO C06 - 14,5m2 | B13: 8 dias | D13: 45706 | E13: 45713 | F13: 29109.406 | G13: =F13 -> 29109.406
A14: Remoção completa do telhado | B14: 1 dia | C14: 5 | D14: 45706 | E14: 45706
A15: Remoção / descarte de resíduos | B15: 1 dia | C15: 7 | D15: 45707 | E15: 45707
A16: Serviços na laje/vedações/ impermeabilização | B16: 3 dias | C16: 8 | D16: 45708 | E16: 45710
A17: Montagem da estrutura/ pintura | B17: 2 dias | C17: 9 | D17: 45711 | E17: 45712
A18: Instalação do telhamento/rufos/calhas/descidas | B18: 1 dia | C18: 3;10 | D18: 45713 | E18: 45713
A19: TELHADO A04 - 21,4 m2 (sem laje) | B19: 7 dias | D19: 45714 | E19: 45720 | F19: 20555.732 | G19: ='ORÇ. TELHADOS REV'!$J$211+'ORÇ. TELHADOS REV'!$J$213+'ORÇ. TELHADOS REV'!$J$216 -> 4404.7212 | H19: ='ORÇ. TELHADOS REV'!$J$219 -> 13277.058
A20: Desafixação do SPDA | B20: 1 dia | C20: 11 | D20: 45714 | E20: 45714
A21: Desmonte das telhas | B21: 1 dia | C21: 13 | D21: 45715 | E21: 45715
A22: Remoção / descarte de resíduos | B22: 1 dia | C22: 14 | D22: 45716 | E22: 45716
A23: Ajuste nas estruturas/vedações/impermeabilizações | B23: 3 dias | C23: 15 | D23: 45717 | E23: 45719
A24: Instalação do telhamento/rufos/calhas/descidas | B24: 1 dia | C24: 3;16 | D24: 45720 | E24: 45720
A25: TELHADO A03 - 25,3 m2 (sem laje) | B25: 5 dias | D25: 45720 | E25: 45724 | F25: 30919.638 | H25: =F25 -> 30919.638
A26: Desafixação do SPDA | B26: 1 dia | C26: 16 | D26: 45720 | E26: 45720
A27: Desmonte das telhas | B27: 1 dia | C27: 19 | D27: 45721 | E27: 45721
A28: Remoção / descarte de resíduos | B28: 1 dia | C28: 20 | D28: 45722 | E28: 45722
A29: Ajuste nas estruturas/vedações/impermeabilizações | B29: 1 dia | C29: 21 | D29: 45723 | E29: 45723
A30: Instalação do telhamento/rufos/calhas/descidas | B30: 1 dia | C30: 3;22 | D30: 45724 | E30: 45724
A31: TELHADO C05 - 82,5 m2 | B31: 20 dias | D31: 45724 | E31: 45743 | F31: 152542.15 | H31: =F31 -> 152542.15
A32: Desafixação do SPDA | B32: 1 dia | C32: 22 | D32: 45724 | E32: 45724
A33: Remoção do completa do telhado | B33: 3 dias | C33: 25 | D33: 45725 | E33: 45727
A34: Remoção / descarte de resíduos | B34: 1 dia | C34: 26 | D34: 45728 | E34: 45728
A35: Serviços na laje/vedações/ impermeabilização | B35: 5 dias | C35: 27 | D35: 45729 | E35: 45733
A36: Montagem / pintura da estrutura | B36: 5 dias | C36: 28 | D36: 45734 | E36: 45738
A37: Instalação do telhamento/rufos/calhas/descidas | B37: 5 dias | C37: 3;29 | D37: 45739 | E37: 45743
A38: TELHADO C04 - 95,6 m2 | B38: 20 dias | D38: 45744 | E38: 45763 | F38: 176516.92 | H38: 21576.383 | I38: ='ORÇ. TELHADOS REV'!$J$113+'ORÇ. TELHADOS REV'!$J$119+'ORÇ. TELHADOS REV'!$J$122 -> 154940.54
A39: Desafixação do SPDA / conduítes elétricos | B39: 1 dia | C39: 30 | D39: 45744 | E39: 45744
A40: Remoção do completa do telhado | B40: 3 dias | C40: 32 | D40: 45745 | E40: 45747
...

Sheet CR FIN %
A1: CRONOGRAMA FÍSICO-FINANCEIRO
A2: OBJETO: OBRAS DE ADEQUAÇÃO FAPESP
A3: CLIENTE: FAPESP
A4: DESCRIÇÃO: SERVIÇOS DE EXECUÇÃO DE OBRA PARA REFORMA DOS TELHADOS
A5: ENDEREÇO: RUA PIO XI, 1500
A6: REVISÃO N°: 0
F7: % Custo | G7: 30 DIAS | H7: 60 DIAS | I7: 90 DIAS | J7: 120 DIAS | K7: 150 DIAS | L7: 180 DIAS
A8: TROCA DO TELHADOS | B8: 180 dias | D8: 45698 | E8: 45877 | F8: =F9+F19+F25+F31+F37+F44+F51+F58+F65+F71+F78+F85 -> 1 | G8: =G9+G18+G85 -> 0.087284441 | H8: =H9+H18+H85 -> 0.17267846 | I8: =I9+I18+I85 -> 0.14592631 | J8: =J9+J18+J85 -> 0.17279232 | K8: =K9+K18+K85 -> 0.16250276 | L8: =L9+L18+L85 -> 0.25498271
A9: SERVIÇOS PRELIMINARES / GERAIS | F9: =SUM(F10:F17) -> 0.28069148 | G9: =SUM(G10:G17) -> 0.066269692 | H9: =SUM(H10:H17) -> 0.035785746 | I9: =SUM(I10:I17) -> 0.035785746 | J9: =SUM(J10:J17) -> 0.035785746 | K9: =SUM(K10:K17) -> 0.035785746 | L9: =SUM(L10:L17) -> 0.071278805
A10: Detalhamento projeto | B10: 15 dias | D10: 45698 | E10: 45712 | F10: ='CR FIN R$'!F4/'CR FIN R$'!$F$2 -> 0.010650695 | G10: =F10 -> 0.010650695
A11: Instalação / organização do canteiro / barracão | B11: 3 dias | D11: 45698 | E11: 45700 | F11: ='CR FIN R$'!F5/'CR FIN R$'!$F$2 -> 0.014993116 | G11: =F11 -> 0.014993116
A12: Equipamentos de segurança coletiva / linha de vida temporária | B12: 5 dias | C12: 4 | D12: 45701 | E12: 45705 | F12: ='CR FIN R$'!F6/'CR FIN R$'!$F$2 -> 0.0048401336 | G12: =F12 -> 0.0048401336
A13: Equipe Técnica | F13: ='CR FIN R$'!F7/'CR FIN R$'!$F$2 -> 0.098463291 | G13: =$F$13/6 -> 0.016410548 | H13: =$F$13/6 -> 0.016410548 | I13: =$F$13/6 -> 0.016410548 | J13: =$F$13/6 -> 0.016410548 | K13: =$F$13/6 -> 0.016410548 | L13: =$F$13/6 -> 0.016410548
A14: Içamento/movimentação cargas | F14: ='CR FIN R$'!F8/'CR FIN R$'!$F$2 -> 0.10490407 | G14: =$F$14/6 -> 0.017484011 | H14: =$F$14/6 -> 0.017484011 | I14: =$F$14/6 -> 0.017484011 | J14: =$F$14/6 -> 0.017484011 | K14: =$F$14/6 -> 0.017484011 | L14: =$F$14/6 -> 0.017484011
A15: Materiais diversos | F15: ='CR FIN R$'!F9/'CR FIN R$'!$F$2 -> 0.0065069855 | G15: =$F$15/6 -> 0.0010844976 | H15: =$F$15/6 -> 0.0010844976 | I15: =$F$15/6 -> 0.0010844976 | J15: =$F$15/6 -> 0.0010844976 | K15: =$F$15/6 -> 0.0010844976 | L15: =$F$15/6 -> 0.0010844976
A16: Instalação de linha de vida permanente | B16: 5 dias | C16: 71 | D16: 45870 | E16: 45874 | F16: ='CR FIN R$'!F10/'CR FIN R$'!$F$2 -> 0.0048401336 | G16: =$F$16/6 -> 0.00080668893 | H16: =$F$16/6 -> 0.00080668893 | I16: =$F$16/6 -> 0.00080668893 | J16: =$F$16/6 -> 0.00080668893 | K16: =$F$16/6 -> 0.00080668893 | L16: =$F$16/6 -> 0.00080668893
A17: Reinstalação do SPDA | B17: 5 dias | C17: 17;23;30;37;44;51;57;64;71 | D17: 45870 | E17: 45874 | F17: ='CR FIN R$'!F11/'CR FIN R$'!$F$2 -> 0.035493059 | L17: =F17 -> 0.035493059
A18: SERVIÇOS NOS TELHADOS | F18: =F19+F25+F31+F37+F44+F51+F58+F65+F71+F78 -> 0.7035805 | G18: =SUM(G19:G84) -> 0.021014749 | H18: =SUM(H19:H84) -> 0.13689272 | I18: =SUM(I19:I84) -> 0.11014056 | J18: =SUM(J19:J84) -> 0.13700658 | K18: =SUM(K19:K84) -> 0.12671701 | L18: =SUM(L19:L84) -> 0.16797588
A19: TELHADO C06 - 14,5m2 | B19: 8 dias | D19: 45706 | E19: 45713 | F19: ='CR FIN R$'!F13/'CR FIN R$'!$F$2 -> 0.018252806 | G19: =F19 -> 0.018252806
A20: Remoção completa do telhado | B20: 1 dia | C20: 5 | D20: 45706 | E20: 45706
A21: Remoção / descarte de resíduos | B21: 1 dia | C21: 7 | D21: 45707 | E21: 45707
A22: Serviços na laje/vedações/ impermeabilização | B22: 3 dias | C22: 8 | D22: 45708 | E22: 45710
A23: Montagem da estrutura/ pintura | B23: 2 dias | C23: 9 | D23: 45711 | E23: 45712
A24: Instalação do telhamento/rufos/calhas/descidas | B24: 1 dia | C24: 3;10 | D24: 45713 | E24: 45713
A25: TELHADO A04 - 21,4 m2 (sem laje) | B25: 7 dias | D25: 45714 | E25: 45720 | F25: ='CR FIN R$'!F19/'CR FIN R$'!$F$2 -> 0.012889298 | G25: ='CR FIN R$'!G19/'CR FIN R$'!$F$2 -> 0.0027619431 | H25: ='CR FIN R$'!H19/'CR FIN R$'!$F$2 -> 0.0083252666
A26: Desafixação do SPDA | B26: 1 dia | C26: 11 | D26: 45714 | E26: 45714
A27: Desmonte das telhas | B27: 1 dia | C27: 13 | D27: 45715 | E27: 45715
A28: Remoção / descarte de resíduos | B28: 1 dia | C28: 14 | D28: 45716 | E28: 45716
A29: Ajuste nas estruturas/vedações/impermeabilizações | B29: 3 dias | C29: 15 | D29: 45717 | E29: 45719
A30: Instalação do telhamento/rufos/calhas/descidas | B30: 1 dia | C30: 3;16 | D30: 45720 | E30: 45720
A31: TELHADO A03 - 25,3 m2 (sem laje) | B31: 5 dias | D31: 45720 | E31: 45724 | F31: ='CR FIN R$'!F25/'CR FIN R$'!$F$2 -> 0.019387897 | H31: =F31 -> 0.019387897
A32: Desafixação do SPDA | B32: 1 dia | C32: 16 | D32: 45720 | E32: 45720
A33: Desmonte das telhas | B33: 1 dia | C33: 19 | D33: 45721 | E33: 45721
A34: Remoção / descarte de resíduos | B34: 1 dia | C34: 20 | D34: 45722 | E34: 45722
A35: Ajuste nas estruturas/vedações/impermeabilizações | B35: 1 dia | C35: 21 | D35: 45723 | E35: 45723
A36: Instalação do telhamento/rufos/calhas/descidas | B36: 1 dia | C36: 3;22 | D36: 45724 | E36: 45724
A37: TELHADO C05 - 82,5 m2 | B37: 20 dias | D37: 45724 | E37: 45743 | F37: ='CR FIN R$'!F31/'CR FIN R$'!$F$2 -> 0.095650265 | H37: =F37 -> 0.095650265
A38: Desafixação do SPDA | B38: 1 dia | C38: 22 | D38: 45724 | E38: 45724
A39: Remoção do completa do telhado | B39: 3 dias | C39: 25 | D39: 45725 | E39: 45727
A40: Remoção / descarte de resíduos | B40: 1 dia | C40: 26 | D40: 45728 | E40: 45728
...

Sheet CALCULO BDI
A1: COMPOSIÇÃO DO BDI - ADEQUAÇÃO FAPESP
A3: ITEM COMPONENTE | C3: (%) | D3: PROPOSTO (%)
A4: AC | B4: ADM. CENTRAL | C4: 0.055 | D4: 0.055
A5: R | B5: RISCOS | C5: 0.0127 | D5: 0.0127
A6: S+G | B6: SEGUROS E GARANTIAS | C6: 0.01 | D6: 0.01
A7: DF | B7: DESPESAS FINANCEIRAS | C7: 0.0139 | D7: 0.0139
A8: L | B8: LUCRO | C8: 0.0896 | D8: 0.0896
A9: I | B9: TRIBUTOS (PIS + CONFIS + ISS) | C9: 0.0665 | D9: 0.0665
B10: CPPRB | C10: 0.045 | D10: 0.045
C12: BDI | D12: 0.34
A13: Fórmula utilizada:

Sheet COMPARATIVO COTAÇÕES
B1: COMPARATIVO COTAÇÕES
B2: =OBJETO -> #REF!
B4: ITEM | D4: CÓD. QNTD | E4: ORIGEM | F4: CÓDIGO CPU | G4: DISCRIMINAÇÃO | H4: UND | I4: COEF. | J4: MÉDIA | K4: R$ TOTAL | M4: ORÇAMENTO 1 | N4: ORÇAMENTO 2 | O4: ORÇAMENTO 3
B5: 1.0 | G5: CUSTOS DIRETOS
B6: 1.2 | G6: DIVISÓRIAS | M6: ETHERNE | N6: AMPIA | O6: DIV OFFICE
B7: 1.2.2 | C7: =B7 -> 1.2.2 | D7: DIV0002 | E7: PREÇO REFERENCIAL DE MERCADO | F7: CPU.0006 | G7: DIVISÓRIA ACÚSTICA REVESTIDA CEGA | H7: M² | I7: =VLOOKUP(D7,'MEMÓRIAS DE CÁLCULO'!L:M,2,0) -> 3.67 | J7: =SUMIF(C8:C55,C7,K8:K55) -> 1006.4167 | K7: =J7*I7 -> 3693.5492
B8: =B7 -> 1.2.2 | C8: =C7 -> 1.2.2 | E8: PREÇO REFERENCIAL DE MERCADO | G8: DIVISÓRIA ACÚSTICA REVESTIDA CEGA - FORNECIMENTO E INSTALAÇÃO | H8: M² | I8: 1 | J8: =AVERAGE(M8:O8) -> 1006.4167 | K8: =J8*I8 -> 1006.4167 | M8: 710 | N8: 1410.25 | O8: 899
B9: 1.2.3 | C9: =B9 -> 1.2.3 | D9: DIV0003 | E9: PREÇO REFERENCIAL DE MERCADO | F9: CPU.0007 | G9: DIVISÓRIA ACÚSTICA REVESTIDA MEIO CEGA MEIO VIDRO | H9: M² | I9: =VLOOKUP(D9,'MEMÓRIAS DE CÁLCULO'!L:M,2,0) -> 4.12 | J9: =SUMIF(C10:C55,C9,K10:K55) -> 2054.0333 | K9: =J9*I9 -> 8462.6173
B10: =B9 -> 1.2.3 | C10: =C9 -> 1.2.3 | E10: PREÇO REFERENCIAL DE MERCADO | G10: DIVISÓRIA ACÚSTICA REVESTIDA MEIO CEGA MEIO VIDRO - FORNECIMENTO E INSTALAÇÃO | H10: M² | I10: 1 | J10: =AVERAGE(M10:O10) -> 2054.0333 | K10: =J10*I10 -> 2054.0333 | M10: 995 | N10: 1667.1 | O10: 3500
B11: 1.5 | G11: PORTAS | M11: ETHERNE | N11: AMPIA | O11: DIV OFFICE
B12: 1.5.4 | C12: =B12 -> 1.5.4 | D12: POR0004 | E12: PREÇO REFERENCIAL DE MERCADO | F12: CPU.0008 | G12: PORTA DIVISÓRIA ACÚSTICA | H12: UN | I12: =VLOOKUP(D12,'MEMÓRIAS DE CÁLCULO'!L:M,2,0) -> 1 | J12: =SUMIF(C13:C70,C12,K13:K70) -> 3690.4967 | K12: =J12*I12 -> 3690.4967
B13: =B12 -> 1.5.4 | C13: =C12 -> 1.5.4 | E13: PREÇO REFERENCIAL DE MERCADO | G13: PORTA DIVISÓRIA ACÚSTICA - FORNECIMENTO E INSTALAÇÃO | H13: UN | I13: 1 | J13: =AVERAGE(M13:O13) -> 3690.4967 | K13: =J13*I13 -> 3690.4967 | M13: 3950 | N13: 3621.49 | O13: 3500
B14: 1.5.5 | C14: =B14 -> 1.5.5 | D14: POR0005 | E14: PREÇO REFERENCIAL DE MERCADO | F14: CPU.0009 | G14: PORTA DIVISÓRIA ACÚSTICA REVESTIDA | H14: UN | I14: =VLOOKUP(D14,'MEMÓRIAS DE CÁLCULO'!L:M,2,0) -> 10 | J14: =SUMIF(C15:C70,C14,K15:K70) -> 4073.7467 | K14: =J14*I14 -> 40737.467
B15: =B14 -> 1.5.5 | C15: =C14 -> 1.5.5 | E15: PREÇO REFERENCIAL DE MERCADO | G15: PORTA DIVISÓRIA ACÚSTICA REVESTIDA - FORNECIMENTO E INSTALAÇÃO | H15: M² | I15: 1 | J15: =AVERAGE(M15:O15) -> 4073.7467 | K15: =J15*I15 -> 4073.7467 | M15: 3950 | N15: 4771.24 | O15: 3500
B16: 1.9 | G16: SISTEMA DE SPRINKLER | M16: SOEDRAL | N16: POTENZA | O16: RIMAR
B17: 1.9.2 | G17: CONEXÕES E ACESSÓRIOS
B18: 1.9.2.1 | C18: =B18 -> 1.9.2.1 | D18: SPK0007 | E18: PREÇO REFERENCIAL DE MERCADO | F18: 3R 23 12 00 00 19 11 03 03 | G18: BUCHA DE REDUÇÃO DE FERRO GALVANIZADO Ø 40 X 32 MM - 1 1/2 X 1 1/4" | H18: UN | I18: =VLOOKUP(D18,'MEMÓRIAS DE CÁLCULO'!L:M,2,0) -> 407 | J18: =SUMIF(C19:C90,C18,K19:K90) -> 17.01 | K18: =J18*I18 -> 6923.07
B19: =B18 -> 1.9.2.1 | C19: =C18 -> 1.9.2.1 | G19: BUCHA DE FERRO MALEÁVEL GALVANIZADO DE REDUÇÃO Ø 1 1/2" X 1 1/4" | H19: UN | I19: 1 | J19: =AVERAGE(M19:O19) -> 17.01 | K19: =J19*I19 -> 17.01 | M19: 14.45 | N19: 19.23 | O19: 17.35
B20: 1.9.2.2 | C20: =B20 -> 1.9.2.2 | D20: SPK0008 | E20: 'PREÇO REFERENCIAL DE MERCADO | F20: 3R 23 12 00 00 19 11 03 03 | G20: BUCHA DE REDUÇÃO DE FERRO GALVANIZADO Ø 40 X 32 MM - 1 1/2 X 1 1/4" | H20: UN | I20: =VLOOKUP(D20,'MEMÓRIAS DE CÁLCULO'!L:M,2,0) -> 341 | J20: =SUMIF(C21:C90,C20,K21:K90) -> 17.01 | K20: =J20*I20 -> 5800.41
B21: =B20 -> 1.9.2.2 | C21: =C20 -> 1.9.2.2 | G21: BUCHA DE FERRO MALEÁVEL GALVANIZADO DE REDUÇÃO Ø 1 1/2" X 1 1/4" | H21: UN | I21: 1 | J21: =AVERAGE(M21:O21) -> 17.01 | K21: =J21*I21 -> 17.01 | M21: 14.45 | N21: 19.23 | O21: 17.35
B22: 1.9.2.3 | C22: =B22 -> 1.9.2.3 | D22: SPK0009 | E22: 'PREÇO REFERENCIAL DE MERCADO | F22: 3R 23 12 00 00 19 11 03 18 | G22: BUCHA DE REDUÇÃO DE FERRO GALVANIZADO Ø 32 X 15 MM - 1 1/4 X 1/2" | H22: UN | I22: =VLOOKUP(D22,'MEMÓRIAS DE CÁLCULO'!L:M,2,0) -> 451 | J22: =SUMIF(C23:C91,C22,K23:K91) -> 11.956667 | K22: =J22*I22 -> 5392.4567
B23: =B22 -> 1.9.2.3 | C23: =C22 -> 1.9.2.3 | G23: BUCHA DE FERRO MALEÁVEL GALVANIZADO DE REDUÇÃO Ø 1 1/4" X 1/2" | H23: UN | I23: 1 | J23: =AVERAGE(M23:O23) -> 11.956667 | K23: =J23*I23 -> 11.956667 | M23: 10.13 | N23: 13.58 | O23: 12.16
B24: 1.9.2.4 | C24: =B24 -> 1.9.2.4 | D24: SPK0010 | E24: 'PREÇO REFERENCIAL DE MERCADO | F24: 3R 23 12 00 00 19 11 03 09 | G24: BUCHA DE REDUÇÃO DE FERRO GALVANIZADO Ø 65 X 40 MM - 2 1/2 X 1 1/2" | H24: UN | I24: =VLOOKUP(D24,'MEMÓRIAS DE CÁLCULO'!L:M,2,0) -> 6 | J24: =SUMIF(C25:C94,C24,K25:K94) -> 32.75 | K24: =J24*I24 -> 196.5
B25: =B24 -> 1.9.2.4 | C25: =C24 -> 1.9.2.4 | G25: BUCHA DE FERRO MALEÁVEL GALVANIZADO DE REDUÇÃO Ø 2 1/2" X 1 1/2" | H25: UN | I25: 1 | J25: =AVERAGE(M25:O25) -> 32.75 | K25: =J25*I25 -> 32.75 | M25: 27.84 | N25: 37.01 | O25: 33.4
B26: 1.9.2.5 | C26: =B26 -> 1.9.2.5 | D26: SPK0011 | E26: 'PREÇO REFERENCIAL DE MERCADO | F26: 3R 23 12 00 00 19 16 08 12 | G26: BUCHA DE REDUÇÃO DE FERRO GALVANIZADO Ø 65 X 50 MM - 2 1/2 X 2" | H26: UN | I26: =VLOOKUP(D26,'MEMÓRIAS DE CÁLCULO'!L:M,2,0) -> 2 | J26: =SUMIF(C27:C97,C26,K27:K97) -> 32.75 | K26: =J26*I26 -> 65.5
B27: =B26 -> 1.9.2.5 | C27: =C26 -> 1.9.2.5 | G27: BUCHA DE FERRO MALEÁVEL GALVANIZADO DE REDUÇÃO Ø 2 1/2" X 2" | H27: UN | I27: 1 | J27: =AVERAGE(M27:O27) -> 32.75 | K27: =J27*I27 -> 32.75 | M27: 27.84 | N27: 37.01 | O27: 33.4
B28: 1.9.2.6 | C28: =B28 -> 1.9.2.6 | D28: SPK0012 | E28: 'PREÇO REFERENCIAL DE MERCADO | F28: 3R 23 12 00 00 19 11 03 06 | G28: BUCHA DE REDUÇÃO DE FERRO GALVANIZADO Ø 50 X 40 MM - 2 X 1 1/2" | H28: UN | I28: =VLOOKUP(D28,'MEMÓRIAS DE CÁLCULO'!L:M,2,0) -> 19 | J28: =SUMIF(C29:C99,C28,K29:K99) -> 21.933333 | K28: =J28*I28 -> 416.73333
B29: =B28 -> 1.9.2.6 | C29: =C28 -> 1.9.2.6 | G29: BUCHA DE FERRO MALEÁVEL GALVANIZADO DE REDUÇÃO Ø 2" X 1 1/2" | H29: UN | I29: 1 | J29: =AVERAGE(M29:O29) -> 21.933333 | K29: =J29*I29 -> 21.933333 | M29: 18.64 | N29: 24.79 | O29: 22.37
B30: 1.9.2.7 | C30: =B30 -> 1.9.2.7 | D30: SPK0013 | E30: 'PREÇO REFERENCIAL DE MERCADO | F30: CPU.0026 | G30: BUCHA DE REDUÇÃO DE FERRO GALVANIZADO Ø 80 X 32 MM - 3 X 1 1/4" | H30: UN | I30: =VLOOKUP(D30,'MEMÓRIAS DE CÁLCULO'!L:M,2,0) -> 1 | J30: =SUMIF(C31:C102,C30,K31:K102) -> 41.53 | K30: =J30*I30 -> 41.53
B31: =B30 -> 1.9.2.7 | C31: =C30 -> 1.9.2.7 | G31: BUCHA DE FERRO MALEÁVEL GALVANIZADO DE REDUÇÃO Ø 1 1/2 X 1 1/4" | H31: UN | I31: 1 | J31: =AVERAGE(M31:O31) -> 41.53 | K31: =J31*I31 -> 41.53 | M31: 18.64 | N31: 55.69 | O31: 50.26
B32: 1.9.2.8 | C32: =B32 -> 1.9.2.8 | D32: SPK0014 | E32: 'PREÇO REFERENCIAL DE MERCADO | F32: 3R 23 12 00 00 19 11 03 10 | G32: BUCHA DE REDUÇÃO DE FERRO GALVANIZADO Ø 80 X 40 MM - 3 X 1 1/2" | H32: UN | I32: =VLOOKUP(D32,'MEMÓRIAS DE CÁLCULO'!L:M,2,0) -> 12 | J32: =SUMIF(C33:C105,C32,K33:K105) -> 49.273333 | K32: =J32*I32 -> 591.28
B33: =B32 -> 1.9.2.8 | C33: =C32 -> 1.9.2.8 | G33: BUCHA DE FERRO MALEÁVEL GALVANIZADO DE REDUÇÃO Ø 3" X 1 1/2" | H33: UN | I33: 1 | J33: =AVERAGE(M33:O33) -> 49.273333 | K33: =J33*I33 -> 49.273333 | M33: 41.87 | N33: 55.69 | O33: 50.26
B34: 1.9.2.9 | C34: =B34 -> 1.9.2.9 | D34: SPK0015 | E34: 'PREÇO REFERENCIAL DE MERCADO | F34: 3R 23 12 00 00 19 11 03 11 | G34: BUCHA DE REDUÇÃO DE FERRO GALVANIZADO Ø 80 X 50 MM - 3 X 2" | H34: UN | I34: =VLOOKUP(D34,'MEMÓRIAS DE CÁLCULO'!L:M,2,0) -> 2 | J34: =SUMIF(C35:C107,C34,K35:K107) -> 49.243333 | K34: =J34*I34 -> 98.486667
B35: =B34 -> 1.9.2.9 | C35: =C34 -> 1.9.2.9 | G35: BUCHA DE FERRO MALEÁVEL GALVANIZADO DE REDUÇÃO Ø 3" X 2" | H35: UN | I35: 1 | J35: =AVERAGE(M35:O35) -> 49.243333 | K35: =J35*I35 -> 49.243333 | M35: 41.87 | N35: 55.6 | O35: 50.26
B36: 1.9.2.10 | C36: =B36 -> 1.9.2.10 | D36: SPK0016 | E36: 'PREÇO REFERENCIAL DE MERCADO | F36: 3R 23 12 00 00 19 11 03 16 | G36: BUCHA DE REDUÇÃO DE FERRO GALVANIZADO Ø 100 X 80 MM - 4 X 3" | H36: UN | I36: =VLOOKUP(D36,'MEMÓRIAS DE CÁLCULO'!L:M,2,0) -> 3 | J36: =SUMIF(C37:C110,C36,K37:K110) -> 89.01 | K36: =J36*I36 -> 267.03
B37: =B36 -> 1.9.2.10 | C37: =C36 -> 1.9.2.10 | G37: BUCHA DE FERRO MALEÁVEL GALVANIZADO DE REDUÇÃO Ø 4" X 3" | H37: UN | I37: 1 | J37: =AVERAGE(M37:O37) -> 89.01 | K37: =J37*I37 -> 89.01 | M37: 75.64 | N37: 100.59 | O37: 90.8
B38: 1.9.2.11 | C38: =B38 -> 1.9.2.11 | D38: SPK0017 | E38: 'PREÇO REFERENCIAL DE MERCADO | F38: CPU.0027 | G38: BUCHA DE REDUÇÃO DE FERRO GALVANIZADO Ø 80 X 32 MM - 3 X 1 1/4" | H38: UN | I38: =VLOOKUP(D38,'MEMÓRIAS DE CÁLCULO'!L:M,2,0) -> 1 | J38: =SUMIF(C39:C110,C38,K39:K110) -> 49.266667 | K38: =J38*I38 -> 49.266667
B39: =B38 -> 1.9.2.11 | C39: =C38 -> 1.9.2.11 | G39: BUCHA DE FERRO MALEÁVEL GALVANIZADO DE REDUÇÃO Ø 1 1/2 X 1 1/4" | H39: UN | I39: 1 | J39: =AVERAGE(M39:O39) -> 49.266667 | K39: =J39*I39 -> 49.266667 | M39: 41.87 | N39: 55.69 | O39: 50.24
B40: 1.9.2.12 | C40: =B40 -> 1.9.2.12 | D40: SPK0018 | E40: 'PREÇO REFERENCIAL DE MERCADO | F40: CPU.0028 | G40: BUCHA DE REDUÇÃO DE FERRO GALVANIZADO Ø 100 X 40 MM - 3 X 1 1/2" | H40: UN | I40: =VLOOKUP(D40,'MEMÓRIAS DE CÁLCULO'!L:M,2,0) -> 7 | J40: =SUMIF(C41:C110,C40,K41:K110) -> 49.273333 | K40: =J40*I40 -> 344.91333
B41: =B40 -> 1.9.2.12 | C41: =C40 -> 1.9.2.12 | G41: BUCHA DE FERRO MALEÁVEL GALVANIZADO DE REDUÇÃO Ø 3 X 1 1/2" | H41: UN | I41: 1 | J41: =AVERAGE(M41:O41) -> 49.273333 | K41: =J41*I41 -> 49.273333 | M41: 41.87 | N41: 55.69 | O41: 50.26
...

Sheet CURVA ABC INSUMOS
B1: CURVA ABC DE INSUMOS
B2: =OBJETO -> #REF! | D2: =SUM(D5:D289)-#REF! -> #REF!
B4: ITEM | C4: DISCRIMINAÇÃO | D4: R$ TOTAL
B5: 1 | C5: FORRO EM FIBRA MINERAL COM PLACAS ACÚSTICAS REMOVÍVEIS DE 625x625MM, REF. LINHA FINETTA DA OWA DO BRASIL OU EQUIVALENTE | D5: =SUMIF(#REF!,'CURVA ABC INSUMOS'!C5,#REF!) -> #REF!
B6: 2 | C6: TUBO DE AÇO CARBONO PRETO SEM COSTURA SCH 40 DN= 5' | D6: =SUMIF(#REF!,'CURVA ABC INSUMOS'!C6,#REF!) -> #REF!
B7: 3 | C7: ENGENHEIRO CIVIL PLENO (MENSALISTA) | D7: =SUMIF(#REF!,'CURVA ABC INSUMOS'!C7,#REF!) -> #REF!
B8: 4 | C8: ENCANADOR | D8: =SUMIF(#REF!,'CURVA ABC INSUMOS'!C8,#REF!) -> #REF!
B9: 5 | C9: AJUDANTE DE ENCANADOR | D9: =SUMIF(#REF!,'CURVA ABC INSUMOS'!C10,#REF!) -> #REF!
B10: 6 | C10: TUBO DE AÇO CARBONO PRETO SEM COSTURA SCH 40 DN= 1 1/2' | D10: =SUMIF(#REF!,'CURVA ABC INSUMOS'!C13,#REF!) -> #REF!
B11: 7 | C11: ELETRICISTA | D11: =SUMIF(#REF!,'CURVA ABC INSUMOS'!C11,#REF!) -> #REF!
B12: 8 | C12: AJUDANTE DE ELETRICISTA | D12: =SUMIF(#REF!,'CURVA ABC INSUMOS'!C15,#REF!) -> #REF!
B13: 9 | C13: SERVENTE COM ENCARGOS COMPLEMENTARES | D13: =SUMIF(#REF!,'CURVA ABC INSUMOS'!C12,#REF!) -> #REF!
B14: 10 | C14: SERVENTE | D14: =SUMIF(#REF!,'CURVA ABC INSUMOS'!C18,#REF!) -> #REF!
B15: 11 | C15: PORTA CORTA-FOGO EM AÇO GALVANIZADA P.90, COM BARRA ANTIPÂNICO NUMA FACE E MAÇANETA NA OUTRA, COMPLETA REF. AUTHENTIC OU EQUIVALENTE | D15: =SUMIF(#REF!,'CURVA ABC INSUMOS'!C46,#REF!) -> #REF!
B16: 12 | C16: DETECTOR ÓPTICO DE FUMAÇA ENDEREÁVEL, COM BASE DE FIXAÇÃO, REF. BH-300 DA KIDDE, PROTEGE OU EQUIVALENTE | D16: =SUMIF(#REF!,'CURVA ABC INSUMOS'!C16,#REF!) -> #REF!
B17: 13 | C17: ENCARREGADO GERAL DE OBRAS (MENSALISTA) | D17: =SUMIF(#REF!,'CURVA ABC INSUMOS'!C9,#REF!) -> #REF!
B18: 14 | C18: TUBO DE AÇO CARBONO PRETO SEM COSTURA SCH 40 DN=2 1/2' | D18: =SUMIF(#REF!,'CURVA ABC INSUMOS'!C17,#REF!) -> #REF!
B19: 15 | C19: ENCANADOR OU BOMBEIRO HIDRÁULICO COM ENCARGOS COMPLEMENTARES | D19: =SUMIF(#REF!,'CURVA ABC INSUMOS'!C20,#REF!) -> #REF!
B20: 16 | C20: TUBO DE AÇO CARBONO PRETO SEM COSTURA SCH 40 DN= 3' | D20: =SUMIF(#REF!,'CURVA ABC INSUMOS'!C19,#REF!) -> #REF!
B21: 17 | C21: CONJUNTO MOTOR-BOMBA (CENTRÍFUGA) 30CV MONOESTÁGIO, TRIFÁSICA, HMAN=70 A 94 MCA, Q=34,8 A 61,7 M³/H | D21: =SUMIF(#REF!,'CURVA ABC INSUMOS'!C27,#REF!) -> #REF!
B22: 18 | C22: ELETRODUTO GALVANIZADO ELETROLÍTICO MÉDIO 3/4' | D22: =SUMIF(#REF!,'CURVA ABC INSUMOS'!C31,#REF!) -> #REF!
B23: 19 | C23: LUMINÁRIA P/ BALIZAMENTO OU ACLARAMENTO, SOBREPOR COMPLETA, COM LÂMPADA FLUORESCENTE COMPACTA, PL 9W | D23: =SUMIF(#REF!,'CURVA ABC INSUMOS'!C21,#REF!) -> #REF!
B24: 20 | C24: PLACA DE SINALIZAÇÃO | D24: =SUMIF(#REF!,'CURVA ABC INSUMOS'!C24,#REF!) -> #REF!
B25: 21 | C25: VÁLVULA DE GAVETA EM BRONZE HASTE ASCENDENTE, CLASSE 150 LIBRAS PARA VAPOR SATURADO E 300 LIBRAS PARA ÁGUA, ÓLEO E GÁS, DN= 4´ | D25: =SUMIF(#REF!,'CURVA ABC INSUMOS'!C25,#REF!) -> #REF!
B26: 22 | C26: RESERVATÓRIO EM POLIETILENO COM TAMPA DE ENCAIXAR CAPACIDADE DE 10.000 LITROS | D26: =SUMIF(#REF!,'CURVA ABC INSUMOS'!C23,#REF!) -> #REF!
B27: 23 | C27: MÓDULO ISOLADOR, MÓDULO ENDEREÇADOR PARA ÁUDIO VISUAL, REF. GLOBAL/AS MODELO LSCISO OU EQUIVALENTE | D27: =SUMIF(#REF!,'CURVA ABC INSUMOS'!C22,#REF!) -> #REF!
B28: 24 | C28: CABO DE COBRE FLEXIVEL DE 2X1,5MM², ENCORDOAMENTO COM ISOLAÇÃO TERMOPLÁSTICO PVC/E 105°C, CLASSE 4, TENSÃO DE ISOLAMENTO 600V, PARA SISTEMA DE DETECÇÃO INCÊNDIO | D28: =SUMIF(#REF!,'CURVA ABC INSUMOS'!C26,#REF!) -> #REF!
B29: 25 | C29: PARALELEPÍPEDO SÓ MATEIRAL | D29: =SUMIF(#REF!,'CURVA ABC INSUMOS'!C33,#REF!) -> #REF!
B30: 26 | C30: CAMINHÃO BASCULANTE 6 M3 PESO BRUTO TOTAL 16.000 KG, CARGA ÚTIL MÁXIMA 13.071 KG, DISTÂNCIA ENTRE EIXOS 4,80 M, POTÊNCIA 230 CV INCLUSIVE CAÇAMBA METÁLICA - CHP DIURNO. AF_06/2014 | D30: =SUMIF(#REF!,'CURVA ABC INSUMOS'!C41,#REF!) -> #REF!
B31: 27 | C31: BICO SPRINKLERS CROMADO, PENDENTE PARA TUBULAÇÃO 1/2', COM ROMPIMENTO DA AMPOLA A 68ºC | D31: =SUMIF(#REF!,'CURVA ABC INSUMOS'!C29,#REF!) -> #REF!
B32: 28 | C32: MATERIAIS DE CONSUMO (ESCRITÓRIO, LIMPEZA, ÁGUA POTÁVEL). | D32: =SUMIF(#REF!,'CURVA ABC INSUMOS'!C42,#REF!) -> #REF!
B33: 29 | C33: AÇO CA-50-A MD BITOLAS | D33: =SUMIF(#REF!,'CURVA ABC INSUMOS'!C30,#REF!) -> #REF!
B34: 30 | C34: BUCHA DE FERRO MALEÁVEL GALVANIZADO DE REDUÇÃO Ø 1 1/2" X 1 1/4" | D34: =SUMIF(#REF!,'CURVA ABC INSUMOS'!C40,#REF!) -> #REF!
B35: 31 | C35: COTOVELO 90 GRAUS DE FERRO GALVANIZADO, COM ROSCA BSP, DE 4" | D35: =SUMIF(#REF!,'CURVA ABC INSUMOS'!C34,#REF!) -> #REF!
B36: 32 | C36: LOCAÇÃO DE ANDAIME TORRE METÁLICO (1,5 X 1,5M), COM PISO METÁLICO | D36: =SUMIF(#REF!,'CURVA ABC INSUMOS'!C28,#REF!) -> #REF!
B37: 33 | C37: MARTELETE OU ROMPEDOR PNEUMÁTICO MANUAL, 28 KG, COM SILENCIADOR - CHI DIURNO. AF_07/2016 | D37: =SUMIF(#REF!,'CURVA ABC INSUMOS'!C36,#REF!) -> #REF!
B38: 34 | C38: CONTAINERSANITÁRIO, MÓDULO AÇO GALVANIZADO, 2 VASOS SANITÁRIOS, 2 LAVATÓRIOS / CALHA E 2 MICTÓRIOS / CALHA, 4 PONTOS PARA CHUVEIRO, PISO IMPERMEÁVEL E ANTI-DERRAPANTE | D38: =SUMIF(#REF!,'CURVA ABC INSUMOS'!C37,#REF!) -> #REF!
B39: 35 | C39: VÁLVULA DE GAVETA, CORPO EM FERRO FUNDIDO, EXTREMIDADES FLANGEADAS, HASTE ASCENDENTE, CLASSE 125LBS, FN=4' | D39: =SUMIF(#REF!,'CURVA ABC INSUMOS'!C38,#REF!) -> #REF!
B40: 36 | C40: CONTAINER ESCRITÓRIO COM WC, EM AÇO GALVANIZADO, PISO COMPENSADO NAVAL (ESCRITÓRIO), 1 VASO SANITÁRIO, 1 LAVATÓRIO, 1 PONTO PARA CHUVEIRO, PISO IMPERMEÁVEL E ANTI-DERRAPANTE (WC) | D40: =SUMIF(#REF!,'CURVA ABC INSUMOS'!C35,#REF!) -> #REF!
B41: 37 | C41: CABO DE COBRE FLEXÍVEL DE 50 MM², ISOLAMENTO 0,6/1KV - ISOLAÇÃO HEPR 90ºC | D41: =SUMIF(#REF!,'CURVA ABC INSUMOS'!C39,#REF!) -> #REF!
...

Sheet CURVA ABC SERVIÇOS
B1: CURVA ABC DE SERVIÇOS
B2: =OBJETO -> #REF! | G2: =SUM(G5:G225)-#REF! -> #REF!
B4: ITEM | C4: DISCRIMINAÇÃO | D4: UND | E4: QNTD | F4: R$ UNIT. | G4: R$ TOTAL
B5: 1 | C5: FORRO EM FIBRA MINERAL COM PLACAS ACÚSTICAS REMOVÍVEIS DE 625MM X 625MM | D5: =VLOOKUP($C5,#REF!,2,0) -> #REF! | E5: =SUMIF(#REF!,'CURVA ABC SERVIÇOS'!C5,#REF!) -> #REF! | F5: =VLOOKUP($C5,#REF!,4,0) -> #REF! | G5: =F5*E5 -> #REF!
B6: 2 | C6: TUBO DE AÇO CARBONO PRETO SEM COSTURA SCHEDULE 40, DN= 5´ - INCLUSIVE CONEXÕES | D6: =VLOOKUP($C6,#REF!,2,0) -> #REF! | E6: =SUMIF(#REF!,'CURVA ABC SERVIÇOS'!C6,#REF!) -> #REF! | F6: =VLOOKUP($C6,#REF!,4,0) -> #REF! | G6: =F6*E6 -> #REF!
B7: 3 | C7: TUBO DE AÇO CARBONO PRETO SEM COSTURA SCHEDULE 40, DN= 1 1/2´ - INCLUSIVE CONEXÕES | D7: =VLOOKUP($C7,#REF!,2,0) -> #REF! | E7: =SUMIF(#REF!,'CURVA ABC SERVIÇOS'!C7,#REF!) -> #REF! | F7: =VLOOKUP($C7,#REF!,4,0) -> #REF! | G7: =F7*E7 -> #REF!
B8: 4 | C8: ENGENHEIRO CIVIL PLENO COM ENCARGOS COMPLEMENTARES | D8: =VLOOKUP($C8,#REF!,2,0) -> #REF! | E8: =SUMIF(#REF!,'CURVA ABC SERVIÇOS'!C8,#REF!) -> #REF! | F8: =VLOOKUP($C8,#REF!,4,0) -> #REF! | G8: =F8*E8 -> #REF!
B9: 5 | C9: TUBO DE AÇO CARBONO PRETO SEM COSTURA SCHEDULE 40, DN= 2 1/2´ - INCLUSIVE CONEXÕES | D9: =VLOOKUP($C9,#REF!,2,0) -> #REF! | E9: =SUMIF(#REF!,'CURVA ABC SERVIÇOS'!C9,#REF!) -> #REF! | F9: =VLOOKUP($C9,#REF!,4,0) -> #REF! | G9: =F9*E9 -> #REF!
B10: 6 | C10: ALMOXARIFE COM ENCARGOS COMPLEMENTARES | D10: =VLOOKUP($C10,#REF!,2,0) -> #REF! | E10: =SUMIF(#REF!,'CURVA ABC SERVIÇOS'!C10,#REF!) -> #REF! | F10: =VLOOKUP($C10,#REF!,4,0) -> #REF! | G10: =F10*E10 -> #REF!
B11: 7 | C11: ELETRODUTO GALVANIZADO, MÉDIO DE 3/4´ - COM ACESSÓRIOS | D11: =VLOOKUP($C11,#REF!,2,0) -> #REF! | E11: =SUMIF(#REF!,'CURVA ABC SERVIÇOS'!C11,#REF!) -> #REF! | F11: =VLOOKUP($C11,#REF!,4,0) -> #REF! | G11: =F11*E11 -> #REF!
B12: 8 | C12: SERVENTE COM ENCARGOS COMPLEMENTARES. | D12: =VLOOKUP($C12,#REF!,2,0) -> #REF! | E12: =SUMIF(#REF!,'CURVA ABC SERVIÇOS'!C12,#REF!) -> #REF! | F12: =VLOOKUP($C12,#REF!,4,0) -> #REF! | G12: =F12*E12 -> #REF!
B13: 9 | C13: TUBO DE AÇO CARBONO PRETO SEM COSTURA SCHEDULE 40, DN= 3´ - INCLUSIVE CONEXÕES | D13: =VLOOKUP($C13,#REF!,2,0) -> #REF! | E13: =SUMIF(#REF!,'CURVA ABC SERVIÇOS'!C13,#REF!) -> #REF! | F13: =VLOOKUP($C13,#REF!,4,0) -> #REF! | G13: =F13*E13 -> #REF!
B14: 10 | C14: CABO DE COBRE FLEXÍVEL BLINDADO DE 2 X 1,5 MM², ISOLAMENTO 600V, ISOLAÇÃO EM VC/E 105°C - PARA DETECÇÃO DE INCÊNDIO | D14: =VLOOKUP($C14,#REF!,2,0) -> #REF! | E14: =SUMIF(#REF!,'CURVA ABC SERVIÇOS'!C15,#REF!) -> #REF! | F14: =VLOOKUP($C14,#REF!,4,0) -> #REF! | G14: =F14*E14 -> #REF!
B15: 11 | C15: ENCARREGADO GERAL DE OBRAS COM ENCARGOS COMPLEMENTARES | D15: =VLOOKUP($C15,#REF!,2,0) -> #REF! | E15: =SUMIF(#REF!,'CURVA ABC SERVIÇOS'!C16,#REF!) -> #REF! | F15: =VLOOKUP($C15,#REF!,4,0) -> #REF! | G15: =F15*E15 -> #REF!
B16: 12 | C16: DETECTOR ÓPTICO DE FUMAÇA COM BASE ENDEREÇÁVEL | D16: =VLOOKUP($C16,#REF!,2,0) -> #REF! | E16: =SUMIF(#REF!,'CURVA ABC SERVIÇOS'!C17,#REF!) -> #REF! | F16: =VLOOKUP($C16,#REF!,4,0) -> #REF! | G16: =F16*E16 -> #REF!
B17: 13 | C17: PORTA DIVISÓRIA ACÚSTICA REVESTIDA | D17: =VLOOKUP($C17,#REF!,2,0) -> #REF! | E17: =SUMIF(#REF!,'CURVA ABC SERVIÇOS'!C14,#REF!) -> #REF! | F17: =VLOOKUP($C17,#REF!,4,0) -> #REF! | G17: =F17*E17 -> #REF!
B18: 14 | C18: FURO EM CONCRETO PARA DIÂMETROS MAIORES QUE 75 MM. AF_05/2015 | D18: =VLOOKUP($C18,#REF!,2,0) -> #REF! | E18: =SUMIF(#REF!,'CURVA ABC SERVIÇOS'!C18,#REF!) -> #REF! | F18: =VLOOKUP($C18,#REF!,4,0) -> #REF! | G18: =F18*E18 -> #REF!
B19: 15 | C19: ARMADURA EM BARRA DE AÇO CA-50 (A OU B) FYK = 500 MPA | D19: =VLOOKUP($C19,#REF!,2,0) -> #REF! | E19: =SUMIF(#REF!,'CURVA ABC SERVIÇOS'!C19,#REF!) -> #REF! | F19: =VLOOKUP($C19,#REF!,4,0) -> #REF! | G19: =F19*E19 -> #REF!
B20: 16 | C20: RESERVATÓRIO EM POLIETILENO COM TAMPA DE ENCAIXAR - CAPACIDADE DE 10.000 LITROS | D20: =VLOOKUP($C20,#REF!,2,0) -> #REF! | E20: =SUMIF(#REF!,'CURVA ABC SERVIÇOS'!C20,#REF!) -> #REF! | F20: =VLOOKUP($C20,#REF!,4,0) -> #REF! | G20: =F20*E20 -> #REF!
B21: 17 | C21: ELETRODUTO DE AÇO GALVANIZADO, CLASSE LEVE, DN 20 MM (3/4), APARENTE, INSTALADO EM TETO - FORNECIMENTO E INSTALAÇÃO. AF_11/2016_P | D21: =VLOOKUP($C21,#REF!,2,0) -> #REF! | E21: =SUMIF(#REF!,'CURVA ABC SERVIÇOS'!C21,#REF!) -> #REF! | F21: =VLOOKUP($C21,#REF!,4,0) -> #REF! | G21: =F21*E21 -> #REF!
B22: 18 | C22: BICO DE SPRINKLER CROMADO PENDENTE COM ROMPIMENTO DA AMPOLA A 68°C | D22: =VLOOKUP($C22,#REF!,2,0) -> #REF! | E22: =SUMIF(#REF!,'CURVA ABC SERVIÇOS'!C22,#REF!) -> #REF! | F22: =VLOOKUP($C22,#REF!,4,0) -> #REF! | G22: =F22*E22 -> #REF!
B23: 19 | C23: LUMINÁRIA PARA ACLARAMENTO DE SOBREPOR COMPLETA COM LÂMPADA FLUORESCENTE COMPACTA DE 9 W | D23: =VLOOKUP($C23,#REF!,2,0) -> #REF! | E23: =SUMIF(#REF!,'CURVA ABC SERVIÇOS'!C23,#REF!) -> #REF! | F23: =VLOOKUP($C23,#REF!,4,0) -> #REF! | G23: =F23*E23 -> #REF!
B24: 20 | C24: BUCHA DE REDUÇÃO DE FERRO GALVANIZADO Ø 40 X 32 MM - 1 1/2 X 1 1/4" | D24: =VLOOKUP($C24,#REF!,2,0) -> #REF! | E24: =SUMIF(#REF!,'CURVA ABC SERVIÇOS'!C24,#REF!) -> #REF! | F24: =VLOOKUP($C24,#REF!,4,0) -> #REF! | G24: =F24*E24 -> #REF!
B25: 21 | C25: VÁLVULA DE GAVETA EM BRONZE, HASTE ASCENDENTE, CLASSE 150 LIBRAS PARA VAPOR SATURADO E 300 LIBRAS PARA ÁGUA, ÓLEO E GÁS, DN= 4´ | D25: =VLOOKUP($C25,#REF!,2,0) -> #REF! | E25: =SUMIF(#REF!,'CURVA ABC SERVIÇOS'!C25,#REF!) -> #REF! | F25: =VLOOKUP($C25,#REF!,4,0) -> #REF! | G25: =F25*E25 -> #REF!
B26: 22 | C26: IDENTIFICAÇÃO DAS ELETROCALHAS EM FAIXA VERMELHA A CADA 1 METRO | D26: =VLOOKUP($C26,#REF!,2,0) -> #REF! | E26: =SUMIF(#REF!,'CURVA ABC SERVIÇOS'!C26,#REF!) -> #REF! | F26: =VLOOKUP($C26,#REF!,4,0) -> #REF! | G26: =F26*E26 -> #REF!
B27: 23 | C27: TUBO DE AÇO CARBONO PRETO SEM COSTURA SCHEDULE 40, DN= 2´ - INCLUSIVE CONEXÕES | D27: =VLOOKUP($C27,#REF!,2,0) -> #REF! | E27: =SUMIF(#REF!,'CURVA ABC SERVIÇOS'!C27,#REF!) -> #REF! | F27: =VLOOKUP($C27,#REF!,4,0) -> #REF! | G27: =F27*E27 -> #REF!
B28: 24 | C28: CONJUNTO MOTOR-BOMBA (CENTRÍFUGA) 30 CV, MONOESTÁGIO TRIFÁSICO, HMAN= 70 A 94 MCA, Q= 34,80 A 61,7 M³/H | D28: =VLOOKUP($C28,#REF!,2,0) -> #REF! | E28: =SUMIF(#REF!,'CURVA ABC SERVIÇOS'!C28,#REF!) -> #REF! | F28: =VLOOKUP($C28,#REF!,4,0) -> #REF! | G28: =F28*E28 -> #REF!
B29: 25 | C29: TUBO DE AÇO CARBONO PRETO SEM COSTURA SCHEDULE 40, DN= 1 1/4´ - INCLUSIVE CONEXÕES | D29: =VLOOKUP($C29,#REF!,2,0) -> #REF! | E29: =SUMIF(#REF!,'CURVA ABC SERVIÇOS'!C29,#REF!) -> #REF! | F29: =VLOOKUP($C29,#REF!,4,0) -> #REF! | G29: =F29*E29 -> #REF!
... B40: 36 | C40: CABO DE COBRE FLEXÍVEL DE 25 MM², ISOLAMENTO 0,6/1KV - ISOLAÇÃO HEPR 90°C (TERRA COR VERDE) | D40: =VLOOKUP($C40,#REF!,2,0) -> #REF! | E40: =SUMIF(#REF!,'CURVA ABC SERVIÇOS'!C40,#REF!) -> #REF! | F40: =VLOOKUP($C40,#REF!,4,0) -> #REF! | G40: =F40*E40 -> #REF!
B41: 37 | C41: DIVISÓRIA ACÚSTICA REVESTIDA MEIO CEGA MEIO VIDRO | D41: =VLOOKUP($C41,#REF!,2,0) -> #REF! | E41: =SUMIF(#REF!,'CURVA ABC SERVIÇOS'!C69,#REF!) -> #REF! | F41: =VLOOKUP($C41,#REF!,4,0) -> #REF! | G41: =F41*E41 -> #REF!
B42: 38 | C42: BUCHA DE REDUÇÃO DE FERRO GALVANIZADO Ø 32 X 15 MM - 1 1/4 X 1/2" | D42: =VLOOKUP($C42,#REF!,2,0) -> #REF! | E42: =SUMIF(#REF!,'CURVA ABC SERVIÇOS'!C41,#REF!) -> #REF! | F42: =VLOOKUP($C42,#REF!,4,0) -> #REF! | G42: =F42*E42 -> #REF!
B43: 39 | C43: PORTA CORTA-FOGO CLASSE P.90, COM BARRA ANTIPÂNICO NUMA FACE E MAÇANETA NA OUTRA, COMPLETA | D43: =VLOOKUP($C43,#REF!,2,0) -> #REF! | E43: =SUMIF(#REF!,'CURVA ABC SERVIÇOS'!C42,#REF!) -> #REF! | F43: =VLOOKUP($C43,#REF!,4,0) -> #REF! | G43: =F43*E43 -> #REF!
B44: 40 | C44: ABRIGO PARA HIDRANTE/MANGUEIRA (EMBUTIR E EXTERNO) | D44: =VLOOKUP($C44,#REF!,2,0) -> #REF! | E44: =SUMIF(#REF!,'CURVA ABC SERVIÇOS'!C43,#REF!) -> #REF! | F44: =VLOOKUP($C44,#REF!,4,0) -> #REF! | G44: =F44*E44 -> #REF!
B45: 41 | C45: MOD DE SUPERVISÃO C/ FUNÇÃO LIGAR PRESS DE ESCADAS, ABRIR DAMPERES, LIGAR BOMBAS; ENVIAR AO SIST DE ELEV COMANDO DE DESCIDA; ENVIAR AO CONT DE ACESSOS COMANDO DE ABERT DE PASSAGENS REST; LIBERAR O FECHAMENTO DE PORTAS CORTA FOGO | D45: =VLOOKUP($C45,#REF!,2,0) -> #REF! | E45: =SUMIF(#REF!,'CURVA ABC SERVIÇOS'!C44,#REF!) -> #REF! | F45: =VLOOKUP($C45,#REF!,4,0) -> #REF! | G45: =F45*E45 -> #REF!
B46: 42 | C46: MÓDULO DE BASE ISOLADOR: ALIMENTAÇÃO: VIA REDE DE COMUNICAÇÃO 12 A 24 VDC - ISOLAÇÃO DE REDE EM MENOS DE 50 MS. INSTALAÇÃO JUNTO A BASE DO DETECTOR. | D46: =VLOOKUP($C46,#REF!,2,0) -> #REF! | E46: =SUMIF(#REF!,'CURVA ABC SERVIÇOS'!C45,#REF!) -> #REF! | F46: =VLOOKUP($C46,#REF!,4,0) -> #REF! | G46: =F46*E46 -> #REF!
B47: 43 | C47: DETECTOR TERMOVELOCIMÉTRICO ENDEREÇÁVEL COM BASE ENDEREÇÁVEL | D47: =VLOOKUP($C47,#REF!,2,0) -> #REF! | E47: =SUMIF(#REF!,'CURVA ABC SERVIÇOS'!C46,#REF!) -> #REF! | F47: =VLOOKUP($C47,#REF!,4,0) -> #REF! | G47: =F47*E47 -> #REF!
B48: 44 | C48: CAMINHÃO BASCULANTE 6 M3, PESO BRUTO TOTAL 16.000 KG, CARGA ÚTIL MÁXIMA 13.071 KG, DISTÂNCIA ENTRE EIXOS 4,80 M, POTÊNCIA 230 CV INCLUSIVE CAÇAMBA METÁLICA - CHP DIURNO. AF_06/2014 | D48: =VLOOKUP($C48,#REF!,2,0) -> #REF! | E48: =SUMIF(#REF!,'CURVA ABC SERVIÇOS'!C47,#REF!) -> #REF! | F48: =VLOOKUP($C48,#REF!,4,0) -> #REF! | G48: =F48*E48 -> #REF!
B49: 45 | C49: TÊ, EM AÇO, CONEXÃO SOLDADA, DN 65 (2 1/2"), INSTALADO EM REDE DE ALIMENTAÇÃO PARA HIDRANTE - FORNECIMENTO E INSTALAÇÃO. AF_12/2015 | D49: =VLOOKUP($C49,#REF!,2,0) -> #REF! | E49: =SUMIF(#REF!,'CURVA ABC SERVIÇOS'!C48,#REF!) -> #REF! | F49: =VLOOKUP($C49,#REF!,4,0) -> #REF! | G49: =F49*E49 -> #REF!
B50: 46 | C50: FORMA EM MADEIRA COMUM PARA FUNDAÇÃO | D50: =VLOOKUP($C50,#REF!,2,0) -> #REF! | E50: =SUMIF(#REF!,'CURVA ABC SERVIÇOS'!C49,#REF!) -> #REF! | F50: =VLOOKUP($C50,#REF!,4,0) -> #REF! | G50: =F50*E50 -> #REF!
B51: 47 | C51: LOCAÇÃO DE CONTAINER TIPO DEPÓSITO - ÁREA MÍNIMA DE 13,80 M² | D51: =VLOOKUP($C51,#REF!,2,0) -> #REF! | E51: =SUMIF(#REF!,'CURVA ABC SERVIÇOS'!C50,#REF!) -> #REF! | F51: =VLOOKUP($C51,#REF!,4,0) -> #REF! | G51: =F51*E51 -> #REF!
...

Sheet MEMÓRIAS DE CÁLCULO
B1: MEMÓRIAS DE CÁLCULO | K1: =O3-#REF! -> #REF! | L1: CÓD. | M1: QNTD | N1: R$ UNIT. | O1: R$ TOTAL
B2: =OBJETO -> #REF!
O3: =SUM(O4:O576) -> #REF!
B5: DEMOLIÇÕES E REMOÇÕES
B7: SERVIÇOS | C7: UND | D7: QNTD
B8: REMOÇÃO DE DIVISÓRIA NAVAL | C8: M² | D8: =SUM(D21:D25) -> 12.46 | L8: DEM0001 | M8: =D8 -> 12.46 | N8: =VLOOKUP(L8,#REF!,7,0) -> #REF! | O8: =N8*M8 -> #REF!
B9: REMOÇÃO DE FORRO EM FIBRA MINERAL | C9: M² | D9: =596*0.3*5 -> 894 | L9: DEM0002 | M9: =D9 -> 894 | N9: =VLOOKUP(L9,#REF!,7,0) -> #REF! | O9: =N9*M9 -> #REF!
B10: REMOÇÃO DE PISO DE BORRACHA | C10: M² | D10: 5.76 | L10: DEM0003 | M10: =D10 -> 5.76 | N10: =VLOOKUP(L10,#REF!,7,0) -> #REF! | O10: =N10*M10 -> #REF!
B11: DEMOLIÇÃO DE MURO EM ALVENARIA | C11: M³ | D11: =2*2.95*0.2 -> 1.18 | L11: DEM0004 | M11: =D11 -> 1.18 | N11: =VLOOKUP(L11,#REF!,7,0) -> #REF! | O11: =N11*M11 -> #REF!
B12: RETIRADA DE PORTAS | C12: UN | D12: 5 | L12: DEM0005 | M12: =D12 -> 5 | N12: =VLOOKUP(L12,#REF!,7,0) -> #REF! | O12: =N12*M12 -> #REF!
B13: RETIRADA DE ÁRVORES | C13: UN | D13: 3 | L13: DEM0006 | M13: =D13 -> 3 | N13: =VLOOKUP(L13,#REF!,7,0) -> #REF! | O13: =N13*M13 -> #REF!
B14: REMOÇÃO DE DUTOS DE AR CONDICIONADO | C14: M | D14: 72 | L14: DEM0007 | M14: =D14 -> 72 | N14: =VLOOKUP(L14,#REF!,7,0) -> #REF! | O14: =N14*M14 -> #REF!
B15: REMOÇÃO DE TUBULAÇÃO DE INCÊNDIO | C15: M | D15: 25.6 | L15: DEM0008 | M15: =D15 -> 25.6 | N15: =VLOOKUP(L15,#REF!,7,0) -> #REF! | O15: =N15*M15 -> #REF!
B16: REMOÇÃO DE HIDRANTES | C16: UN | D16: 1 | L16: DEM0009 | M16: =D16 -> 1 | N16: =VLOOKUP(L16,#REF!,7,0) -> #REF! | O16: =N16*M16 -> #REF!
B18: DIVISÓRIAS
B20: SERVIÇOS | C20: UND | D20: QNTD | E20: TER | F20: 1º PAV | G20: 2º PAV | H20: 3º PAV | I20: 4º PAV | J20: 5º PAV | K20: COB
B21: DIVISÓRIA CEGA TIPO NAVAL COM MIOLO MINERAL, ACABAMENTO EM LAMINADO MELAMÍNICO, COM ESPESSURA DE 3,5 CM | C21: M² | D21: =SUM(E21:K21) -> 0.08 | J21: 0.08 | L21: DIV0001 | M21: =D21 -> 0.08 | N21: =VLOOKUP(L21,#REF!,7,0) -> #REF! | O21: =N21*M21 -> #REF!
B22: DIVISÓRIA ACÚSTICA REVESTIDA CEGA | C22: M² | D22: =SUM(E22:K22) -> 3.67 | J22: 3.67 | L22: DIV0002 | M22: =D22 -> 3.67 | N22: =VLOOKUP(L22,#REF!,7,0) -> #REF! | O22: =N22*M22 -> #REF!
B23: DIVISÓRIA ACÚSTICA REVESTIDA MEIO CEGA MEIO VIDRO | C23: M² | D23: =SUM(E23:K23) -> 4.12 | J23: 4.12 | L23: DIV0003 | M23: =D23 -> 4.12 | N23: =VLOOKUP(L23,#REF!,7,0) -> #REF! | O23: =N23*M23 -> #REF!
B24: DIVISÓRIA TIPO PISO/TETO EM VIDRO TEMPERADO SIMPLES, COM COLUNA ESTRUTURAL EM ALUMÍNIO EXTRUDADO | C24: M² | D24: =SUM(E24:K24) -> 0.82 | H24: 0.82 | L24: DIV0004 | M24: =D24 -> 0.82 | N24: =VLOOKUP(L24,#REF!,7,0) -> #REF! | O24: =N24*M24 -> #REF!
B25: DIVISÓRIA EM PLACAS DUPLAS DE GESSO ACARTONADO, RESISTÊNCIA AO FOGO 60 MINUTOS, ESPESSURA 120/70MM - 2ST / 2ST LM | C25: M² | D25: =SUM(E25:K25) -> 3.77 | F25: 1.87 | K25: 1.9 | L25: DIV0005 | M25: =D25 -> 3.77 | N25: =VLOOKUP(L25,#REF!,7,0) -> #REF! | O25: =N25*M25 -> #REF!
B27: PISOS
B29: SERVIÇOS | C29: UND | D29: QNTD | E29: TER | F29: 1º PAV | G29: 2º PAV | H29: 3º PAV | I29: 4º PAV | J29: 5º PAV | K29: COB
B30: PISO DE BORRACHA PASTILHADO, ESPESSURA 7MM, FIXADO COM COLA | C30: M² | D30: =SUM(E30:K30) -> 5.76 | F30: 5.76 | L30: PIS0001 | M30: =D30 -> 5.76 | N30: =VLOOKUP(L30,#REF!,7,0) -> #REF! | O30: =N30*M30 -> #REF!
B32: FORROS
B34: SERVIÇOS | C34: UND | D34: QNTD | E34: TER | F34: 1º PAV | G34: 2º PAV | H34: 3º PAV | I34: 4º PAV | J34: 5º PAV | K34: COB
B35: FORRO EM FIBRA MINERAL COM PLACAS ACÚSTICAS REMOVÍVEIS DE 625MM X 625MM | C35: M² | D35: 894 | L35: FOR0001 | M35: =D35 -> 894 | N35: =VLOOKUP(L35,#REF!,7,0) -> #REF! | O35: =N35*M35 -> #REF!
B37: PORTAS
B39: SERVIÇOS | C39: UND | D39: QNTD | E39: TER | F39: 1º PAV | G39: 2º PAV | H39: 3º PAV | I39: 4º PAV | J39: 5º PAV | K39: COB
B40: PORTA CORTA-FOGO CLASSE P.90, COM BARRA ANTIPÂNICO NUMA FACE E MAÇANETA NA OUTRA, COMPLETA | C40: M² | D40: =SUM(E40:K40) -> 6 | F40: 1 | G40: 1 | H40: 1 | I40: 1 | J40: 1 | K40: 1 | L40: POR0001 | M40: =D40 -> 6 | N40: =VLOOKUP(L40,#REF!,7,0) -> #REF! | O40: =N40*M40 -> #REF!
B41: PORTA CORTA-FOGO P90 (DUAS FOLHAS) | C41: UN | D41: =SUM(E41:K41) -> 1 | E41: 1 | L41: POR0002 | M41: =D41 -> 1 | N41: =VLOOKUP(L41,#REF!,7,0) -> #REF! | O41: =N41*M41 -> #REF!
B42: ALÇAPÃO/TAMPA EM CHAPA DE FERRO COM PORTA CADEADO | C42: M² | D42: =SUM(E42:K42) -> 1 | K42: 1 | L42: POR0003 | M42: =D42 -> 1 | N42: =VLOOKUP(L42,#REF!,7,0) -> #REF! | O42: =N42*M42 -> #REF!
B43: PORTA DIVISÓRIA ACÚSTICA | C43: UN | D43: =SUM(E43:K43) -> 1 | J43: 1 | L43: POR0004 | M43: =D43 -> 1 | N43: =VLOOKUP(L43,#REF!,7,0) -> #REF! | O43: =N43*M43 -> #REF!
B44: PORTA DIVISÓRIA ACÚSTICA REVESTIDA | C44: UN | D44: =SUM(E44:K44) -> 10 | J44: 10 | L44: POR0005 | M44: =D44 -> 10 | N44: =VLOOKUP(L44,#REF!,7,0) -> #REF! | O44: =N44*M44 -> #REF!
B45: PORTA DE VIDRO TEMPERADO, 0,9X2,10M, ESPESSURA 10MM, INCLUSIVE ACESSORIOS | C45: UN | D45: =SUM(E45:K45) -> 2 | H45: 2 | L45: POR0006 | M45: =D45 -> 2 | N45: =VLOOKUP(L45,#REF!,7,0) -> #REF! | O45: =N45*M45 -> #REF!
B47: SISTEMA DE DETECÇÃO E ALARME DE INCÊNDIO
B49: INFRAESTRUTURA
B50: SERVIÇOS | C50: UND | D50: QNTD | E50: TER | F50: 1º PAV | G50: 2º PAV | H50: 3º PAV | I50: 4º PAV | J50: 5º PAV | K50: COB
B51: CAIXA DE FERRO ESTAMPADA 4´ X 4´ | C51: UN | D51: 11 | L51: SDAI0001 | M51: =D51 -> 11 | N51: =VLOOKUP(L51,#REF!,7,0) -> #REF! | O51: =N51*M51 -> #REF!
B52: CAIXA DE FERRO ESTAMPADA OCTOGONAL DE 3´ X 3´ | C52: UN | D52: 42 | L52: SDAI0002 | M52: =D52 -> 42 | N52: =VLOOKUP(L52,#REF!,7,0) -> #REF! | O52: =N52*M52 -> #REF!
...

Sheet CRONOGRAMA
B1: CRONOGRAMA FÍSICO
B2: =OBJETO -> #REF! | D2: NOV | E2: DEZ | F2: JAN | G2: FEV | H2: MAR | I2: ABR | J2: MAI | K2: JUN | L2: JUL | M2: AGO | N2: SET | O2: OUT
B4: ITEM | C4: DESCRIÇÃO | D4: MÊS 1 | E4: MÊS 2 | F4: MÊS 3 | G4: MÊS 4 | H4: MÊS 5 | I4: MÊS 6 | J4: MÊS 7 | K4: MÊS 8 | L4: MÊS 9 | M4: MÊS 10 | N4: MÊS 11 | O4: MÊS 12 | P4: TOTAL
B5: 1.0 | C5: =VLOOKUP(B5,#REF!,6,0) -> #REF! | D5: =SUM(D6:D22)/SUM($D$6:$O$22) -> 0.011764706 | E5: =SUM(E6:E22)/SUM($D$6:$O$22) -> 0.12978711 | F5: =SUM(F6:F22)/SUM($D$6:$O$22) -> 0.18982073 | G5: =SUM(G6:G22)/SUM($D$6:$O$22) -> 0.081232493 | H5: =SUM(H6:H22)/SUM($D$6:$O$22) -> 0.091036415 | I5: =SUM(I6:I22)/SUM($D$6:$O$22) -> 0.043417367 | J5: =SUM(J6:J22)/SUM($D$6:$O$22) -> 0.056582633 | K5: =SUM(K6:K22)/SUM($D$6:$O$22) -> 0.049579832 | ... O5: =SUM(O6:O22)/SUM($D$6:$O$22) -> 0.060504202 | P5: =SUM(D5:O5) -> 1
B6: 1.1 | C6: =VLOOKUP(B6,#REF!,6,0) -> #REF! | D6: =1/5 -> 0.2 | E6: =1/5 -> 0.2 | F6: =1/5 -> 0.2 | G6: =1/5 -> 0.2 | H6: =1/5 -> 0.2 | P6: =SUM(D6:O6) -> 1
B7: 1.2 | C7: =VLOOKUP(B7,#REF!,6,0) -> #REF! | E7: 0.0051666667 | F7: 0.1615 | G7: 0.16666667 | H7: 0.16666667 | J7: 0.083333333 | K7: 0.083333333 | L7: 0.16666667 | M7: 0.083333333 | N7: 0.083333333 | P7: =SUM(D7:O7) -> 1
B8: 1.3 | C8: =VLOOKUP(B8,#REF!,6,0) -> #REF! | E8: 0.0051666667 | F8: 0.1615 | G8: 0.16666667 | H8: 0.16666667 | J8: 0.083333333 | K8: 0.083333333 | L8: 0.16666667 | M8: 0.083333333 | N8: 0.083333333 | P8: =SUM(D8:O8) -> 1
B9: 1.4 | C9: =VLOOKUP(B9,#REF!,6,0) -> #REF! | E9: 0.0051666667 | F9: 0.1615 | G9: 0.16666667 | H9: 0.16666667 | J9: 0.083333333 | K9: 0.083333333 | L9: 0.16666667 | M9: 0.083333333 | N9: 0.083333333 | P9: =SUM(D9:O9) -> 1
B10: 1.5 | C10: =VLOOKUP(B10,#REF!,6,0) -> #REF! | E10: 0.0051666667 | F10: 0.1615 | G10: 0.16666667 | H10: 0.16666667 | J10: 0.083333333 | K10: 0.083333333 | L10: 0.16666667 | M10: 0.083333333 | N10: 0.083333333 | P10: =SUM(D10:O10) -> 1
B11: 1.6 | C11: =VLOOKUP(B11,#REF!,6,0) -> #REF! | F11: 0.16666667 | H11: 0.16666667 | I11: 0.16666667 | K11: 0.16666667 | M11: 0.16666667 | N11: 0.16666667 | P11: =SUM(D11:O11) -> 1
B12: 1.7 | C12: =VLOOKUP(B12,#REF!,6,0) -> #REF! | E12: =(1/7)*0.6 -> 0.085714286 | F12: =((1/7)*0.4)+((1/7)*0.6) -> 0.14285714 | G12: =((1/7)*0.4) -> 0.057142857 | H12: =1/7 -> 0.14285714 | I12: =(1/7)*0.6 -> 0.085714286 | J12: =((1/7)*0.4) -> 0.057142857 | K12: =(1/7)*0.6 -> 0.085714286 | L12: =((1/7)*0.4) -> 0.057142857 | M12: =1/7 -> 0.14285714 | N12: =1/7 -> 0.14285714 | P12: =SUM(D12:O12) -> 1
B13: 1.8 | C13: =VLOOKUP(B13,#REF!,6,0) -> #REF! | E13: =((1/7)*0.4) -> 0.057142857 | F13: =((1/7)*0.6)+((1/7)*0.2) -> 0.11428571 | G13: =((1/7)*0.8) -> 0.11428571 | H13: =((1/7)*0.4) -> 0.057142857 | I13: =(1/7)*0.6 -> 0.085714286 | J13: =1/7 -> 0.14285714 | K13: =((1/7)*0.2) -> 0.028571429 | L13: =((1/7)*0.8) -> 0.11428571 | M13: =((1/7)*0.4) -> 0.057142857 | N13: =((1/7)*0.6)+((1/7)*0.2) -> 0.11428571 | O13: =((1/7)*0.8) -> 0.11428571 | P13: =SUM(D13:O13) -> 1
B14: 1.9 | C14: =VLOOKUP(B14,#REF!,6,0) -> #REF! | E14: =((1/7)*0.4) -> 0.057142857 | F14: =((1/7)*0.6)+((1/7)*0.2) -> 0.11428571 | G14: =((1/7)*0.8) -> 0.11428571 | H14: =((1/7)*0.4) -> 0.057142857 | I14: =(1/7)*0.6 -> 0.085714286 | J14: =1/7 -> 0.14285714 | K14: =((1/7)*0.2) -> 0.028571429 | L14: =((1/7)*0.8) -> 0.11428571 | M14: =((1/7)*0.4) -> 0.057142857 | N14: =((1/7)*0.6)+((1/7)*0.2) -> 0.11428571 | O14: =((1/7)*0.8) -> 0.11428571 | P14: =SUM(D14:O14) -> 1
B15: 1.10 | C15: =VLOOKUP(B15,#REF!,6,0) -> #REF! | F15: 1 | P15: =SUM(D15:O15) -> 1
B16: 1.11 | C16: =VLOOKUP(B16,#REF!,6,0) -> #REF! | E16: =((1/7)*0.4) -> 0.057142857 | F16: =((1/7)*0.6)+((1/7)*0.2) -> 0.11428571 | G16: =((1/7)*0.8) -> 0.11428571 | H16: =((1/7)*0.4) -> 0.057142857 | I16: =(1/7)*0.6 -> 0.085714286 | J16: =1/7 -> 0.14285714 | K16: =((1/7)*0.2) -> 0.028571429 | L16: =((1/7)*0.8) -> 0.11428571 | M16: =((1/7)*0.4) -> 0.057142857 | N16: =((1/7)*0.6)+((1/7)*0.2) -> 0.11428571 | O16: =((1/7)*0.8) -> 0.11428571 | P16: =SUM(D16:O16) -> 1
B17: 1.12 | C17: =VLOOKUP(B17,#REF!,6,0) -> #REF! | N17: 1 | P17: =SUM(D17:O17) -> 1
B18: 1.13 | C18: =VLOOKUP(B18,#REF!,6,0) -> #REF! | E18: 1 | P18: =SUM(D18:O18) -> 1
B19: 1.14 | C19: =VLOOKUP(B19,#REF!,6,0) -> #REF! | E19: =((1/7)*0.4) -> 0.057142857 | F19: =((1/7)*0.6)+((1/7)*0.2) -> 0.11428571 | G19: =((1/7)*0.8) -> 0.11428571 | H19: =((1/7)*0.4) -> 0.057142857 | I19: =(1/7)*0.6 -> 0.085714286 | J19: =1/7 -> 0.14285714 | K19: =((1/7)*0.2) -> 0.028571429 | L19: =((1/7)*0.8) -> 0.11428571 | M19: =((1/7)*0.4) -> 0.057142857 | N19: =((1/7)*0.6)+((1/7)*0.2) -> 0.11428571 | O19: =((1/7)*0.8) -> 0.11428571 | P19: =SUM(D19:O19) -> 1
B20: 1.15 | C20: =VLOOKUP(B20,#REF!,6,0) -> #REF! | E20: =((1/7)*0.5) -> 0.071428571 | F20: =((1/7)*0.5)+(1/7) -> 0.21428571 | H20: =1/7 -> 0.14285714 | I20: =1/7 -> 0.14285714 | K20: =1/7 -> 0.14285714 | M20: =1/7 -> 0.14285714 | N20: =((1/7)*0.5) -> 0.071428571 | O20: =((1/7)*0.5) -> 0.071428571 | P20: =SUM(D20:O20) -> 1
B21: 1.16 | C21: =VLOOKUP(B21,#REF!,6,0) -> #REF! | E21: 0.6 | F21: 0.4 | P21: =SUM(D21:O21) -> 1
B22: 1.17 | C22: =VLOOKUP(B22,#REF!,6,0) -> #REF! | N22: 0.5 | O22: 0.5 | P22: =SUM(D22:O22) -> 1
B23: 2.0 | C23: =VLOOKUP(B23,#REF!,6,0) -> #REF! | D23: =SUM(D24:D40)/SUM($D$6:$O$22) -> 0.083333333 | E23: =SUM(E24:E40)/SUM($D$6:$O$22) -> 0.024509804 | F23: =SUM(F24:F40)/SUM($D$6:$O$22) -> 0.024509804 | G23: =SUM(G24:G40)/SUM($D$6:$O$22) -> 0.024509804 | H23: =SUM(H24:H40)/SUM($D$6:$O$22) -> 0.024509804 | I23: =SUM(I24:I40)/SUM($D$6:$O$22) -> 0.024509804 | J23: =SUM(J24:J40)/SUM($D$6:$O$22) -> 0.024509804 | K23: =SUM(K24:K40)/SUM($D$6:$O$22) -> 0.024509804 | ... O23: =SUM(O24:O40)/SUM($D$6:$O$22) -> 0.024509804 | P23: =SUM(D23:O23) -> 0.35294118
B24: 2.1 | C24: =VLOOKUP(B24,#REF!,6,0) -> #REF! | D24: 1 | P24: =SUM(D24:O24) -> 1
B25: 2.2 | C25: =VLOOKUP(B25,#REF!,6,0) -> #REF! | D25: =1/12 -> 0.083333333 | E25: =1/12 -> 0.083333333 | F25: =1/12 -> 0.083333333 | G25: =1/12 -> 0.083333333 | H25: =1/12 -> 0.083333333 | I25: =1/12 -> 0.083333333 | J25: =1/12 -> 0.083333333 | K25: =1/12 -> 0.083333333 | ... O25: =1/12 -> 0.083333333 | P25: =SUM(D25:O25) -> 1
B26: 2.3 | C26: =VLOOKUP(B26,#REF!,6,0) -> #REF! | D26: =1/12 -> 0.083333333 | E26: =1/12 -> 0.083333333 | F26: =1/12 -> 0.083333333 | G26: =1/12 -> 0.083333333 | H26: =1/12 -> 0.083333333 | I26: =1/12 -> 0.083333333 | J26: =1/12 -> 0.083333333 | K26: =1/12 -> 0.083333333 | ... O26: =1/12 -> 0.083333333 | P26: =SUM(D26:O26) -> 1
B27: 2.4 | C27: =VLOOKUP(B27,#REF!,6,0) -> #REF! | D27: =1/12 -> 0.083333333 | E27: =1/12 -> 0.083333333 | F27: =1/12 -> 0.083333333 | G27: =1/12 -> 0.083333333 | H27: =1/12 -> 0.083333333 | I27: =1/12 -> 0.083333333 | J27: =1/12 -> 0.083333333 | K27: =1/12 -> 0.083333333 | ... O27: =1/12 -> 0.083333333 | P27: =SUM(D27:O27) -> 1
B28: 2.5 | C28: =VLOOKUP(B28,#REF!,6,0) -> #REF! | D28: =1/12 -> 0.083333333 | E28: =1/12 -> 0.083333333 | F28: =1/12 -> 0.083333333 | G28: =1/12 -> 0.083333333 | H28: =1/12 -> 0.083333333 | I28: =1/12 -> 0.083333333 | J28: =1/12 -> 0.083333333 | K28: =1/12 -> 0.083333333 | ... O28: =1/12 -> 0.083333333 | P28: =SUM(D28:O28) -> 1
B29: 2.6 | C29: =VLOOKUP(B29,#REF!,6,0) -> #REF! | D29: =1/12 -> 0.083333333 | E29: =1/12 -> 0.083333333 | F29: =1/12 -> 0.083333333 | G29: =1/12 -> 0.083333333 | H29: =1/12 -> 0.083333333 | I29: =1/12 -> 0.083333333 | J29: =1/12 -> 0.083333333 | K29: =1/12 -> 0.083333333 | ... O29: =1/12 -> 0.083333333 | P29: =SUM(D29:O29) -> 1

Sheet CRONOGRAMA FF
B1: CRONOGRAMA FÍSICO FINANCEIRO
B2: =OBJETO -> #REF!
B4: ITEM | C4: DESCRIÇÃO | D4: R$ TOTAL | E4: MÊS 1 | F4: MÊS 2 | G4: MÊS 3 | H4: MÊS 4 | I4: MÊS 5 | J4: MÊS 6 | K4: MÊS 7 | L4: MÊS 8 | M4: MÊS 9 | N4: MÊS 10 | O4: MÊS 11 | P4: MÊS 12
B5: 1.0 | C5: =VLOOKUP(B5,#REF!,6,0) -> #REF! | D5: =SUM(D6:D22) -> #REF! | E5: =SUM(E6:E22) -> #REF! | F5: =SUM(F6:F22) -> #REF! | G5: =SUM(G6:G22) -> #REF! | H5: =SUM(H6:H22) -> #REF! | I5: =SUM(I6:I22) -> #REF! | J5: =SUM(J6:J22) -> #REF! | K5: =SUM(K6:K22) -> #REF! | ... P5: =SUM(P6:P22) -> #REF! | Q5: =SUM(E5:P5)-D5 -> #REF!
B6: 1.1 | C6: =VLOOKUP(B6,#REF!,6,0) -> #REF! | D6: =VLOOKUP(B6,#REF!,10,0) -> #REF! | E6: =$D6*CRONOGRAMA!D6 -> #REF! | F6: =$D6*CRONOGRAMA!E6 -> #REF! | G6: =$D6*CRONOGRAMA!F6 -> #REF! | H6: =$D6*CRONOGRAMA!G6 -> #REF! | I6: =$D6*CRONOGRAMA!H6 -> #REF! | J6: =$D6*CRONOGRAMA!I6 -> #REF! | K6: =$D6*CRONOGRAMA!J6 -> #REF! | L6: =$D6*CRONOGRAMA!K6 -> #REF! | ... P6: =$D6*CRONOGRAMA!O6 -> #REF! | Q6: =SUM(E6:P6)=D6 -> #REF!
B7: 1.2 | C7: =VLOOKUP(B7,#REF!,6,0) -> #REF! | D7: =VLOOKUP(B7,#REF!,10,0) -> #REF! | E7: =$D7*CRONOGRAMA!D7 -> #REF! | F7: =$D7*CRONOGRAMA!E7 -> #REF! | G7: =$D7*CRONOGRAMA!F7 -> #REF! | H7: =$D7*CRONOGRAMA!G7 -> #REF! | I7: =$D7*CRONOGRAMA!H7 -> #REF! | J7: =$D7*CRONOGRAMA!I7 -> #REF! | K7: =$D7*CRONOGRAMA!J7 -> #REF! | L7: =$D7*CRONOGRAMA!K7 -> #REF! | ... P7: =$D7*CRONOGRAMA!O7 -> #REF! | Q7: =SUM(E7:P7)=D7 -> #REF!
B8: 1.3 | C8: =VLOOKUP(B8,#REF!,6,0) -> #REF! | D8: =VLOOKUP(B8,#REF!,10,0) -> #REF! | E8: =$D8*CRONOGRAMA!D8 -> #REF! | F8: =$D8*CRONOGRAMA!E8 -> #REF! | G8: =$D8*CRONOGRAMA!F8 -> #REF! | H8: =$D8*CRONOGRAMA!G8 -> #REF! | I8: =$D8*CRONOGRAMA!H8 -> #REF! | J8: =$D8*CRONOGRAMA!I8 -> #REF! | K8: =$D8*CRONOGRAMA!J8 -> #REF! | L8: =$D8*CRONOGRAMA!K8 -> #REF! | ... P8: =$D8*CRONOGRAMA!O8 -> #REF! | Q8: =SUM(E8:P8)=D8 -> #REF!
B9: 1.4 | C9: =VLOOKUP(B9,#REF!,6,0) -> #REF! | D9: =VLOOKUP(B9,#REF!,10,0) -> #REF! | E9: =$D9*CRONOGRAMA!D9 -> #REF! | F9: =$D9*CRONOGRAMA!E9 -> #REF! | G9: =$D9*CRONOGRAMA!F9 -> #REF! | H9: =$D9*CRONOGRAMA!G9 -> #REF! | I9: =$D9*CRONOGRAMA!H9 -> #REF! | J9: =$D9*CRONOGRAMA!I9 -> #REF! | K9: =$D9*CRONOGRAMA!J9 -> #REF! | L9: =$D9*CRONOGRAMA!K9 -> #REF! | ... P9: =$D9*CRONOGRAMA!O9 -> #REF! | Q9: =SUM(E9:P9)=D9 -> #REF!
B10: 1.5 | C10: =VLOOKUP(B10,#REF!,6,0) -> #REF! | D10: =VLOOKUP(B10,#REF!,10,0) -> #REF! | E10: =$D10*CRONOGRAMA!D10 -> #REF! | F10: =$D10*CRONOGRAMA!E10 -> #REF! | G10: =$D10*CRONOGRAMA!F10 -> #REF! | H10: =$D10*CRONOGRAMA!G10 -> #REF! | I10: =$D10*CRONOGRAMA!H10 -> #REF! | J10: =$D10*CRONOGRAMA!I10 -> #REF! | K10: =$D10*CRONOGRAMA!J10 -> #REF! | L10: =$D10*CRONOGRAMA!K10 -> #REF! | ... P10: =$D10*CRONOGRAMA!O10 -> #REF! | Q10: =SUM(E10:P10)=D10 -> #REF!
B11: 1.6 | C11: =VLOOKUP(B11,#REF!,6,0) -> #REF! | D11: =VLOOKUP(B11,#REF!,10,0) -> #REF! | E11: =$D11*CRONOGRAMA!D11 -> #REF! | F11: =$D11*CRONOGRAMA!E11 -> #REF! | G11: =$D11*CRONOGRAMA!F11 -> #REF! | H11: =$D11*CRONOGRAMA!G11 -> #REF! | I11: =$D11*CRONOGRAMA!H11 -> #REF! | J11: =$D11*CRONOGRAMA!I11 -> #REF! | K11: =$D11*CRONOGRAMA!J11 -> #REF! | L11: =$D11*CRONOGRAMA!K11 -> #REF! | ... P11: =$D11*CRONOGRAMA!O11 -> #REF! | Q11: =SUM(E11:P11)=D11 -> #REF!
B12: 1.7 | C12: =VLOOKUP(B12,#REF!,6,0) -> #REF! | D12: =VLOOKUP(B12,#REF!,10,0) -> #REF! | E12: =$D12*CRONOGRAMA!D12 -> #REF! | F12: =$D12*CRONOGRAMA!E12 -> #REF! | G12: =$D12*CRONOGRAMA!F12 -> #REF! | H12: =$D12*CRONOGRAMA!G12 -> #REF! | I12: =$D12*CRONOGRAMA!H12 -> #REF! | J12: =$D12*CRONOGRAMA!I12 -> #REF! | K12: =$D12*CRONOGRAMA!J12 -> #REF! | L12: =$D12*CRONOGRAMA!K12 -> #REF! | ... P12: =$D12*CRONOGRAMA!O12 -> #REF! | Q12: =SUM(E12:P12)=D12 -> #REF!
B13: 1.8 | C13: =VLOOKUP(B13,#REF!,6,0) -> #REF! | D13: =VLOOKUP(B13,#REF!,10,0) -> #REF! | E13: =$D13*CRONOGRAMA!D13 -> #REF! | F13: =$D13*CRONOGRAMA!E13 -> #REF! | G13: =$D13*CRONOGRAMA!F13 -> #REF! | H13: =$D13*CRONOGRAMA!G13 -> #REF! | I13: =$D13*CRONOGRAMA!H13 -> #REF! | J13: =$D13*CRONOGRAMA!I13 -> #REF! | K13: =$D13*CRONOGRAMA!J13 -> #REF! | L13: =$D13*CRONOGRAMA!K13 -> #REF! | ... P13: =$D13*CRONOGRAMA!O13 -> #REF! | Q13: =SUM(E13:P13)=D13 -> #REF!
B14: 1.9 | C14: =VLOOKUP(B14,#REF!,6,0) -> #REF! | D14: =VLOOKUP(B14,#REF!,10,0) -> #REF! | E14: =$D14*CRONOGRAMA!D14 -> #REF! | F14: =$D14*CRONOGRAMA!E14 -> #REF! | G14: =$D14*CRONOGRAMA!F14 -> #REF! | H14: =$D14*CRONOGRAMA!G14 -> #REF! | I14: =$D14*CRONOGRAMA!H14 -> #REF! | J14: =$D14*CRONOGRAMA!I14 -> #REF! | K14: =$D14*CRONOGRAMA!J14 -> #REF! | L14: =$D14*CRONOGRAMA!K14 -> #REF! | ... P14: =$D14*CRONOGRAMA!O14 -> #REF! | Q14: =SUM(E14:P14)=D14 -> #REF!
